{"text_format":"1","workbook":"xlsx","n_sheets":25,"sheets":["小１男子形","小２男子形","小３男子形","小４男子形","小５男子形 ","小６男子形","小１女子形","小２女子形","小３女子形","小４女子形","小５女子形","小６女子形","小１男子組手","小２男子組手","小３男子組手","小４男子組手","小５男子組手","小６男子組手","小１女子組手","小２女子組手","小３女子組手","小４女子組手","小５女子組手","小６女子組手","Sheet2"],"not_rendered":{"charts":0,"images":0,"macros":1,"external_links":1,"defined_names":1,"comments":0,"pivot_tables":0},"unopened":[],"bounds":{"document_bytes":16777216,"sheet_cells":100000,"rows_first":2000,"rows_last":500,"rows_between":2000,"halvings":0,"cell_chars":16384,"cell_head_chars":4096},"cells_cut":0,"cells_raw":0,"read":"whole","date_system":"1900"}

{"sheet":"小１男子形","index":0,"n_rows":73,"n_cols":12,"rows_kept":73,"cut":false,"hidden":false,"merged":[[3,6,3,11],[52,2,53,2],[52,3,53,3],[52,5,53,5],[54,2,55,2],[54,3,55,3],[54,5,55,5],[48,2,49,2],[48,3,49,3],[48,5,49,5],[50,2,51,2],[50,3,51,3],[50,5,51,5],[44,2,45,2],[44,3,45,3],[44,5,45,5],[46,2,47,2],[46,3,47,3],[46,5,47,5],[40,2,41,2],[40,3,41,3],[40,5,41,5],[42,2,43,2],[42,3,43,3],[42,5,43,5],[36,2,37,2],[36,3,37,3],[36,5,37,5],[38,2,39,2],[38,3,39,3],[38,5,39,5],[32,2,33,2],[32,3,33,3],[32,5,33,5],[34,2,35,2],[34,3,35,3],[34,5,35,5],[28,2,29,2],[28,3,29,3],[28,5,29,5],[30,2,31,2],[30,3,31,3],[30,5,31,5],[24,2,25,2],[24,3,25,3],[24,5,25,5],[26,2,27,2],[26,3,27,3],[26,5,27,5],[20,2,21,2],[20,3,21,3],[20,5,21,5],[22,2,23,2],[22,3,23,3],[22,5,23,5],[16,2,17,2],[16,3,17,3],[16,5,17,5],[18,2,19,2],[18,3,19,3],[18,5,19,5],[12,2,13,2],[12,3,13,3],[12,5,13,5],[14,2,15,2],[14,3,15,3],[14,5,15,5],[8,2,9,2],[8,3,9,3],[8,5,9,5],[10,2,11,2],[10,3,11,3],[10,5,11,5],[4,2,5,2],[4,3,5,3],[4,5,5,5],[6,2,7,2],[6,3,7,3],[6,5,7,5]]}
[null,null,null,null,null,null,null,null,null,null,null,"　　"]
[null,null,null,null,null,null,null,null,null,null,null,"　　"]
[null,null,null,null,null,"県",null,null,null,null,null,"　　"]
[null,null,null,"小学１年男子形",null,"沖　縄","県を選択すると県名が黄色になります。"]
[null,null,null,1,{"$f":"IF(E6=\"\",\"\",VLOOKUP(E6,Sheet2!$C$3:$D$645,2,FALSE))","v":"ひらい　あつと"},"大　分"]
[null,null,null,null,"平井　 敦人",null,null,"2-1"]
[null,null,null,2,{"$f":"IF(E8=\"\",\"\",VLOOKUP(E8,Sheet2!$C$3:$D$645,2,FALSE))","v":"こやなぎ　こうせい"},"佐　賀"]
[null,null,null,null,"小栁　光生",null,"1-1"]
[null,null,null,3,{"$f":"IF(E10=\"\",\"\",VLOOKUP(E10,Sheet2!$C$3:$D$645,2,FALSE))","v":"おくだ　こうたろう"},"宮　崎"]
[null,null,null,null,"奥田　光太郎",null,null,null,"3-1"]
[null,null,null,4,{"$f":"IF(E12=\"\",\"\",VLOOKUP(E12,Sheet2!$C$3:$D$645,2,FALSE))","v":"やひろ　たいせい"},"福　岡"]
[null,null,null,null,"八尋　大晴",null,"1-2"]
[null,null,null,5,{"$f":"IF(E14=\"\",\"\",VLOOKUP(E14,Sheet2!$C$3:$D$645,2,FALSE))","v":"なりあい　みなと"},"宮　崎"]
[null,null,null,null,"成合　優斗",null,null,"2-2"]
[null,null,null,6,{"$f":"IF(E16=\"\",\"\",VLOOKUP(E16,Sheet2!$C$3:$D$645,2,FALSE))","v":"いまいずみ　けい"},"沖　縄"]
[null,null,null,null,"今泉　慧",null,"1-3"]
[null,null,null,7,{"$f":"IF(E18=\"\",\"\",VLOOKUP(E18,Sheet2!$C$3:$D$645,2,FALSE))","v":"はしもと れんと"},"熊　本",null,null,null,"4-1"]
[null,null,null,null,"橋本 蓮人"]
[null,null,null,8,{"$f":"IF(E20=\"\",\"\",VLOOKUP(E20,Sheet2!$C$3:$D$645,2,FALSE))","v":"ととりべ　もりふみ"},"宮　崎"]
[null,null,null,null,"鳥取部　守史",null,null,"2-3"]
[null,null,null,9,{"$f":"IF(E22=\"\",\"\",VLOOKUP(E22,Sheet2!$C$3:$D$645,2,FALSE))","v":"つるみず　かんた"},"鹿児島"]
[null,null,null,null,"鶴水　寛大",null,"1-4"]
[null,null,null,10,{"$f":"IF(E24=\"\",\"\",VLOOKUP(E24,Sheet2!$C$3:$D$645,2,FALSE))","v":"かんたけ　えいと"},"福　岡"]
[null,null,null,null,"寒竹　瑛隼",null,null,null,"3-2"]
[null,null,null,11,{"$f":"IF(E26=\"\",\"\",VLOOKUP(E26,Sheet2!$C$3:$D$645,2,FALSE))","v":"ひらた　かずま"},"沖　縄"]
[null,null,null,null,"平田　和真",null,"1-5"]
[null,null,null,12,{"$f":"IF(E28=\"\",\"\",VLOOKUP(E28,Sheet2!$C$3:$D$645,2,FALSE))","v":"いとう　としまさ"},"佐　賀"]
[null,null,null,null,"伊藤　利誠",null,null,"2-4"]
[null,null,null,13,{"$f":"IF(E30=\"\",\"\",VLOOKUP(E30,Sheet2!$C$3:$D$645,2,FALSE))","v":"くまべ　けい"},"熊　本"]
[null,null,null,null,"隈部　慶",null,null,null,null,null,"5-1"]
[null,null,null,14,{"$f":"IF(E32=\"\",\"\",VLOOKUP(E32,Sheet2!$C$3:$D$645,2,FALSE))","v":"あべ　りょうた"},"鹿児島"]
[null,null,null,null,"阿部　亮汰",null,null,"2-5"]
[null,null,null,15,{"$f":"IF(E34=\"\",\"\",VLOOKUP(E34,Sheet2!$C$3:$D$645,2,FALSE))","v":"いけだ　ゆうり"},"宮　崎"]
[null,null,null,null,"池田　結琉",null,"1-6"]
[null,null,null,16,{"$f":"IF(E36=\"\",\"\",VLOOKUP(E36,Sheet2!$C$3:$D$645,2,FALSE))","v":"さとう　もとひさ"},"大　分"]
[null,null,null,null,"佐藤　朔悠",null,null,null,"3-3"]
[null,null,null,17,{"$f":"IF(E38=\"\",\"\",VLOOKUP(E38,Sheet2!$C$3:$D$645,2,FALSE))","v":"ふくだ　ゆうしん"},"熊　本"]
[null,null,null,null,"福田悠人",null,"1-7"]
[null,null,null,18,{"$f":"IF(E40=\"\",\"\",VLOOKUP(E40,Sheet2!$C$3:$D$645,2,FALSE))","v":"せい　はくと"},"沖　縄"]
[null,null,null,null,"清　珀翔",null,null,"2-6"]
[null,null,null,19,{"$f":"IF(E42=\"\",\"\",VLOOKUP(E42,Sheet2!$C$3:$D$645,2,FALSE))","v":"とうじょう　たいすけ"},"福　岡"]
[null,null,null,null,"東條　泰介"]
[null,null,null,20,{"$f":"IF(E44=\"\",\"\",VLOOKUP(E44,Sheet2!$C$3:$D$645,2,FALSE))","v":"うちかわ　りゅうき"},"佐　賀",null,null,null,"4-2"]
[null,null,null,null,"内川　琉暉",null,"1-8"]
[null,null,null,21,{"$f":"IF(E46=\"\",\"\",VLOOKUP(E46,Sheet2!$C$3:$D$645,2,FALSE))","v":"たなか　あおい"},"福　岡"]
[null,null,null,null,"田中　碧",null,null,"2-7"]
[null,null,null,22,{"$f":"IF(E48=\"\",\"\",VLOOKUP(E48,Sheet2!$C$3:$D$645,2,FALSE))","v":"こんどう　おうり"},"宮　崎"]
[null,null,null,null,"近藤　凰琳",null,"1-9"]
[null,null,null,23,{"$f":"IF(E50=\"\",\"\",VLOOKUP(E50,Sheet2!$C$3:$D$645,2,FALSE))","v":"まつした こうき"},"熊　本"]
[null,null,null,null,"松下 倖喜",null,null,null,"3-4"]
[null,null,null,24,{"$f":"IF(E52=\"\",\"\",VLOOKUP(E52,Sheet2!$C$3:$D$645,2,FALSE))","v":"おおた　ゆうせい"},"大　分"]
[null,null,null,null,"大田　侑生",null,"1-10"]
[null,null,null,25,{"$f":"IF(E54=\"\",\"\",VLOOKUP(E54,Sheet2!$C$3:$D$645,2,FALSE))","v":"しろやま　けんしん"},"宮　崎"]
[null,null,null,null,"白山　剣紳",null,null,"2-8"]
[null,null,null,26,{"$f":"IF(E56=\"\",\"\",VLOOKUP(E56,Sheet2!$C$3:$D$645,2,FALSE))","v":"はてるま　たいせい"},"沖　縄"]
[null,null,null,null,"波照間　大晴"]
[null,null,null,null,{"$f":"IF(E58=\"\",\"\",VLOOKUP(E58,Sheet2!$C$3:$D$645,2,FALSE))","v":""}]
[]
[null,null,null,null,{"$f":"IF(E60=\"\",\"\",VLOOKUP(E60,Sheet2!$C$3:$D$645,2,FALSE))","v":""}]
[]
[null,null,null,null,{"$f":"IF(E62=\"\",\"\",VLOOKUP(E62,Sheet2!$C$3:$D$645,2,FALSE))","v":""}]
[]
[null,null,null,null,{"$f":"IF(E64=\"\",\"\",VLOOKUP(E64,Sheet2!$C$3:$D$645,2,FALSE))","v":""}]
[]
[null,null,null,null,{"$f":"IF(E66=\"\",\"\",VLOOKUP(E66,Sheet2!$C$3:$D$645,2,FALSE))","v":""}]
[]
[null,null,null,null,{"$f":"IF(E68=\"\",\"\",VLOOKUP(E68,Sheet2!$C$3:$D$645,2,FALSE))","v":""}]
[]
[null,null,null,null,{"$f":"IF(E70=\"\",\"\",VLOOKUP(E70,Sheet2!$C$3:$D$645,2,FALSE))","v":""}]
[]
[null,null,null,null,{"$f":"IF(E72=\"\",\"\",VLOOKUP(E72,Sheet2!$C$3:$D$645,2,FALSE))","v":""}]
[]
[null,null,null,null,{"$f":"IF(E74=\"\",\"\",VLOOKUP(E74,Sheet2!$C$3:$D$645,2,FALSE))","v":""}]

{"sheet":"小２男子形","index":1,"n_rows":73,"n_cols":12,"rows_kept":73,"cut":false,"hidden":false,"merged":[[3,6,3,11],[56,2,57,2],[56,3,57,3],[56,5,57,5],[58,2,59,2],[58,3,59,3],[58,5,59,5],[52,2,53,2],[52,3,53,3],[52,5,53,5],[54,2,55,2],[54,3,55,3],[54,5,55,5],[48,2,49,2],[48,3,49,3],[48,5,49,5],[50,2,51,2],[50,3,51,3],[50,5,51,5],[44,2,45,2],[44,3,45,3],[44,5,45,5],[46,2,47,2],[46,3,47,3],[46,5,47,5],[40,2,41,2],[40,3,41,3],[40,5,41,5],[42,2,43,2],[42,3,43,3],[42,5,43,5],[36,2,37,2],[36,3,37,3],[36,5,37,5],[38,2,39,2],[38,3,39,3],[38,5,39,5],[32,2,33,2],[32,3,33,3],[32,5,33,5],[34,2,35,2],[34,3,35,3],[34,5,35,5],[28,2,29,2],[28,3,29,3],[28,5,29,5],[30,2,31,2],[30,3,31,3],[30,5,31,5],[24,2,25,2],[24,3,25,3],[24,5,25,5],[26,2,27,2],[26,3,27,3],[26,5,27,5],[20,2,21,2],[20,3,21,3],[20,5,21,5],[22,2,23,2],[22,3,23,3],[22,5,23,5],[16,2,17,2],[16,3,17,3],[16,5,17,5],[18,2,19,2],[18,3,19,3],[18,5,19,5],[12,2,13,2],[12,3,13,3],[12,5,13,5],[14,2,15,2],[14,3,15,3],[14,5,15,5],[8,2,9,2],[8,3,9,3],[8,5,9,5],[10,2,11,2],[10,3,11,3],[10,5,11,5],[4,2,5,2],[4,3,5,3],[4,5,5,5],[6,2,7,2],[6,3,7,3],[6,5,7,5]]}
[null,null,null,null,null,null,null,null,null,null,null,"　　"]
[null,null,null,null,null,null,null,null,null,null,null,"　　"]
[null,null,null,null,null,"県",null,null,null,null,null,"　　"]
[null,null,null,"小学２年男子形",null,"沖　縄","県を選択すると県名が黄色になります。"]
[null,null,null,1,{"$f":"IF(E6=\"\",\"\",VLOOKUP(E6,Sheet2!$C$3:$D$645,2,FALSE))","v":"やびく　かずき"},"沖　縄"]
[null,null,null,null,"屋比久　和奇",null,null,"2-1"]
[null,null,null,2,{"$f":"IF(E8=\"\",\"\",VLOOKUP(E8,Sheet2!$C$3:$D$645,2,FALSE))","v":"しもむら　れんせい"},"佐　賀"]
[null,null,null,null,"下村　錬聖",null,"1-1"]
[null,null,null,3,{"$f":"IF(E10=\"\",\"\",VLOOKUP(E10,Sheet2!$C$3:$D$645,2,FALSE))","v":"うしじま　ゆいと"},"宮　崎"]
[null,null,null,null,"牛嶋　唯人",null,null,null,"3-1"]
[null,null,null,4,{"$f":"IF(E12=\"\",\"\",VLOOKUP(E12,Sheet2!$C$3:$D$645,2,FALSE))","v":"ほんだ　たいち"},"福　岡"]
[null,null,null,null,"本田　大智",null,"1-2"]
[null,null,null,5,{"$f":"IF(E14=\"\",\"\",VLOOKUP(E14,Sheet2!$C$3:$D$645,2,FALSE))","v":"すえよし　りおん"},"大　分"]
[null,null,null,null,"末吉　琉恩",null,null,"2-2"]
[null,null,null,6,{"$f":"IF(E16=\"\",\"\",VLOOKUP(E16,Sheet2!$C$3:$D$645,2,FALSE))","v":"みき　れいしん"},"熊　本"]
[null,null,null,null,"神酒　怜心",null,"1-3"]
[null,null,null,7,{"$f":"IF(E18=\"\",\"\",VLOOKUP(E18,Sheet2!$C$3:$D$645,2,FALSE))","v":"かわじ　こうわ"},"宮　崎"]
[null,null,null,null,"川路　幸和",null,null,null,null,"4-1"]
[null,null,null,8,{"$f":"IF(E20=\"\",\"\",VLOOKUP(E20,Sheet2!$C$3:$D$645,2,FALSE))","v":"よしとめ　さち"},"福　岡"]
[null,null,null,null,"吉留　幸",null,"1-4"]
[null,null,null,9,{"$f":"IF(E22=\"\",\"\",VLOOKUP(E22,Sheet2!$C$3:$D$645,2,FALSE))","v":"よねむら　わたる"},"佐　賀"]
[null,null,null,null,"米村　渉",null,null,"2-3"]
[null,null,null,10,{"$f":"IF(E24=\"\",\"\",VLOOKUP(E24,Sheet2!$C$3:$D$645,2,FALSE))","v":"きんじょう　はゆま"},"沖　縄"]
[null,null,null,null,"金城　波汐眞",null,"1-5"]
[null,null,null,11,{"$f":"IF(E26=\"\",\"\",VLOOKUP(E26,Sheet2!$C$3:$D$645,2,FALSE))","v":"さとう　つばさ"},"大　分"]
[null,null,null,null,"佐藤　翼",null,null,null,"3-2"]
[null,null,null,12,{"$f":"IF(E28=\"\",\"\",VLOOKUP(E28,Sheet2!$C$3:$D$645,2,FALSE))","v":"ほうやま　るいと"},"鹿児島"]
[null,null,null,null,"寶山　琉斗",null,"1-6"]
[null,null,null,13,{"$f":"IF(E30=\"\",\"\",VLOOKUP(E30,Sheet2!$C$3:$D$645,2,FALSE))","v":"やまがしら こうだい"},"熊　本"]
[null,null,null,null,"山頭 倖大",null,null,"2-4"]
[null,null,null,14,{"$f":"IF(E32=\"\",\"\",VLOOKUP(E32,Sheet2!$C$3:$D$645,2,FALSE))","v":"みずい　まさと"},"宮　崎"]
[null,null,null,null,"水井　雅人",null,null,null,null,null,"5-1"]
[null,null,null,15,{"$f":"IF(E34=\"\",\"\",VLOOKUP(E34,Sheet2!$C$3:$D$645,2,FALSE))","v":"しらさき　こうた"},"熊　本"]
[null,null,null,null,"白﨑　倖太",null,null,"2-5"]
[null,null,null,16,{"$f":"IF(E36=\"\",\"\",VLOOKUP(E36,Sheet2!$C$3:$D$645,2,FALSE))","v":"たかまつ　える"},"宮　崎"]
[null,null,null,null,"高松　英留",null,"1-7"]
[null,null,null,17,{"$f":"IF(E38=\"\",\"\",VLOOKUP(E38,Sheet2!$C$3:$D$645,2,FALSE))","v":"かよう　そうじ"},"沖　縄"]
[null,null,null,null,"嘉陽　奏人",null,null,null,"3-3"]
[null,null,null,18,{"$f":"IF(E40=\"\",\"\",VLOOKUP(E40,Sheet2!$C$3:$D$645,2,FALSE))","v":"うめはら　ゆうせい"},"福　岡"]
[null,null,null,null,"梅原　悠成",null,"1-8"]
[null,null,null,19,{"$f":"IF(E42=\"\",\"\",VLOOKUP(E42,Sheet2!$C$3:$D$645,2,FALSE))","v":"つるわ　かなと"},"宮　崎"]
[null,null,null,null,"鶴輪　奏人",null,null,"2-6"]
[null,null,null,20,{"$f":"IF(E44=\"\",\"\",VLOOKUP(E44,Sheet2!$C$3:$D$645,2,FALSE))","v":"さとう　こうた"},"大　分"]
[null,null,null,null,"佐藤　洸太",null,"1-9"]
[null,null,null,21,{"$f":"IF(E46=\"\",\"\",VLOOKUP(E46,Sheet2!$C$3:$D$645,2,FALSE))","v":"おの　しゅうま"},"佐　賀"]
[null,null,null,null,"小野　秀真",null,null,null,null,"4-2"]
[null,null,null,22,{"$f":"IF(E48=\"\",\"\",VLOOKUP(E48,Sheet2!$C$3:$D$645,2,FALSE))","v":"こかじ　けいた"},"大　分"]
[null,null,null,null,"古梶　景大",null,"1-10"]
[null,null,null,23,{"$f":"IF(E50=\"\",\"\",VLOOKUP(E50,Sheet2!$C$3:$D$645,2,FALSE))","v":"こがねまる　こうた"},"福　岡"]
[null,null,null,null,"小金丸　幸太",null,null,"2-7"]
[null,null,null,24,{"$f":"IF(E52=\"\",\"\",VLOOKUP(E52,Sheet2!$C$3:$D$645,2,FALSE))","v":"ありま　らいき"},"宮　崎"]
[null,null,null,null,"有馬　来生",null,"1-11"]
[null,null,null,25,{"$f":"IF(E54=\"\",\"\",VLOOKUP(E54,Sheet2!$C$3:$D$645,2,FALSE))","v":"ますだ　りくと"},"沖　縄"]
[null,null,null,null,"増田　陸人",null,null,null,"3-4"]
[null,null,null,26,{"$f":"IF(E56=\"\",\"\",VLOOKUP(E56,Sheet2!$C$3:$D$645,2,FALSE))","v":"たずのき　まさひろ"},"佐　賀"]
[null,null,null,null,"尋木　雅弘",null,"1-12"]
[null,null,null,27,{"$f":"IF(E58=\"\",\"\",VLOOKUP(E58,Sheet2!$C$3:$D$645,2,FALSE))","v":"あなみ　ゆうせい"},"熊　本"]
[null,null,null,null,"穴見　優成",null,null,"2-8"]
[null,null,null,28,{"$f":"IF(E60=\"\",\"\",VLOOKUP(E60,Sheet2!$C$3:$D$645,2,FALSE))","v":"やの　ことら"},"鹿児島"]
[null,null,null,null,"矢野　琥斗良"]
[null,null,null,null,{"$f":"IF(E62=\"\",\"\",VLOOKUP(E62,Sheet2!$C$3:$D$645,2,FALSE))","v":""}]
[]
[null,null,null,null,{"$f":"IF(E64=\"\",\"\",VLOOKUP(E64,Sheet2!$C$3:$D$645,2,FALSE))","v":""}]
[]
[null,null,null,null,{"$f":"IF(E66=\"\",\"\",VLOOKUP(E66,Sheet2!$C$3:$D$645,2,FALSE))","v":""}]
[]
[null,null,null,null,{"$f":"IF(E68=\"\",\"\",VLOOKUP(E68,Sheet2!$C$3:$D$645,2,FALSE))","v":""}]
[]
[null,null,null,null,{"$f":"IF(E70=\"\",\"\",VLOOKUP(E70,Sheet2!$C$3:$D$645,2,FALSE))","v":""}]
[]
[null,null,null,null,{"$f":"IF(E72=\"\",\"\",VLOOKUP(E72,Sheet2!$C$3:$D$645,2,FALSE))","v":""}]
[]
[null,null,null,null,{"$f":"IF(E74=\"\",\"\",VLOOKUP(E74,Sheet2!$C$3:$D$645,2,FALSE))","v":""}]

{"sheet":"小３男子形","index":2,"n_rows":74,"n_cols":12,"rows_kept":74,"cut":false,"hidden":false,"merged":[[3,6,3,11],[64,2,65,2],[64,3,65,3],[64,5,65,5],[66,2,67,2],[66,3,67,3],[66,5,67,5],[72,2,73,2],[72,3,73,3],[72,5,73,5],[68,2,69,2],[68,3,69,3],[68,5,69,5],[70,2,71,2],[70,3,71,3],[70,5,71,5],[58,2,59,2],[58,3,59,3],[58,5,59,5],[60,2,61,2],[60,3,61,3],[60,5,61,5],[62,2,63,2],[62,3,63,3],[62,5,63,5],[52,2,53,2],[52,3,53,3],[52,5,53,5],[54,2,55,2],[54,3,55,3],[54,5,55,5],[56,2,57,2],[56,3,57,3],[56,5,57,5],[46,2,47,2],[46,3,47,3],[46,5,47,5],[48,2,49,2],[48,3,49,3],[48,5,49,5],[50,2,51,2],[50,3,51,3],[50,5,51,5],[40,2,41,2],[40,3,41,3],[40,5,41,5],[42,2,43,2],[42,3,43,3],[42,5,43,5],[44,2,45,2],[44,3,45,3],[44,5,45,5],[34,2,35,2],[34,3,35,3],[34,5,35,5],[36,2,37,2],[36,3,37,3],[36,5,37,5],[38,2,39,2],[38,3,39,3],[38,5,39,5],[28,2,29,2],[28,3,29,3],[28,5,29,5],[30,2,31,2],[30,3,31,3],[30,5,31,5],[32,2,33,2],[32,3,33,3],[32,5,33,5],[22,2,23,2],[22,3,23,3],[22,5,23,5],[24,2,25,2],[24,3,25,3],[24,5,25,5],[26,2,27,2],[26,3,27,3],[26,5,27,5],[16,2,17,2],[16,3,17,3],[16,5,17,5],[18,2,19,2],[18,3,19,3],[18,5,19,5],[20,2,21,2],[20,3,21,3],[20,5,21,5],[10,2,11,2],[10,3,11,3],[10,5,11,5],[12,2,13,2],[12,3,13,3],[12,5,13,5],[14,2,15,2],[14,3,15,3],[14,5,15,5],[4,2,5,2],[4,3,5,3],[4,5,5,5],[6,2,7,2],[6,3,7,3],[6,5,7,5],[8,2,9,2],[8,3,9,3],[8,5,9,5]]}
[null,null,null,null,null,null,null,null,null,null,null,"　　"]
[null,null,null,null,null,null,null,null,null,null,null,"　　"]
[null,null,null,null,null,"県",null,null,null,null,null,"　　"]
[null,null,null,"小学3年男子形",null,"沖　縄","県を選択すると県名が黄色になります。"]
[null,null,null,1,{"$f":"IF(E6=\"\",\"\",VLOOKUP(E6,Sheet2!$C$3:$D$645,2,FALSE))","v":"やまね　おうき"},"福　岡"]
[null,null,null,null,"山根　王輝",null,null,"2-1"]
[null,null,null,2,{"$f":"IF(E8=\"\",\"\",VLOOKUP(E8,Sheet2!$C$3:$D$645,2,FALSE))","v":"たなか　わひろ"},"佐　賀"]
[null,null,null,null,"田中　和寛",null,"1-1"]
[null,null,null,3,{"$f":"IF(E10=\"\",\"\",VLOOKUP(E10,Sheet2!$C$3:$D$645,2,FALSE))","v":"くろき　るい"},"宮　崎",null,null,"3-1"]
[null,null,null,null,"黒木　路五"]
[null,null,null,4,{"$f":"IF(E12=\"\",\"\",VLOOKUP(E12,Sheet2!$C$3:$D$645,2,FALSE))","v":"あびる　げんじ"},"長　崎"]
[null,null,null,null,"阿比留　弦獅",null,null,"2-2"]
[null,null,null,5,{"$f":"IF(E14=\"\",\"\",VLOOKUP(E14,Sheet2!$C$3:$D$645,2,FALSE))","v":"たなか　りゅうせい"},"熊　本",null,null,null,"4-1"]
[null,null,null,null,"田中　琉晴"]
[null,null,null,6,{"$f":"IF(E16=\"\",\"\",VLOOKUP(E16,Sheet2!$C$3:$D$645,2,FALSE))","v":"しんじょう　ゆうけん"},"沖　縄"]
[null,null,null,null,"新城　佑賢",null,null,"2-3"]
[null,null,null,7,{"$f":"IF(E18=\"\",\"\",VLOOKUP(E18,Sheet2!$C$3:$D$645,2,FALSE))","v":"めら　りく"},"鹿児島"]
[null,null,null,null,"米良　龍来",null,null,null,"3-2"]
[null,null,null,8,{"$f":"IF(E20=\"\",\"\",VLOOKUP(E20,Sheet2!$C$3:$D$645,2,FALSE))","v":"やまもと　そうしん"},"宮　崎"]
[null,null,null,null,"山本　想真",null,null,"2-4"]
[null,null,null,9,{"$f":"IF(E22=\"\",\"\",VLOOKUP(E22,Sheet2!$C$3:$D$645,2,FALSE))","v":"つつい　こだい"},"大　分",null,null,null,null,"5-1"]
[null,null,null,null,"筒井　琥大"]
[null,null,null,10,{"$f":"IF(E24=\"\",\"\",VLOOKUP(E24,Sheet2!$C$3:$D$645,2,FALSE))","v":"わだ　はると"},"宮　崎"]
[null,null,null,null,"和田　春人",null,null,"2-5"]
[null,null,null,11,{"$f":"IF(E26=\"\",\"\",VLOOKUP(E26,Sheet2!$C$3:$D$645,2,FALSE))","v":"いのうえ　はやて"},"佐　賀"]
[null,null,null,null,"井上　颯",null,null,null,"3-3"]
[null,null,null,12,{"$f":"IF(E28=\"\",\"\",VLOOKUP(E28,Sheet2!$C$3:$D$645,2,FALSE))","v":"ひらえ　あおい"},"沖　縄"]
[null,null,null,null,"平江　葵",null,null,"2-6"]
[null,null,null,13,{"$f":"IF(E30=\"\",\"\",VLOOKUP(E30,Sheet2!$C$3:$D$645,2,FALSE))","v":"なかはた　ともき"},"大　分"]
[null,null,null,null,"中畑 　友樹",null,null,null,null,"4-2"]
[null,null,null,14,{"$f":"IF(E32=\"\",\"\",VLOOKUP(E32,Sheet2!$C$3:$D$645,2,FALSE))","v":"しんぐう　こはく"},"福　岡"]
[null,null,null,null,"神宮　琥珀",null,null,"2-7"]
[null,null,null,15,{"$f":"IF(E34=\"\",\"\",VLOOKUP(E34,Sheet2!$C$3:$D$645,2,FALSE))","v":"すぎもと　たいち"},"長　崎"]
[null,null,null,null,"杉本　太地",null,null,null,"3-4"]
[null,null,null,16,{"$f":"IF(E36=\"\",\"\",VLOOKUP(E36,Sheet2!$C$3:$D$645,2,FALSE))","v":"くろいし　えいた"},"鹿児島"]
[null,null,null,null,"黒石　瑛汰",null,null,"2-8"]
[null,null,null,17,{"$f":"IF(E38=\"\",\"\",VLOOKUP(E38,Sheet2!$C$3:$D$645,2,FALSE))","v":"えがしら　かい"},"熊　本"]
[null,null,null,null,"江頭 禾惟",null,null,null,null,null,null,"6-1"]
[null,null,null,18,{"$f":"IF(E40=\"\",\"\",VLOOKUP(E40,Sheet2!$C$3:$D$645,2,FALSE))","v":"おおぐし　かいむさふぃり"},"鹿児島"]
[null,null,null,null,"大串　海ムサフィリ",null,null,"2-9"]
[null,null,null,19,{"$f":"IF(E42=\"\",\"\",VLOOKUP(E42,Sheet2!$C$3:$D$645,2,FALSE))","v":"くろき　こうき"},"宮　崎"]
[null,null,null,null,"黒木　康生",null,"1-2"]
[null,null,null,20,{"$f":"IF(E44=\"\",\"\",VLOOKUP(E44,Sheet2!$C$3:$D$645,2,FALSE))","v":"かまち　しょうま"},"福　岡",null,null,"3-5"]
[null,null,null,null,"蒲池　翔真"]
[null,null,null,21,{"$f":"IF(E46=\"\",\"\",VLOOKUP(E46,Sheet2!$C$3:$D$645,2,FALSE))","v":"きもと　せいな"},"大　分"]
[null,null,null,null,"木元　聖渚",null,null,"2-10"]
[null,null,null,22,{"$f":"IF(E48=\"\",\"\",VLOOKUP(E48,Sheet2!$C$3:$D$645,2,FALSE))","v":"うおみ　たつき"},"長　崎",null,null,null,"4-3"]
[null,null,null,null,"魚見　龍稀"]
[null,null,null,23,{"$f":"IF(E50=\"\",\"\",VLOOKUP(E50,Sheet2!$C$3:$D$645,2,FALSE))","v":"はしもと きしん"},"熊　本"]
[null,null,null,null,"橋本 喜心",null,null,"2-11"]
[null,null,null,24,{"$f":"IF(E52=\"\",\"\",VLOOKUP(E52,Sheet2!$C$3:$D$645,2,FALSE))","v":"おおはま　てる"},"沖　縄"]
[null,null,null,null,"大濵　顕",null,null,null,"3-6"]
[null,null,null,25,{"$f":"IF(E54=\"\",\"\",VLOOKUP(E54,Sheet2!$C$3:$D$645,2,FALSE))","v":"しまもと　りゅうあ"},"佐　賀"]
[null,null,null,null,"嶋本　琉歩",null,null,"2-12"]
[null,null,null,26,{"$f":"IF(E56=\"\",\"\",VLOOKUP(E56,Sheet2!$C$3:$D$645,2,FALSE))","v":"むらかみ　そうたろう"},"福　岡"]
[null,null,null,null,"村上　楓大朗",null,null,null,null,null,"5-2"]
[null,null,null,27,{"$f":"IF(E58=\"\",\"\",VLOOKUP(E58,Sheet2!$C$3:$D$645,2,FALSE))","v":"さかぐち　しゅんた"},"佐　賀"]
[null,null,null,null,"坂口　駿太",null,null,"2-13"]
[null,null,null,28,{"$f":"IF(E60=\"\",\"\",VLOOKUP(E60,Sheet2!$C$3:$D$645,2,FALSE))","v":"つざき　せいな"},"大　分"]
[null,null,null,null,"津崎　星七",null,null,null,"3-7"]
[null,null,null,29,{"$f":"IF(E62=\"\",\"\",VLOOKUP(E62,Sheet2!$C$3:$D$645,2,FALSE))","v":"こんどう　れおが"},"宮　崎"]
[null,null,null,null,"近藤　羚凰駕",null,null,"2-14"]
[null,null,null,30,{"$f":"IF(E64=\"\",\"\",VLOOKUP(E64,Sheet2!$C$3:$D$645,2,FALSE))","v":"しまぶくろ　あゆき"},"沖　縄"]
[null,null,null,null,"島袋　歩希"]
[null,null,null,31,{"$f":"IF(E66=\"\",\"\",VLOOKUP(E66,Sheet2!$C$3:$D$645,2,FALSE))","v":"おくだいら　ゆうた"},"福　岡",null,null,null,"4-4"]
[null,null,null,null,"奥平　結太",null,null,"2-15"]
[null,null,null,32,{"$f":"IF(E68=\"\",\"\",VLOOKUP(E68,Sheet2!$C$3:$D$645,2,FALSE))","v":"なか　ひゅうが"},"鹿児島"]
[null,null,null,null,"中　彪雅"]
[null,null,null,33,{"$f":"IF(E70=\"\",\"\",VLOOKUP(E70,Sheet2!$C$3:$D$645,2,FALSE))","v":"きのした　かいり"},"熊　本",null,null,"3-8"]
[null,null,null,null,"木下　海里",null,"1-3"]
[null,null,null,34,{"$f":"IF(E72=\"\",\"\",VLOOKUP(E72,Sheet2!$C$3:$D$645,2,FALSE))","v":"なかぞの　こうせい"},"宮　崎"]
[null,null,null,null,"中園　皇成",null,null,"2-16"]
[null,null,null,35,{"$f":"IF(E74=\"\",\"\",VLOOKUP(E74,Sheet2!$C$3:$D$645,2,FALSE))","v":"うおみ　たつみ"},"長　崎"]
[null,null,null,null,"魚見　龍臣"]

{"sheet":"小４男子形","index":3,"n_rows":73,"n_cols":12,"rows_kept":73,"cut":false,"hidden":false,"merged":[[3,6,3,11],[68,2,69,2],[68,3,69,3],[68,5,69,5],[64,2,65,2],[64,3,65,3],[64,5,65,5],[66,2,67,2],[66,3,67,3],[66,5,67,5],[60,2,61,2],[60,3,61,3],[60,5,61,5],[62,2,63,2],[62,3,63,3],[62,5,63,5],[56,2,57,2],[56,3,57,3],[56,5,57,5],[58,2,59,2],[58,3,59,3],[58,5,59,5],[52,2,53,2],[52,3,53,3],[52,5,53,5],[54,2,55,2],[54,3,55,3],[54,5,55,5],[48,2,49,2],[48,3,49,3],[48,5,49,5],[50,2,51,2],[50,3,51,3],[50,5,51,5],[44,2,45,2],[44,3,45,3],[44,5,45,5],[46,2,47,2],[46,3,47,3],[46,5,47,5],[40,2,41,2],[40,3,41,3],[40,5,41,5],[42,2,43,2],[42,3,43,3],[42,5,43,5],[36,2,37,2],[36,3,37,3],[36,5,37,5],[38,2,39,2],[38,3,39,3],[38,5,39,5],[32,2,33,2],[32,3,33,3],[32,5,33,5],[34,2,35,2],[34,3,35,3],[34,5,35,5],[28,2,29,2],[28,3,29,3],[28,5,29,5],[30,2,31,2],[30,3,31,3],[30,5,31,5],[24,2,25,2],[24,3,25,3],[24,5,25,5],[26,2,27,2],[26,3,27,3],[26,5,27,5],[20,2,21,2],[20,3,21,3],[20,5,21,5],[22,2,23,2],[22,3,23,3],[22,5,23,5],[16,2,17,2],[16,3,17,3],[16,5,17,5],[18,2,19,2],[18,3,19,3],[18,5,19,5],[12,2,13,2],[12,3,13,3],[12,5,13,5],[14,2,15,2],[14,3,15,3],[14,5,15,5],[8,2,9,2],[8,3,9,3],[8,5,9,5],[10,2,11,2],[10,3,11,3],[10,5,11,5],[4,2,5,2],[4,3,5,3],[4,5,5,5],[6,2,7,2],[6,3,7,3],[6,5,7,5]]}
[null,null,null,null,null,null,null,null,null,null,null,"　　"]
[null,null,null,null,null,null,null,null,null,null,null,"　　"]
[null,null,null,null,null,"県",null,null,null,null,null,"　　"]
[null,null,null,"小学4年男子形",null,"沖　縄","県を選択すると県名が黄色になります。"]
[null,null,null,1,{"$f":"IF(E6=\"\",\"\",VLOOKUP(E6,Sheet2!$C$3:$D$645,2,FALSE))","v":"さね　けいごう"},"鹿児島"]
[null,null,null,null,"實　啓豪",null,null,"2-1"]
[null,null,null,2,{"$f":"IF(E8=\"\",\"\",VLOOKUP(E8,Sheet2!$C$3:$D$645,2,FALSE))","v":"てらしま　きよまさ"},"佐　賀"]
[null,null,null,null,"寺島　聖真",null,"1-1"]
[null,null,null,3,{"$f":"IF(E10=\"\",\"\",VLOOKUP(E10,Sheet2!$C$3:$D$645,2,FALSE))","v":"ふくだ　こうだい"},"熊　本",null,null,"3-1"]
[null,null,null,null,"福田航大"]
[null,null,null,4,{"$f":"IF(E12=\"\",\"\",VLOOKUP(E12,Sheet2!$C$3:$D$645,2,FALSE))","v":"さかぐち　そうや"},"福　岡"]
[null,null,null,null,"坂口　創弥",null,null,"2-2"]
[null,null,null,5,{"$f":"IF(E14=\"\",\"\",VLOOKUP(E14,Sheet2!$C$3:$D$645,2,FALSE))","v":"かい　ゆうき"},"宮　崎",null,null,null,"4-1"]
[null,null,null,null,"甲斐　勇希"]
[null,null,null,6,{"$f":"IF(E16=\"\",\"\",VLOOKUP(E16,Sheet2!$C$3:$D$645,2,FALSE))","v":"ながやま　えいた"},"沖　縄"]
[null,null,null,null,"永山　瑛太",null,null,"2-3"]
[null,null,null,7,{"$f":"IF(E18=\"\",\"\",VLOOKUP(E18,Sheet2!$C$3:$D$645,2,FALSE))","v":"くわやま　いち"},"宮　崎"]
[null,null,null,null,"桑山　偉知",null,null,null,"3-2"]
[null,null,null,8,{"$f":"IF(E20=\"\",\"\",VLOOKUP(E20,Sheet2!$C$3:$D$645,2,FALSE))","v":"さかい　ゆうま"},"大　分"]
[null,null,null,null,"酒井　悠真",null,null,"2-4"]
[null,null,null,9,{"$f":"IF(E22=\"\",\"\",VLOOKUP(E22,Sheet2!$C$3:$D$645,2,FALSE))","v":"ゆあさ　りゅうすけ"},"長　崎",null,null,null,null,"5-1"]
[null,null,null,null,"湯浅　琉介"]
[null,null,null,10,{"$f":"IF(E24=\"\",\"\",VLOOKUP(E24,Sheet2!$C$3:$D$645,2,FALSE))","v":"やまぐち　よしひろ"},"佐　賀"]
[null,null,null,null,"山口　善大",null,null,"2-5"]
[null,null,null,11,{"$f":"IF(E26=\"\",\"\",VLOOKUP(E26,Sheet2!$C$3:$D$645,2,FALSE))","v":"ながやま　ひなた　"},"沖　縄"]
[null,null,null,null,"永山　陽向",null,null,null,"3-3"]
[null,null,null,12,{"$f":"IF(E28=\"\",\"\",VLOOKUP(E28,Sheet2!$C$3:$D$645,2,FALSE))","v":"うめもと　こうた"},"大　分"]
[null,null,null,null,"梅本　晃大",null,null,"2-6"]
[null,null,null,13,{"$f":"IF(E30=\"\",\"\",VLOOKUP(E30,Sheet2!$C$3:$D$645,2,FALSE))","v":"こじま　りんのすけ"},"長　崎"]
[null,null,null,null,"小島　凛之介",null,null,null,null,"4-2"]
[null,null,null,14,{"$f":"IF(E32=\"\",\"\",VLOOKUP(E32,Sheet2!$C$3:$D$645,2,FALSE))","v":"さかい　げんき"},"宮　崎"]
[null,null,null,null,"酒井　舷気",null,null,"2-7"]
[null,null,null,15,{"$f":"IF(E34=\"\",\"\",VLOOKUP(E34,Sheet2!$C$3:$D$645,2,FALSE))","v":"きたべっぷ　わかな"},"鹿児島"]
[null,null,null,null,"北別府　和奏",null,null,null,"3-4"]
[null,null,null,16,{"$f":"IF(E36=\"\",\"\",VLOOKUP(E36,Sheet2!$C$3:$D$645,2,FALSE))","v":"みすみ　きょうたろう"},"熊　本"]
[null,null,null,null,"三角　俠太郎",null,null,"2-8"]
[null,null,null,17,{"$f":"IF(E38=\"\",\"\",VLOOKUP(E38,Sheet2!$C$3:$D$645,2,FALSE))","v":"みやはら　しゅんすけ"},"福　岡",null,null,null,null,null,"6-1"]
[null,null,null,null,"宮原　俊丞"]
[null,null,null,18,{"$f":"IF(E40=\"\",\"\",VLOOKUP(E40,Sheet2!$C$3:$D$645,2,FALSE))","v":"とだか　おうしろう"},"宮　崎"]
[null,null,null,null,"戸髙　桜士朗",null,null,"2-9"]
[null,null,null,19,{"$f":"IF(E42=\"\",\"\",VLOOKUP(E42,Sheet2!$C$3:$D$645,2,FALSE))","v":"いまいずみ　ともひと"},"佐　賀"]
[null,null,null,null,"今泉　知仁",null,null,null,"3-5"]
[null,null,null,20,{"$f":"IF(E44=\"\",\"\",VLOOKUP(E44,Sheet2!$C$3:$D$645,2,FALSE))","v":"たぐち　ともき"},"福　岡"]
[null,null,null,null,"田口　智喜",null,null,"2-10"]
[null,null,null,21,{"$f":"IF(E46=\"\",\"\",VLOOKUP(E46,Sheet2!$C$3:$D$645,2,FALSE))","v":"ほしこ　ちひろ"},"熊　本"]
[null,null,null,null,"星子　知潤",null,null,null,null,"4-3"]
[null,null,null,22,{"$f":"IF(E48=\"\",\"\",VLOOKUP(E48,Sheet2!$C$3:$D$645,2,FALSE))","v":"ながの　せいりゅう"},"宮　崎"]
[null,null,null,null,"長野　聖龍",null,null,"2-11"]
[null,null,null,23,{"$f":"IF(E50=\"\",\"\",VLOOKUP(E50,Sheet2!$C$3:$D$645,2,FALSE))","v":"くぼ　けん"},"鹿児島"]
[null,null,null,null,"久保　拳",null,null,null,"3-6"]
[null,null,null,24,{"$f":"IF(E52=\"\",\"\",VLOOKUP(E52,Sheet2!$C$3:$D$645,2,FALSE))","v":"なかま　ゆうと"},"沖　縄"]
[null,null,null,null,"仲間　結虎",null,null,"2-12"]
[null,null,null,25,{"$f":"IF(E54=\"\",\"\",VLOOKUP(E54,Sheet2!$C$3:$D$645,2,FALSE))","v":"ひなご　とうや"},"大　分"]
[null,null,null,null,"日名子　柊也",null,null,null,null,null,"5-2"]
[null,null,null,26,{"$f":"IF(E56=\"\",\"\",VLOOKUP(E56,Sheet2!$C$3:$D$645,2,FALSE))","v":"ひが　りゅうのすけ"},"沖　縄"]
[null,null,null,null,"比嘉　琉之介",null,null,"2-13"]
[null,null,null,27,{"$f":"IF(E58=\"\",\"\",VLOOKUP(E58,Sheet2!$C$3:$D$645,2,FALSE))","v":"あまの　けいしょう"},"佐　賀"]
[null,null,null,null,"天野　圭翔",null,null,null,"3-7"]
[null,null,null,28,{"$f":"IF(E60=\"\",\"\",VLOOKUP(E60,Sheet2!$C$3:$D$645,2,FALSE))","v":"はじ　りゅうほ"},"大　分"]
[null,null,null,null,"土師　龍歩",null,null,"2-14"]
[null,null,null,29,{"$f":"IF(E62=\"\",\"\",VLOOKUP(E62,Sheet2!$C$3:$D$645,2,FALSE))","v":"えがわ　そうま"},"福　岡"]
[null,null,null,null,"江川　聡真",null,null,null,null,"4-4"]
[null,null,null,30,{"$f":"IF(E64=\"\",\"\",VLOOKUP(E64,Sheet2!$C$3:$D$645,2,FALSE))","v":"しんやま　はると"},"鹿児島"]
[null,null,null,null,"新山　陽斗",null,null,"2-15"]
[null,null,null,31,{"$f":"IF(E66=\"\",\"\",VLOOKUP(E66,Sheet2!$C$3:$D$645,2,FALSE))","v":"かんだ　こうのすけ"},"宮　崎"]
[null,null,null,null,"上田　航之介",null,null,null,"3-8"]
[null,null,null,32,{"$f":"IF(E68=\"\",\"\",VLOOKUP(E68,Sheet2!$C$3:$D$645,2,FALSE))","v":"もりた　ゆうすけ"},"長　崎"]
[null,null,null,null,"森田　佑亮",null,null,"2-16"]
[null,null,null,33,{"$f":"IF(E70=\"\",\"\",VLOOKUP(E70,Sheet2!$C$3:$D$645,2,FALSE))","v":"のぞえ　たいよう"},"熊　本"]
[null,null,null,null,"野添　太陽"]
[null,null,null,null,{"$f":"IF(E72=\"\",\"\",VLOOKUP(E72,Sheet2!$C$3:$D$645,2,FALSE))","v":""}]
[]
[null,null,null,null,{"$f":"IF(E74=\"\",\"\",VLOOKUP(E74,Sheet2!$C$3:$D$645,2,FALSE))","v":""}]

{"sheet":"小５男子形 ","index":4,"n_rows":73,"n_cols":12,"rows_kept":73,"cut":false,"hidden":false,"merged":[[4,2,5,2],[4,3,5,3],[4,5,5,5],[6,2,7,2],[6,3,7,3],[6,5,7,5],[12,2,13,2],[12,3,13,3],[12,5,13,5],[14,2,15,2],[14,3,15,3],[14,5,15,5],[8,2,9,2],[8,3,9,3],[8,5,9,5],[10,2,11,2],[10,3,11,3],[10,5,11,5],[20,2,21,2],[20,3,21,3],[20,5,21,5],[22,2,23,2],[22,3,23,3],[22,5,23,5],[16,2,17,2],[16,3,17,3],[16,5,17,5],[18,2,19,2],[18,3,19,3],[18,5,19,5],[28,2,29,2],[28,3,29,3],[28,5,29,5],[30,2,31,2],[30,3,31,3],[30,5,31,5],[24,2,25,2],[24,3,25,3],[24,5,25,5],[26,2,27,2],[26,3,27,3],[26,5,27,5],[36,2,37,2],[36,3,37,3],[36,5,37,5],[38,2,39,2],[38,3,39,3],[38,5,39,5],[32,2,33,2],[32,3,33,3],[32,5,33,5],[34,2,35,2],[34,3,35,3],[34,5,35,5],[44,2,45,2],[44,3,45,3],[44,5,45,5],[46,2,47,2],[46,3,47,3],[46,5,47,5],[40,2,41,2],[40,3,41,3],[40,5,41,5],[42,2,43,2],[42,3,43,3],[42,5,43,5],[58,5,59,5],[52,2,53,2],[52,3,53,3],[52,5,53,5],[54,2,55,2],[54,3,55,3],[54,5,55,5],[48,2,49,2],[48,3,49,3],[48,5,49,5],[50,2,51,2],[50,3,51,3],[50,5,51,5],[3,6,3,11],[68,2,69,2],[68,3,69,3],[68,5,69,5],[70,2,71,2],[70,3,71,3],[70,5,71,5],[64,2,65,2],[64,3,65,3],[64,5,65,5],[66,2,67,2],[66,3,67,3],[66,5,67,5],[60,2,61,2],[60,3,61,3],[60,5,61,5],[62,2,63,2],[62,3,63,3],[62,5,63,5],[56,2,57,2],[56,3,57,3],[56,5,57,5],[58,2,59,2],[58,3,59,3]]}
[null,null,null,null,null,null,null,null,null,null,null,"　　"]
[null,null,null,null,null,null,null,null,null,null,null,"　　"]
[null,null,null,null,null,"県",null,null,null,null,null,"　　"]
[null,null,null,"小学5年男子形",null,"沖　縄","県を選択すると県名が黄色になります。"]
[null,null,null,1,{"$f":"IF(E6=\"\",\"\",VLOOKUP(E6,Sheet2!$C$3:$D$645,2,FALSE))","v":"まえはら　こうや"},"沖　縄"]
[null,null,null,null,"前原　広弥",null,null,"2-1"]
[null,null,null,2,{"$f":"IF(E8=\"\",\"\",VLOOKUP(E8,Sheet2!$C$3:$D$645,2,FALSE))","v":"しみず　かいと"},"宮　崎"]
[null,null,null,null,"清水　海音",null,"1-1"]
[null,null,null,3,{"$f":"IF(E10=\"\",\"\",VLOOKUP(E10,Sheet2!$C$3:$D$645,2,FALSE))","v":"さかい　かなと"},"大　分",null,null,"3-1"]
[null,null,null,null,"酒井　湊斗"]
[null,null,null,4,{"$f":"IF(E12=\"\",\"\",VLOOKUP(E12,Sheet2!$C$3:$D$645,2,FALSE))","v":"なかざと　じゅんのすけ"},"長　崎"]
[null,null,null,null,"中里　淳之介",null,null,"2-2"]
[null,null,null,5,{"$f":"IF(E14=\"\",\"\",VLOOKUP(E14,Sheet2!$C$3:$D$645,2,FALSE))","v":"そうだ　かいと"},"福　岡",null,null,null,"4-1"]
[null,null,null,null,"早田　海音"]
[null,null,null,6,{"$f":"IF(E16=\"\",\"\",VLOOKUP(E16,Sheet2!$C$3:$D$645,2,FALSE))","v":"ばば　おうすけ"},"佐　賀"]
[null,null,null,null,"馬場　央維",null,null,"2-3"]
[null,null,null,7,{"$f":"IF(E18=\"\",\"\",VLOOKUP(E18,Sheet2!$C$3:$D$645,2,FALSE))","v":"てらお　つばさ"},"宮　崎"]
[null,null,null,null,"寺尾　翼",null,null,null,"3-2"]
[null,null,null,8,{"$f":"IF(E20=\"\",\"\",VLOOKUP(E20,Sheet2!$C$3:$D$645,2,FALSE))","v":"むらた　　しりゅう"},"熊　本"]
[null,null,null,null,"村田　嗣龍",null,null,"2-4"]
[null,null,null,9,{"$f":"IF(E22=\"\",\"\",VLOOKUP(E22,Sheet2!$C$3:$D$645,2,FALSE))","v":"いわいだ　ゆうき"},"鹿児島",null,null,null,null,"5-1"]
[null,null,null,null,"岩井田　佑輝"]
[null,null,null,10,{"$f":"IF(E24=\"\",\"\",VLOOKUP(E24,Sheet2!$C$3:$D$645,2,FALSE))","v":"ごとう　りくと"},"大　分"]
[null,null,null,null,"後藤　陸斗",null,null,"2-5"]
[null,null,null,11,{"$f":"IF(E26=\"\",\"\",VLOOKUP(E26,Sheet2!$C$3:$D$645,2,FALSE))","v":"しまぶくろ　りゅうしん"},"沖　縄"]
[null,null,null,null,"島袋　琉心",null,null,null,"3-3"]
[null,null,null,12,{"$f":"IF(E28=\"\",\"\",VLOOKUP(E28,Sheet2!$C$3:$D$645,2,FALSE))","v":"こまき　かなと"},"宮　崎"]
[null,null,null,null,"小牧　奏翔",null,null,"2-6"]
[null,null,null,13,{"$f":"IF(E30=\"\",\"\",VLOOKUP(E30,Sheet2!$C$3:$D$645,2,FALSE))","v":"ひぐち　しんご"},"福　岡"]
[null,null,null,null,"樋口　慎吾",null,null,null,null,"4-2"]
[null,null,null,14,{"$f":"IF(E32=\"\",\"\",VLOOKUP(E32,Sheet2!$C$3:$D$645,2,FALSE))","v":"しばた　えいこう"},"長　崎"]
[null,null,null,null,"柴田　瑛光",null,null,"2-7"]
[null,null,null,15,{"$f":"IF(E34=\"\",\"\",VLOOKUP(E34,Sheet2!$C$3:$D$645,2,FALSE))","v":"そのだ　せいき"},"鹿児島"]
[null,null,null,null,"園田　晟稀",null,null,null,"3-4"]
[null,null,null,16,{"$f":"IF(E36=\"\",\"\",VLOOKUP(E36,Sheet2!$C$3:$D$645,2,FALSE))","v":"はまさき　たける"},"熊　本"]
[null,null,null,null,"濱﨑　武",null,null,"2-8"]
[null,null,null,17,{"$f":"IF(E38=\"\",\"\",VLOOKUP(E38,Sheet2!$C$3:$D$645,2,FALSE))","v":"たなか　みちひさ"},"佐　賀"]
[null,null,null,null,"田中　道久",null,null,null,null,null,null,"6-1"]
[null,null,null,18,{"$f":"IF(E40=\"\",\"\",VLOOKUP(E40,Sheet2!$C$3:$D$645,2,FALSE))","v":"まえさか　わたる"},"熊　本"]
[null,null,null,null,"前坂　航",null,null,"2-9"]
[null,null,null,19,{"$f":"IF(E42=\"\",\"\",VLOOKUP(E42,Sheet2!$C$3:$D$645,2,FALSE))","v":"とみなが　ゆうと"},"福　岡"]
[null,null,null,null,"富永　悠大",null,null,null,"3-5"]
[null,null,null,20,{"$f":"IF(E44=\"\",\"\",VLOOKUP(E44,Sheet2!$C$3:$D$645,2,FALSE))","v":"えとう　ゆうせい"},"大　分"]
[null,null,null,null,"衛藤　悠聖",null,null,"2-10"]
[null,null,null,21,{"$f":"IF(E46=\"\",\"\",VLOOKUP(E46,Sheet2!$C$3:$D$645,2,FALSE))","v":"よしはま　かいせい"},"沖　縄"]
[null,null,null,null,"吉浜　海晴",null,null,null,null,"4-3"]
[null,null,null,22,{"$f":"IF(E48=\"\",\"\",VLOOKUP(E48,Sheet2!$C$3:$D$645,2,FALSE))","v":"うちかわ　れいき"},"佐　賀"]
[null,null,null,null,"内川　玲輝",null,null,"2-11"]
[null,null,null,23,{"$f":"IF(E50=\"\",\"\",VLOOKUP(E50,Sheet2!$C$3:$D$645,2,FALSE))","v":"いがわ　そうま"},"鹿児島"]
[null,null,null,null,"井川　蒼真",null,null,null,"3-6"]
[null,null,null,24,{"$f":"IF(E52=\"\",\"\",VLOOKUP(E52,Sheet2!$C$3:$D$645,2,FALSE))","v":"なかむら　はると"},"宮　崎"]
[null,null,null,null,"中村　陽斗",null,null,"2-12"]
[null,null,null,25,{"$f":"IF(E54=\"\",\"\",VLOOKUP(E54,Sheet2!$C$3:$D$645,2,FALSE))","v":"すぎもと　けいた"},"長　崎"]
[null,null,null,null,"杉本　慶太"]
[null,null,null,26,{"$f":"IF(E56=\"\",\"\",VLOOKUP(E56,Sheet2!$C$3:$D$645,2,FALSE))","v":"かわはら　かずま"},"福　岡",null,null,null,null,"5-2"]
[null,null,null,null,"川原　一真",null,null,"2-13"]
[null,null,null,27,{"$f":"IF(E58=\"\",\"\",VLOOKUP(E58,Sheet2!$C$3:$D$645,2,FALSE))","v":"うちだ　はるき"},"佐　賀"]
[null,null,null,null,"内田　晴貴",null,null,null,"3-7"]
[null,null,null,28,{"$f":"IF(E60=\"\",\"\",VLOOKUP(E60,Sheet2!$C$3:$D$645,2,FALSE))","v":"はやしだ　そうし"},"熊　本"]
[null,null,null,null,"林田　創志",null,null,"2-14"]
[null,null,null,29,{"$f":"IF(E62=\"\",\"\",VLOOKUP(E62,Sheet2!$C$3:$D$645,2,FALSE))","v":"いわた　たく"},"宮　崎"]
[null,null,null,null,"岩田　大空"]
[null,null,null,30,{"$f":"IF(E64=\"\",\"\",VLOOKUP(E64,Sheet2!$C$3:$D$645,2,FALSE))","v":"はじ　しょうま"},"大　分",null,null,null,"4-4"]
[null,null,null,null,"土師　彰真",null,null,"2-15"]
[null,null,null,31,{"$f":"IF(E66=\"\",\"\",VLOOKUP(E66,Sheet2!$C$3:$D$645,2,FALSE))","v":"うちだ　そうすけ"},"鹿児島"]
[null,null,null,null,"内田　想亮"]
[null,null,null,32,{"$f":"IF(E68=\"\",\"\",VLOOKUP(E68,Sheet2!$C$3:$D$645,2,FALSE))","v":"いのうえ　りんたろう"},"沖　縄",null,null,"3-8"]
[null,null,null,null,"井上　凛太郎",null,"1-2"]
[null,null,null,33,{"$f":"IF(E70=\"\",\"\",VLOOKUP(E70,Sheet2!$C$3:$D$645,2,FALSE))","v":"くろき　きょうほう"},"長　崎"]
[null,null,null,null,"黑木　俠宝",null,null,"2-16"]
[null,null,null,34,{"$f":"IF(E72=\"\",\"\",VLOOKUP(E72,Sheet2!$C$3:$D$645,2,FALSE))","v":"うしじま　りんたろう"},"宮　崎"]
[null,null,null,null,"牛島　凛大郎"]
[null,null,null,null,{"$f":"IF(E74=\"\",\"\",VLOOKUP(E74,Sheet2!$C$3:$D$645,2,FALSE))","v":""}]

{"sheet":"小６男子形","index":5,"n_rows":73,"n_cols":12,"rows_kept":73,"cut":false,"hidden":false,"merged":[[70,2,71,2],[70,3,71,3],[70,5,71,5],[3,6,3,11],[64,2,65,2],[64,3,65,3],[64,5,65,5],[66,2,67,2],[66,3,67,3],[66,5,67,5],[68,2,69,2],[68,3,69,3],[68,5,69,5],[58,2,59,2],[58,3,59,3],[58,5,59,5],[60,2,61,2],[60,3,61,3],[60,5,61,5],[62,2,63,2],[62,3,63,3],[62,5,63,5],[52,2,53,2],[52,3,53,3],[52,5,53,5],[54,2,55,2],[54,3,55,3],[54,5,55,5],[56,2,57,2],[56,3,57,3],[56,5,57,5],[46,2,47,2],[46,3,47,3],[46,5,47,5],[48,2,49,2],[48,3,49,3],[48,5,49,5],[50,2,51,2],[50,3,51,3],[50,5,51,5],[40,2,41,2],[40,3,41,3],[40,5,41,5],[42,2,43,2],[42,3,43,3],[42,5,43,5],[44,2,45,2],[44,3,45,3],[44,5,45,5],[34,2,35,2],[34,3,35,3],[34,5,35,5],[36,2,37,2],[36,3,37,3],[36,5,37,5],[38,2,39,2],[38,3,39,3],[38,5,39,5],[28,2,29,2],[28,3,29,3],[28,5,29,5],[30,2,31,2],[30,3,31,3],[30,5,31,5],[32,2,33,2],[32,3,33,3],[32,5,33,5],[22,2,23,2],[22,3,23,3],[22,5,23,5],[24,2,25,2],[24,3,25,3],[24,5,25,5],[26,2,27,2],[26,3,27,3],[26,5,27,5],[16,2,17,2],[16,3,17,3],[16,5,17,5],[18,2,19,2],[18,3,19,3],[18,5,19,5],[20,2,21,2],[20,3,21,3],[20,5,21,5],[10,2,11,2],[10,3,11,3],[10,5,11,5],[12,2,13,2],[12,3,13,3],[12,5,13,5],[14,2,15,2],[14,3,15,3],[14,5,15,5],[4,2,5,2],[4,3,5,3],[4,5,5,5],[6,2,7,2],[6,3,7,3],[6,5,7,5],[8,2,9,2],[8,3,9,3],[8,5,9,5]]}
[null,null,null,null,null,null,null,null,null,null,null,"　　"]
[null,null,null,null,null,null,null,null,null,null,null,"　　"]
[null,null,null,null,null,"県",null,null,null,null,null,"　　"]
[null,null,null,"小学6年男子形",null,"沖　縄","県を選択すると県名が黄色になります。"]
[null,null,null,1,{"$f":"IF(E6=\"\",\"\",VLOOKUP(E6,Sheet2!$C$3:$D$645,2,FALSE))","v":"おおつか　しおん"},"福　岡"]
[null,null,null,null,"大塚　史遠",null,null,"2-1"]
[null,null,null,2,{"$f":"IF(E8=\"\",\"\",VLOOKUP(E8,Sheet2!$C$3:$D$645,2,FALSE))","v":"やました　まお"},"熊　本"]
[null,null,null,null,"山下　真巨",null,"1-1"]
[null,null,null,3,{"$f":"IF(E10=\"\",\"\",VLOOKUP(E10,Sheet2!$C$3:$D$645,2,FALSE))","v":"いとかず　なる"},"沖　縄",null,null,"3-1"]
[null,null,null,null,"糸数　成琉"]
[null,null,null,4,{"$f":"IF(E12=\"\",\"\",VLOOKUP(E12,Sheet2!$C$3:$D$645,2,FALSE))","v":"まきの　れんた"},"大　分"]
[null,null,null,null,"牧野　廉大",null,null,"2-2"]
[null,null,null,5,{"$f":"IF(E14=\"\",\"\",VLOOKUP(E14,Sheet2!$C$3:$D$645,2,FALSE))","v":"はやし　たける"},"宮　崎",null,null,null,"4-1"]
[null,null,null,null,"林　武聖"]
[null,null,null,6,{"$f":"IF(E16=\"\",\"\",VLOOKUP(E16,Sheet2!$C$3:$D$645,2,FALSE))","v":"やの　こじろう"},"鹿児島"]
[null,null,null,null,"矢野　琥二郎",null,null,"2-3"]
[null,null,null,7,{"$f":"IF(E18=\"\",\"\",VLOOKUP(E18,Sheet2!$C$3:$D$645,2,FALSE))","v":"やまもと　せいしん"},"宮　崎"]
[null,null,null,null,"山本　誠真",null,null,null,"3-2"]
[null,null,null,8,{"$f":"IF(E20=\"\",\"\",VLOOKUP(E20,Sheet2!$C$3:$D$645,2,FALSE))","v":"おだ　ゆうと"},"長　崎"]
[null,null,null,null,"織田　優翔",null,null,"2-4"]
[null,null,null,9,{"$f":"IF(E22=\"\",\"\",VLOOKUP(E22,Sheet2!$C$3:$D$645,2,FALSE))","v":"いしだ　まさむね"},"佐　賀",null,null,null,null,"5-1"]
[null,null,null,null,"石田　雅宗"]
[null,null,null,10,{"$f":"IF(E24=\"\",\"\",VLOOKUP(E24,Sheet2!$C$3:$D$645,2,FALSE))","v":"たなか　がくと"},"長　崎"]
[null,null,null,null,"田中　俄人",null,null,"2-5"]
[null,null,null,11,{"$f":"IF(E26=\"\",\"\",VLOOKUP(E26,Sheet2!$C$3:$D$645,2,FALSE))","v":"すぎやま　たいしん"},"鹿児島"]
[null,null,null,null,"杉山　大芯",null,null,null,"3-3"]
[null,null,null,12,{"$f":"IF(E28=\"\",\"\",VLOOKUP(E28,Sheet2!$C$3:$D$645,2,FALSE))","v":"まるやま　はると"},"宮　崎"]
[null,null,null,null,"丸山　大翔",null,null,"2-6"]
[null,null,null,13,{"$f":"IF(E30=\"\",\"\",VLOOKUP(E30,Sheet2!$C$3:$D$645,2,FALSE))","v":"まつもと　りょうた"},"佐　賀"]
[null,null,null,null,"松本　涼太",null,null,null,null,"4-2"]
[null,null,null,14,{"$f":"IF(E32=\"\",\"\",VLOOKUP(E32,Sheet2!$C$3:$D$645,2,FALSE))","v":"かねこ　しん"},"福　岡"]
[null,null,null,null,"金子　新",null,null,"2-7"]
[null,null,null,15,{"$f":"IF(E34=\"\",\"\",VLOOKUP(E34,Sheet2!$C$3:$D$645,2,FALSE))","v":"おきた　ひびき"},"熊　本"]
[null,null,null,null,"沖田響",null,null,null,"3-4"]
[null,null,null,16,{"$f":"IF(E36=\"\",\"\",VLOOKUP(E36,Sheet2!$C$3:$D$645,2,FALSE))","v":"やの　そうた"},"大　分"]
[null,null,null,null,"矢野　颯汰",null,null,"2-8"]
[null,null,null,17,{"$f":"IF(E38=\"\",\"\",VLOOKUP(E38,Sheet2!$C$3:$D$645,2,FALSE))","v":"かみや　こうた"},"沖　縄"]
[null,null,null,null,"神谷　晃汰",null,null,null,null,null,null,"6-1"]
[null,null,null,18,{"$f":"IF(E40=\"\",\"\",VLOOKUP(E40,Sheet2!$C$3:$D$645,2,FALSE))","v":"かわの　かんた"},"大　分"]
[null,null,null,null,"川野　幹太",null,null,"2-9"]
[null,null,null,19,{"$f":"IF(E42=\"\",\"\",VLOOKUP(E42,Sheet2!$C$3:$D$645,2,FALSE))","v":"やまもと　ひょうま"},"熊　本"]
[null,null,null,null,"山本　彪真",null,null,null,"3-5"]
[null,null,null,20,{"$f":"IF(E44=\"\",\"\",VLOOKUP(E44,Sheet2!$C$3:$D$645,2,FALSE))","v":"えぐち　えいじ"},"長　崎"]
[null,null,null,null,"江口　詠時",null,null,"2-10"]
[null,null,null,21,{"$f":"IF(E46=\"\",\"\",VLOOKUP(E46,Sheet2!$C$3:$D$645,2,FALSE))","v":"こやしき　りひと"},"宮　崎"]
[null,null,null,null,"小屋敷　哩仁",null,null,null,null,"4-3"]
[null,null,null,22,{"$f":"IF(E48=\"\",\"\",VLOOKUP(E48,Sheet2!$C$3:$D$645,2,FALSE))","v":"よねだ　りく"},"鹿児島"]
[null,null,null,null,"米田　浬琥",null,null,"2-11"]
[null,null,null,23,{"$f":"IF(E50=\"\",\"\",VLOOKUP(E50,Sheet2!$C$3:$D$645,2,FALSE))","v":"おがた　たける"},"佐　賀"]
[null,null,null,null,"緒方　健成",null,null,null,"3-6"]
[null,null,null,24,{"$f":"IF(E52=\"\",\"\",VLOOKUP(E52,Sheet2!$C$3:$D$645,2,FALSE))","v":"おおしろ　まき"},"沖　縄"]
[null,null,null,null,"大城　将彰",null,null,"2-12"]
[null,null,null,25,{"$f":"IF(E54=\"\",\"\",VLOOKUP(E54,Sheet2!$C$3:$D$645,2,FALSE))","v":"しんかわ　しょうた"},"福　岡"]
[null,null,null,null,"新川　翔太"]
[null,null,null,26,{"$f":"IF(E56=\"\",\"\",VLOOKUP(E56,Sheet2!$C$3:$D$645,2,FALSE))","v":"みやさか ゆうき"},"熊　本",null,null,null,null,"5-2"]
[null,null,null,null,"宮坂 勇輝",null,null,"2-13"]
[null,null,null,27,{"$f":"IF(E58=\"\",\"\",VLOOKUP(E58,Sheet2!$C$3:$D$645,2,FALSE))","v":"むかえ　そうすけ"},"福　岡"]
[null,null,null,null,"迎　奏甫",null,null,null,"3-7"]
[null,null,null,28,{"$f":"IF(E60=\"\",\"\",VLOOKUP(E60,Sheet2!$C$3:$D$645,2,FALSE))","v":"ぎぼ　けんゆう"},"沖　縄"]
[null,null,null,null,"儀保　堅勇",null,null,"2-14"]
[null,null,null,29,{"$f":"IF(E62=\"\",\"\",VLOOKUP(E62,Sheet2!$C$3:$D$645,2,FALSE))","v":"かみのその　こうた"},"宮　崎"]
[null,null,null,null,"上ノ町　鴻太"]
[null,null,null,30,{"$f":"IF(E64=\"\",\"\",VLOOKUP(E64,Sheet2!$C$3:$D$645,2,FALSE))","v":"ふくしま　みちし"},"鹿児島",null,null,null,"4-4"]
[null,null,null,null,"福島　理志",null,null,"2-15"]
[null,null,null,31,{"$f":"IF(E66=\"\",\"\",VLOOKUP(E66,Sheet2!$C$3:$D$645,2,FALSE))","v":"ゆあさ　けいた"},"長　崎"]
[null,null,null,null,"湯浅　恵太"]
[null,null,null,32,{"$f":"IF(E68=\"\",\"\",VLOOKUP(E68,Sheet2!$C$3:$D$645,2,FALSE))","v":"さかい　かなた"},"佐　賀",null,null,"3-8"]
[null,null,null,null,"堺　奏太",null,"1-2"]
[null,null,null,33,{"$f":"IF(E70=\"\",\"\",VLOOKUP(E70,Sheet2!$C$3:$D$645,2,FALSE))","v":"かわはら　そうま"},"福　岡"]
[null,null,null,null,"川原　宗真",null,null,"2-16"]
[null,null,null,34,{"$f":"IF(E72=\"\",\"\",VLOOKUP(E72,Sheet2!$C$3:$D$645,2,FALSE))","v":"みやのはら　みと"},"宮　崎"]
[null,null,null,null,"宮野原　海人"]
[null,null,null,null,{"$f":"IF(E74=\"\",\"\",VLOOKUP(E74,Sheet2!$C$3:$D$645,2,FALSE))","v":""}]

{"sheet":"小１女子形","index":6,"n_rows":73,"n_cols":12,"rows_kept":73,"cut":false,"hidden":false,"merged":[[3,6,3,11],[48,2,49,2],[48,3,49,3],[48,5,49,5],[50,2,51,2],[50,3,51,3],[50,5,51,5],[44,2,45,2],[44,3,45,3],[44,5,45,5],[46,2,47,2],[46,3,47,3],[46,5,47,5],[40,2,41,2],[40,3,41,3],[40,5,41,5],[42,2,43,2],[42,3,43,3],[42,5,43,5],[36,2,37,2],[36,3,37,3],[36,5,37,5],[38,2,39,2],[38,3,39,3],[38,5,39,5],[32,2,33,2],[32,3,33,3],[32,5,33,5],[34,2,35,2],[34,3,35,3],[34,5,35,5],[28,2,29,2],[28,3,29,3],[28,5,29,5],[30,2,31,2],[30,3,31,3],[30,5,31,5],[24,2,25,2],[24,3,25,3],[24,5,25,5],[26,2,27,2],[26,3,27,3],[26,5,27,5],[20,2,21,2],[20,3,21,3],[20,5,21,5],[22,2,23,2],[22,3,23,3],[22,5,23,5],[16,2,17,2],[16,3,17,3],[16,5,17,5],[18,2,19,2],[18,3,19,3],[18,5,19,5],[12,2,13,2],[12,3,13,3],[12,5,13,5],[14,2,15,2],[14,3,15,3],[14,5,15,5],[8,2,9,2],[8,3,9,3],[8,5,9,5],[10,2,11,2],[10,3,11,3],[10,5,11,5],[4,2,5,2],[4,3,5,3],[4,5,5,5],[6,2,7,2],[6,3,7,3],[6,5,7,5]]}
[null,null,null,null,null,null,null,null,null,null,null,"　　"]
[null,null,null,null,null,null,null,null,null,null,null,"　　"]
[null,null,null,null,null,"県",null,null,null,null,null,"　　"]
[null,null,null,"小学１年女子形",null,"沖　縄","県を選択すると県名が黄色になります。"]
[null,null,null,1,{"$f":"IF(E6=\"\",\"\",VLOOKUP(E6,Sheet2!$C$3:$D$645,2,FALSE))","v":"さかい　ななせ"},"佐　賀"]
[null,null,null,null,"坂井　七彩",null,null,"2-1"]
[null,null,null,2,{"$f":"IF(E8=\"\",\"\",VLOOKUP(E8,Sheet2!$C$3:$D$645,2,FALSE))","v":"ごとう　さわ"},"熊　本"]
[null,null,null,null,"後藤　彩巴",null,"1-1"]
[null,null,null,3,{"$f":"IF(E10=\"\",\"\",VLOOKUP(E10,Sheet2!$C$3:$D$645,2,FALSE))","v":"ずけらん　こと"},"沖　縄"]
[null,null,null,null,"瑞慶覧　京叶",null,null,null,"3-1"]
[null,null,null,4,{"$f":"IF(E12=\"\",\"\",VLOOKUP(E12,Sheet2!$C$3:$D$645,2,FALSE))","v":"おおば　ここみ"},"福　岡"]
[null,null,null,null,"大場　心結",null,"1-2"]
[null,null,null,5,{"$f":"IF(E14=\"\",\"\",VLOOKUP(E14,Sheet2!$C$3:$D$645,2,FALSE))","v":"はしもと　あやか"},"大　分"]
[null,null,null,null,"橋本　彩加",null,null,"2-2"]
[null,null,null,6,{"$f":"IF(E16=\"\",\"\",VLOOKUP(E16,Sheet2!$C$3:$D$645,2,FALSE))","v":"いちき　ゆうら"},"宮　崎"]
[null,null,null,null,"市來　優楽",null,null,null,null,"4-1"]
[null,null,null,7,{"$f":"IF(E18=\"\",\"\",VLOOKUP(E18,Sheet2!$C$3:$D$645,2,FALSE))","v":"うらた　ゆりの"},"熊　本"]
[null,null,null,null,"浦田　ゆりの",null,null,"2-3"]
[null,null,null,8,{"$f":"IF(E20=\"\",\"\",VLOOKUP(E20,Sheet2!$C$3:$D$645,2,FALSE))","v":"おおずき　わかな"},"宮　崎"]
[null,null,null,null,"大杉　若菜",null,"1-3"]
[null,null,null,9,{"$f":"IF(E22=\"\",\"\",VLOOKUP(E22,Sheet2!$C$3:$D$645,2,FALSE))","v":"ふじわら　ゆきな"},"福　岡"]
[null,null,null,null,"藤原　透菜",null,null,null,"3-2"]
[null,null,null,10,{"$f":"IF(E24=\"\",\"\",VLOOKUP(E24,Sheet2!$C$3:$D$645,2,FALSE))","v":"やまだ　ゆあ"},"佐　賀"]
[null,null,null,null,"山田　結彩",null,"1-4"]
[null,null,null,11,{"$f":"IF(E26=\"\",\"\",VLOOKUP(E26,Sheet2!$C$3:$D$645,2,FALSE))","v":"たさき　ゆりか"},"大　分"]
[null,null,null,null,"田崎　柚莉佳",null,null,"2-4"]
[null,null,null,12,{"$f":"IF(E28=\"\",\"\",VLOOKUP(E28,Sheet2!$C$3:$D$645,2,FALSE))","v":"あべ　ゆうな"},"鹿児島"]
[null,null,null,null,"阿部　祐奈",null,null,null,null,null,"5-1"]
[null,null,null,13,{"$f":"IF(E30=\"\",\"\",VLOOKUP(E30,Sheet2!$C$3:$D$645,2,FALSE))","v":"しまぶくろ　あんり"},"沖　縄"]
[null,null,null,null,"島袋　杏里",null,null,"2-5"]
[null,null,null,14,{"$f":"IF(E32=\"\",\"\",VLOOKUP(E32,Sheet2!$C$3:$D$645,2,FALSE))","v":"まさおか　りお"},"宮　崎"]
[null,null,null,null,"政岡　李旺",null,"1-5"]
[null,null,null,15,{"$f":"IF(E34=\"\",\"\",VLOOKUP(E34,Sheet2!$C$3:$D$645,2,FALSE))","v":"はまさき　あんな"},"佐　賀"]
[null,null,null,null,"濵﨑　安那",null,null,null,"3-3"]
[null,null,null,16,{"$f":"IF(E36=\"\",\"\",VLOOKUP(E36,Sheet2!$C$3:$D$645,2,FALSE))","v":"こやなぎ　みゆ"},"福　岡"]
[null,null,null,null,"小柳　海結",null,"1-6"]
[null,null,null,17,{"$f":"IF(E38=\"\",\"\",VLOOKUP(E38,Sheet2!$C$3:$D$645,2,FALSE))","v":"いいむら　りこあ"},"熊　本"]
[null,null,null,null,"飯村　吏琥愛",null,null,"2-6"]
[null,null,null,18,{"$f":"IF(E40=\"\",\"\",VLOOKUP(E40,Sheet2!$C$3:$D$645,2,FALSE))","v":"おおすぎ　かんな"},"宮　崎"]
[null,null,null,null,"大杉　環菜",null,null,null,null,"4-2"]
[null,null,null,19,{"$f":"IF(E42=\"\",\"\",VLOOKUP(E42,Sheet2!$C$3:$D$645,2,FALSE))","v":"かめがわ　ゆいか"},"福　岡"]
[null,null,null,null,"亀川　唯華",null,null,"2-7"]
[null,null,null,20,{"$f":"IF(E44=\"\",\"\",VLOOKUP(E44,Sheet2!$C$3:$D$645,2,FALSE))","v":"くによし　ひなつ"},"沖　縄"]
[null,null,null,null,"國吉　姫夏",null,"1-7"]
[null,null,null,21,{"$f":"IF(E46=\"\",\"\",VLOOKUP(E46,Sheet2!$C$3:$D$645,2,FALSE))","v":"まつがの　こう"},"宮　崎"]
[null,null,null,null,"松ケ野　幸",null,null,null,"3-4"]
[null,null,null,22,{"$f":"IF(E48=\"\",\"\",VLOOKUP(E48,Sheet2!$C$3:$D$645,2,FALSE))","v":"たのうら　ひな"},"熊　本"]
[null,null,null,null,"田浦　陽愛",null,"1-8"]
[null,null,null,23,{"$f":"IF(E50=\"\",\"\",VLOOKUP(E50,Sheet2!$C$3:$D$645,2,FALSE))","v":"みずまち　いまり"},"佐　賀"]
[null,null,null,null,"水町　衣真梨",null,null,"2-8"]
[null,null,null,24,{"$f":"IF(E52=\"\",\"\",VLOOKUP(E52,Sheet2!$C$3:$D$645,2,FALSE))","v":"つつい　みこ"},"大　分"]
[null,null,null,null,"筒井　美光"]
[null,null,null,null,{"$f":"IF(E54=\"\",\"\",VLOOKUP(E54,Sheet2!$C$3:$D$645,2,FALSE))","v":""}]
[]
[null,null,null,null,{"$f":"IF(E56=\"\",\"\",VLOOKUP(E56,Sheet2!$C$3:$D$645,2,FALSE))","v":""}]
[]
[null,null,null,null,{"$f":"IF(E58=\"\",\"\",VLOOKUP(E58,Sheet2!$C$3:$D$645,2,FALSE))","v":""}]
[]
[null,null,null,null,{"$f":"IF(E60=\"\",\"\",VLOOKUP(E60,Sheet2!$C$3:$D$645,2,FALSE))","v":""}]
[]
[null,null,null,null,{"$f":"IF(E62=\"\",\"\",VLOOKUP(E62,Sheet2!$C$3:$D$645,2,FALSE))","v":""}]
[]
[null,null,null,null,{"$f":"IF(E64=\"\",\"\",VLOOKUP(E64,Sheet2!$C$3:$D$645,2,FALSE))","v":""}]
[]
[null,null,null,null,{"$f":"IF(E66=\"\",\"\",VLOOKUP(E66,Sheet2!$C$3:$D$645,2,FALSE))","v":""}]
[]
[null,null,null,null,{"$f":"IF(E68=\"\",\"\",VLOOKUP(E68,Sheet2!$C$3:$D$645,2,FALSE))","v":""}]
[]
[null,null,null,null,{"$f":"IF(E70=\"\",\"\",VLOOKUP(E70,Sheet2!$C$3:$D$645,2,FALSE))","v":""}]
[]
[null,null,null,null,{"$f":"IF(E72=\"\",\"\",VLOOKUP(E72,Sheet2!$C$3:$D$645,2,FALSE))","v":""}]
[]
[null,null,null,null,{"$f":"IF(E74=\"\",\"\",VLOOKUP(E74,Sheet2!$C$3:$D$645,2,FALSE))","v":""}]

{"sheet":"小２女子形","index":7,"n_rows":73,"n_cols":12,"rows_kept":73,"cut":false,"hidden":false,"merged":[[3,6,3,11],[56,2,57,2],[56,3,57,3],[56,5,57,5],[58,2,59,2],[58,3,59,3],[58,5,59,5],[52,2,53,2],[52,3,53,3],[52,5,53,5],[54,2,55,2],[54,3,55,3],[54,5,55,5],[48,2,49,2],[48,3,49,3],[48,5,49,5],[50,2,51,2],[50,3,51,3],[50,5,51,5],[44,2,45,2],[44,3,45,3],[44,5,45,5],[46,2,47,2],[46,3,47,3],[46,5,47,5],[40,2,41,2],[40,3,41,3],[40,5,41,5],[42,2,43,2],[42,3,43,3],[42,5,43,5],[36,2,37,2],[36,3,37,3],[36,5,37,5],[38,2,39,2],[38,3,39,3],[38,5,39,5],[32,2,33,2],[32,3,33,3],[32,5,33,5],[34,2,35,2],[34,3,35,3],[34,5,35,5],[28,2,29,2],[28,3,29,3],[28,5,29,5],[30,2,31,2],[30,3,31,3],[30,5,31,5],[24,2,25,2],[24,3,25,3],[24,5,25,5],[26,2,27,2],[26,3,27,3],[26,5,27,5],[20,2,21,2],[20,3,21,3],[20,5,21,5],[22,2,23,2],[22,3,23,3],[22,5,23,5],[16,2,17,2],[16,3,17,3],[16,5,17,5],[18,2,19,2],[18,3,19,3],[18,5,19,5],[12,2,13,2],[12,3,13,3],[12,5,13,5],[14,2,15,2],[14,3,15,3],[14,5,15,5],[8,2,9,2],[8,3,9,3],[8,5,9,5],[10,2,11,2],[10,3,11,3],[10,5,11,5],[4,2,5,2],[4,3,5,3],[4,5,5,5],[6,2,7,2],[6,3,7,3],[6,5,7,5]]}
[null,null,null,null,null,null,null,null,null,null,null,"　　"]
[null,null,null,null,null,null,null,null,null,null,null,"　　"]
[null,null,null,null,null,"県",null,null,null,null,null,"　　"]
[null,null,null,"小学2年女子形",null,"沖　縄","県を選択すると県名が黄色になります。"]
[null,null,null,1,{"$f":"IF(E6=\"\",\"\",VLOOKUP(E6,Sheet2!$C$3:$D$645,2,FALSE))","v":"おおつか　いのり"},"大　分"]
[null,null,null,null,"大塚　生啓",null,null,"2-1"]
[null,null,null,2,{"$f":"IF(E8=\"\",\"\",VLOOKUP(E8,Sheet2!$C$3:$D$645,2,FALSE))","v":"みやのはら　さと"},"宮　崎"]
[null,null,null,null,"宮野原　桜人",null,"1-1"]
[null,null,null,3,{"$f":"IF(E10=\"\",\"\",VLOOKUP(E10,Sheet2!$C$3:$D$645,2,FALSE))","v":"かねしま　かなた"},"沖　縄"]
[null,null,null,null,"兼島　佳那多",null,null,null,"3-1"]
[null,null,null,4,{"$f":"IF(E12=\"\",\"\",VLOOKUP(E12,Sheet2!$C$3:$D$645,2,FALSE))","v":"いけだ　みさき"},"福　岡"]
[null,null,null,null,"池田　三咲",null,"1-2"]
[null,null,null,5,{"$f":"IF(E14=\"\",\"\",VLOOKUP(E14,Sheet2!$C$3:$D$645,2,FALSE))","v":"かねまる　いつき"},"宮　崎"]
[null,null,null,null,"金丸　稜季",null,null,"2-2"]
[null,null,null,6,{"$f":"IF(E16=\"\",\"\",VLOOKUP(E16,Sheet2!$C$3:$D$645,2,FALSE))","v":"のぞえ　みそら"},"熊　本"]
[null,null,null,null,"野添　美空",null,"1-3"]
[null,null,null,7,{"$f":"IF(E18=\"\",\"\",VLOOKUP(E18,Sheet2!$C$3:$D$645,2,FALSE))","v":"いしだ　しの"},"佐　賀"]
[null,null,null,null,"石田　詩乃",null,null,null,null,"4-1"]
[null,null,null,8,{"$f":"IF(E20=\"\",\"\",VLOOKUP(E20,Sheet2!$C$3:$D$645,2,FALSE))","v":"あらき　りあ"},"宮　崎"]
[null,null,null,null,"荒木　理愛",null,"1-4"]
[null,null,null,9,{"$f":"IF(E22=\"\",\"\",VLOOKUP(E22,Sheet2!$C$3:$D$645,2,FALSE))","v":"たけだ　あまね"},"鹿児島"]
[null,null,null,null,"武田　あまね",null,null,"2-3"]
[null,null,null,10,{"$f":"IF(E24=\"\",\"\",VLOOKUP(E24,Sheet2!$C$3:$D$645,2,FALSE))","v":"かきもり　れな"},"福　岡"]
[null,null,null,null,"柿森　麗奈",null,"1-5"]
[null,null,null,11,{"$f":"IF(E26=\"\",\"\",VLOOKUP(E26,Sheet2!$C$3:$D$645,2,FALSE))","v":"さとう　てんか"},"大　分"]
[null,null,null,null,"佐藤　天珂",null,null,null,"3-2"]
[null,null,null,12,{"$f":"IF(E28=\"\",\"\",VLOOKUP(E28,Sheet2!$C$3:$D$645,2,FALSE))","v":"こんどう　ののな"},"沖　縄"]
[null,null,null,null,"近藤　希ノ和",null,"1-6"]
[null,null,null,13,{"$f":"IF(E30=\"\",\"\",VLOOKUP(E30,Sheet2!$C$3:$D$645,2,FALSE))","v":"まつなが　るの"},"佐　賀"]
[null,null,null,null,"松永　瑠乃",null,null,"2-4"]
[null,null,null,14,{"$f":"IF(E32=\"\",\"\",VLOOKUP(E32,Sheet2!$C$3:$D$645,2,FALSE))","v":"さかた　このみ"},"熊　本"]
[null,null,null,null,"坂田　好",null,null,null,null,null,"5-1"]
[null,null,null,15,{"$f":"IF(E34=\"\",\"\",VLOOKUP(E34,Sheet2!$C$3:$D$645,2,FALSE))","v":"しいばえ　かりん"},"鹿児島"]
[null,null,null,null,"椎八重　華凛",null,null,"2-5"]
[null,null,null,16,{"$f":"IF(E36=\"\",\"\",VLOOKUP(E36,Sheet2!$C$3:$D$645,2,FALSE))","v":"てるや　なちゅら"},"沖　縄"]
[null,null,null,null,"照屋　夏美",null,"1-7"]
[null,null,null,17,{"$f":"IF(E38=\"\",\"\",VLOOKUP(E38,Sheet2!$C$3:$D$645,2,FALSE))","v":"すみ　いちか"},"大　分"]
[null,null,null,null,"角　一花",null,null,null,"3-3"]
[null,null,null,18,{"$f":"IF(E40=\"\",\"\",VLOOKUP(E40,Sheet2!$C$3:$D$645,2,FALSE))","v":"うらべ　つばき"},"佐　賀"]
[null,null,null,null,"浦部　椿",null,"1-8"]
[null,null,null,19,{"$f":"IF(E42=\"\",\"\",VLOOKUP(E42,Sheet2!$C$3:$D$645,2,FALSE))","v":"よしおか　ゆうしん"},"宮　崎"]
[null,null,null,null,"吉川　優心",null,null,"2-6"]
[null,null,null,20,{"$f":"IF(E44=\"\",\"\",VLOOKUP(E44,Sheet2!$C$3:$D$645,2,FALSE))","v":"ふくだ　りこ"},"熊　本"]
[null,null,null,null,"福田　梨瑚",null,"1-9"]
[null,null,null,21,{"$f":"IF(E46=\"\",\"\",VLOOKUP(E46,Sheet2!$C$3:$D$645,2,FALSE))","v":"なんり　みづき"},"福　岡"]
[null,null,null,null,"南里　心月",null,null,null,null,"4-2"]
[null,null,null,22,{"$f":"IF(E48=\"\",\"\",VLOOKUP(E48,Sheet2!$C$3:$D$645,2,FALSE))","v":"やまぐち　ゆめ"},"佐　賀"]
[null,null,null,null,"山口　結愛",null,"1-10"]
[null,null,null,23,{"$f":"IF(E50=\"\",\"\",VLOOKUP(E50,Sheet2!$C$3:$D$645,2,FALSE))","v":"たじり　ゆうわ"},"熊　本"]
[null,null,null,null,"田㞍　結羽",null,null,"2-7"]
[null,null,null,24,{"$f":"IF(E52=\"\",\"\",VLOOKUP(E52,Sheet2!$C$3:$D$645,2,FALSE))","v":"えびはら　ここな"},"宮　崎"]
[null,null,null,null,"海老原　心々菜",null,"1-11"]
[null,null,null,25,{"$f":"IF(E54=\"\",\"\",VLOOKUP(E54,Sheet2!$C$3:$D$645,2,FALSE))","v":"あみた　さやか"},"福　岡"]
[null,null,null,null,"網田　沙弥伽",null,null,null,"3-4"]
[null,null,null,26,{"$f":"IF(E56=\"\",\"\",VLOOKUP(E56,Sheet2!$C$3:$D$645,2,FALSE))","v":"かなと　ゆうあ"},"大　分"]
[null,null,null,null,"金戸　結愛",null,"1-12"]
[null,null,null,27,{"$f":"IF(E58=\"\",\"\",VLOOKUP(E58,Sheet2!$C$3:$D$645,2,FALSE))","v":"やまおか　にこる"},"宮　崎"]
[null,null,null,null,"山岡　笑琉",null,null,"2-8"]
[null,null,null,28,{"$f":"IF(E60=\"\",\"\",VLOOKUP(E60,Sheet2!$C$3:$D$645,2,FALSE))","v":"なかざ　しのん"},"沖　縄"]
[null,null,null,null,"仲座　志音"]
[null,null,null,null,{"$f":"IF(E62=\"\",\"\",VLOOKUP(E62,Sheet2!$C$3:$D$645,2,FALSE))","v":""}]
[]
[null,null,null,null,{"$f":"IF(E64=\"\",\"\",VLOOKUP(E64,Sheet2!$C$3:$D$645,2,FALSE))","v":""}]
[]
[null,null,null,null,{"$f":"IF(E66=\"\",\"\",VLOOKUP(E66,Sheet2!$C$3:$D$645,2,FALSE))","v":""}]
[]
[null,null,null,null,{"$f":"IF(E68=\"\",\"\",VLOOKUP(E68,Sheet2!$C$3:$D$645,2,FALSE))","v":""}]
[]
[null,null,null,null,{"$f":"IF(E70=\"\",\"\",VLOOKUP(E70,Sheet2!$C$3:$D$645,2,FALSE))","v":""}]
[]
[null,null,null,null,{"$f":"IF(E72=\"\",\"\",VLOOKUP(E72,Sheet2!$C$3:$D$645,2,FALSE))","v":""}]
[]
[null,null,null,null,{"$f":"IF(E74=\"\",\"\",VLOOKUP(E74,Sheet2!$C$3:$D$645,2,FALSE))","v":""}]

{"sheet":"小３女子形","index":8,"n_rows":73,"n_cols":12,"rows_kept":73,"cut":false,"hidden":false,"merged":[[3,6,3,11],[64,2,65,2],[64,3,65,3],[64,5,65,5],[60,2,61,2],[60,3,61,3],[60,5,61,5],[62,2,63,2],[62,3,63,3],[62,5,63,5],[56,2,57,2],[56,3,57,3],[56,5,57,5],[58,2,59,2],[58,3,59,3],[58,5,59,5],[52,2,53,2],[52,3,53,3],[52,5,53,5],[54,2,55,2],[54,3,55,3],[54,5,55,5],[48,2,49,2],[48,3,49,3],[48,5,49,5],[50,2,51,2],[50,3,51,3],[50,5,51,5],[44,2,45,2],[44,3,45,3],[44,5,45,5],[46,2,47,2],[46,3,47,3],[46,5,47,5],[40,2,41,2],[40,3,41,3],[40,5,41,5],[42,2,43,2],[42,3,43,3],[42,5,43,5],[36,2,37,2],[36,3,37,3],[36,5,37,5],[38,2,39,2],[38,3,39,3],[38,5,39,5],[32,2,33,2],[32,3,33,3],[32,5,33,5],[34,2,35,2],[34,3,35,3],[34,5,35,5],[28,2,29,2],[28,3,29,3],[28,5,29,5],[30,2,31,2],[30,3,31,3],[30,5,31,5],[24,2,25,2],[24,3,25,3],[24,5,25,5],[26,2,27,2],[26,3,27,3],[26,5,27,5],[20,2,21,2],[20,3,21,3],[20,5,21,5],[22,2,23,2],[22,3,23,3],[22,5,23,5],[16,2,17,2],[16,3,17,3],[16,5,17,5],[18,2,19,2],[18,3,19,3],[18,5,19,5],[12,2,13,2],[12,3,13,3],[12,5,13,5],[14,2,15,2],[14,3,15,3],[14,5,15,5],[8,2,9,2],[8,3,9,3],[8,5,9,5],[10,2,11,2],[10,3,11,3],[10,5,11,5],[4,2,5,2],[4,3,5,3],[4,5,5,5],[6,2,7,2],[6,3,7,3],[6,5,7,5]]}
[null,null,null,null,null,null,null,null,null,null,null,"　　"]
[null,null,null,null,null,null,null,null,null,null,null,"　　"]
[null,null,null,null,null,"県",null,null,null,null,null,"　　"]
[null,null,null,"小学3年女子形",null,"沖　縄","県を選択すると県名が黄色になります。"]
[null,null,null,1,{"$f":"IF(E6=\"\",\"\",VLOOKUP(E6,Sheet2!$C$3:$D$645,2,FALSE))","v":"あいはら　ゆめ"},"福　岡"]
[null,null,null,null,"相原　優夢",null,null,"2-1"]
[null,null,null,2,{"$f":"IF(E8=\"\",\"\",VLOOKUP(E8,Sheet2!$C$3:$D$645,2,FALSE))","v":"いとう　れいか"},"大　分"]
[null,null,null,null,"伊藤　伶香",null,"1-1"]
[null,null,null,3,{"$f":"IF(E10=\"\",\"\",VLOOKUP(E10,Sheet2!$C$3:$D$645,2,FALSE))","v":"さかもと　えな"},"佐　賀"]
[null,null,null,null,"坂元　愛奈",null,null,null,"3-1"]
[null,null,null,4,{"$f":"IF(E12=\"\",\"\",VLOOKUP(E12,Sheet2!$C$3:$D$645,2,FALSE))","v":"もりた　みむ"},"鹿児島"]
[null,null,null,null,"盛田　実夢",null,"1-2"]
[null,null,null,5,{"$f":"IF(E14=\"\",\"\",VLOOKUP(E14,Sheet2!$C$3:$D$645,2,FALSE))","v":"はまだ　まな"},"宮　崎"]
[null,null,null,null,"浜田　真名",null,null,"2-2"]
[null,null,null,6,{"$f":"IF(E16=\"\",\"\",VLOOKUP(E16,Sheet2!$C$3:$D$645,2,FALSE))","v":"くまべ　りさ"},"熊　本"]
[null,null,null,null,"隈部　莉彩",null,"1-3"]
[null,null,null,7,{"$f":"IF(E18=\"\",\"\",VLOOKUP(E18,Sheet2!$C$3:$D$645,2,FALSE))","v":"みねい　そな"},"沖　縄"]
[null,null,null,null,"嶺井　想七",null,null,null,null,"4-1"]
[null,null,null,8,{"$f":"IF(E20=\"\",\"\",VLOOKUP(E20,Sheet2!$C$3:$D$645,2,FALSE))","v":"みちぞえ　ゆめ"},"長　崎"]
[null,null,null,null,"道添　由萌",null,"1-4"]
[null,null,null,9,{"$f":"IF(E22=\"\",\"\",VLOOKUP(E22,Sheet2!$C$3:$D$645,2,FALSE))","v":"そのだ　もえか"},"福　岡"]
[null,null,null,null,"園田　萌華",null,null,"2-3"]
[null,null,null,10,{"$f":"IF(E24=\"\",\"\",VLOOKUP(E24,Sheet2!$C$3:$D$645,2,FALSE))","v":"しもだ　いお"},"佐　賀"]
[null,null,null,null,"下田　結想",null,"1-5"]
[null,null,null,11,{"$f":"IF(E26=\"\",\"\",VLOOKUP(E26,Sheet2!$C$3:$D$645,2,FALSE))","v":"すぎた　まあや"},"宮　崎"]
[null,null,null,null,"杉田　真彩",null,null,null,"3-2"]
[null,null,null,12,{"$f":"IF(E28=\"\",\"\",VLOOKUP(E28,Sheet2!$C$3:$D$645,2,FALSE))","v":"もり　すず"},"鹿児島"]
[null,null,null,null,"盛　すず",null,"1-6"]
[null,null,null,13,{"$f":"IF(E30=\"\",\"\",VLOOKUP(E30,Sheet2!$C$3:$D$645,2,FALSE))","v":"うめだ　さゆ"},"大　分"]
[null,null,null,null,"梅田　咲優",null,null,"2-4"]
[null,null,null,14,{"$f":"IF(E32=\"\",\"\",VLOOKUP(E32,Sheet2!$C$3:$D$645,2,FALSE))","v":"あかぎ　れな"},"熊　本"]
[null,null,null,null,"赤城　玲菜",null,"1-7"]
[null,null,null,15,{"$f":"IF(E34=\"\",\"\",VLOOKUP(E34,Sheet2!$C$3:$D$645,2,FALSE))","v":"いのうえ　まなみ"},"宮　崎"]
[null,null,null,null,"井上　愛望",null,null,null,null,null,"5-1"]
[null,null,null,16,{"$f":"IF(E36=\"\",\"\",VLOOKUP(E36,Sheet2!$C$3:$D$645,2,FALSE))","v":"あらかわ　かのん"},"熊　本"]
[null,null,null,null,"荒川　叶音",null,"1-8"]
[null,null,null,17,{"$f":"IF(E38=\"\",\"\",VLOOKUP(E38,Sheet2!$C$3:$D$645,2,FALSE))","v":"しまぶくろ　かなさ"},"沖　縄"]
[null,null,null,null,"島袋　かなさ",null,null,"2-5"]
[null,null,null,18,{"$f":"IF(E40=\"\",\"\",VLOOKUP(E40,Sheet2!$C$3:$D$645,2,FALSE))","v":"うめざき　しおり"},"福　岡"]
[null,null,null,null,"梅崎　栞",null,"1-9"]
[null,null,null,19,{"$f":"IF(E42=\"\",\"\",VLOOKUP(E42,Sheet2!$C$3:$D$645,2,FALSE))","v":"ふじもと　あいみ"},"宮　崎"]
[null,null,null,null,"藤元　あいみ",null,null,null,"3-3"]
[null,null,null,20,{"$f":"IF(E44=\"\",\"\",VLOOKUP(E44,Sheet2!$C$3:$D$645,2,FALSE))","v":"たじま　みゆう"},"長　崎"]
[null,null,null,null,"田嶋　美悠",null,"1-10"]
[null,null,null,21,{"$f":"IF(E46=\"\",\"\",VLOOKUP(E46,Sheet2!$C$3:$D$645,2,FALSE))","v":"なかにし　あいこ"},"宮　崎"]
[null,null,null,null,"中西　杏心",null,null,"2-6"]
[null,null,null,22,{"$f":"IF(E48=\"\",\"\",VLOOKUP(E48,Sheet2!$C$3:$D$645,2,FALSE))","v":"せとぐち　きらら"},"鹿児島"]
[null,null,null,null,"瀬戸口　きらら",null,"1-11"]
[null,null,null,23,{"$f":"IF(E50=\"\",\"\",VLOOKUP(E50,Sheet2!$C$3:$D$645,2,FALSE))","v":"たなか　わこ"},"佐　賀"]
[null,null,null,null,"田中　杷子",null,null,null,null,"4-2"]
[null,null,null,24,{"$f":"IF(E52=\"\",\"\",VLOOKUP(E52,Sheet2!$C$3:$D$645,2,FALSE))","v":"さかい　りいな"},"大　分"]
[null,null,null,null,"酒井　里衣菜",null,"1-12"]
[null,null,null,25,{"$f":"IF(E54=\"\",\"\",VLOOKUP(E54,Sheet2!$C$3:$D$645,2,FALSE))","v":"まつむら　りんか"},"熊　本"]
[null,null,null,null,"松村　凜加",null,null,"2-7"]
[null,null,null,26,{"$f":"IF(E56=\"\",\"\",VLOOKUP(E56,Sheet2!$C$3:$D$645,2,FALSE))","v":"くぼ　あんじゅ"},"福　岡"]
[null,null,null,null,"久保　愛珠",null,"1-13"]
[null,null,null,27,{"$f":"IF(E58=\"\",\"\",VLOOKUP(E58,Sheet2!$C$3:$D$645,2,FALSE))","v":"かさい　あや"},"長　崎"]
[null,null,null,null,"笠井　あや",null,null,null,"3-4"]
[null,null,null,28,{"$f":"IF(E60=\"\",\"\",VLOOKUP(E60,Sheet2!$C$3:$D$645,2,FALSE))","v":"わたなべ　あゆみ"},"宮　崎"]
[null,null,null,null,"渡邊　愛夢実",null,"1-14"]
[null,null,null,29,{"$f":"IF(E62=\"\",\"\",VLOOKUP(E62,Sheet2!$C$3:$D$645,2,FALSE))","v":"えじま　さき"},"佐　賀"]
[null,null,null,null,"江島　咲稀",null,null,"2-8"]
[null,null,null,30,{"$f":"IF(E64=\"\",\"\",VLOOKUP(E64,Sheet2!$C$3:$D$645,2,FALSE))","v":"ありおおしま　れいな"},"沖　縄"]
[null,null,null,null,"東大島　玲菜",null,"1-15"]
[null,null,null,31,{"$f":"IF(E66=\"\",\"\",VLOOKUP(E66,Sheet2!$C$3:$D$645,2,FALSE))","v":"なかえ　みき"},"鹿児島"]
[null,null,null,null,"中江　美姫"]
[null,null,null,null,{"$f":"IF(E68=\"\",\"\",VLOOKUP(E68,Sheet2!$C$3:$D$645,2,FALSE))","v":""}]
[]
[null,null,null,null,{"$f":"IF(E70=\"\",\"\",VLOOKUP(E70,Sheet2!$C$3:$D$645,2,FALSE))","v":""}]
[]
[null,null,null,null,{"$f":"IF(E72=\"\",\"\",VLOOKUP(E72,Sheet2!$C$3:$D$645,2,FALSE))","v":""}]
[]
[null,null,null,null,{"$f":"IF(E74=\"\",\"\",VLOOKUP(E74,Sheet2!$C$3:$D$645,2,FALSE))","v":""}]

{"sheet":"小４女子形","index":9,"n_rows":73,"n_cols":12,"rows_kept":73,"cut":false,"hidden":false,"merged":[[70,2,71,2],[70,3,71,3],[70,5,71,5],[3,6,3,11],[64,2,65,2],[64,3,65,3],[64,5,65,5],[66,2,67,2],[66,3,67,3],[66,5,67,5],[68,2,69,2],[68,3,69,3],[68,5,69,5],[58,2,59,2],[58,3,59,3],[58,5,59,5],[60,2,61,2],[60,3,61,3],[60,5,61,5],[62,2,63,2],[62,3,63,3],[62,5,63,5],[52,2,53,2],[52,3,53,3],[52,5,53,5],[54,2,55,2],[54,3,55,3],[54,5,55,5],[56,2,57,2],[56,3,57,3],[56,5,57,5],[46,2,47,2],[46,3,47,3],[46,5,47,5],[48,2,49,2],[48,3,49,3],[48,5,49,5],[50,2,51,2],[50,3,51,3],[50,5,51,5],[40,2,41,2],[40,3,41,3],[40,5,41,5],[42,2,43,2],[42,3,43,3],[42,5,43,5],[44,2,45,2],[44,3,45,3],[44,5,45,5],[34,2,35,2],[34,3,35,3],[34,5,35,5],[36,2,37,2],[36,3,37,3],[36,5,37,5],[38,2,39,2],[38,3,39,3],[38,5,39,5],[28,2,29,2],[28,3,29,3],[28,5,29,5],[30,2,31,2],[30,3,31,3],[30,5,31,5],[32,2,33,2],[32,3,33,3],[32,5,33,5],[22,2,23,2],[22,3,23,3],[22,5,23,5],[24,2,25,2],[24,3,25,3],[24,5,25,5],[26,2,27,2],[26,3,27,3],[26,5,27,5],[16,2,17,2],[16,3,17,3],[16,5,17,5],[18,2,19,2],[18,3,19,3],[18,5,19,5],[20,2,21,2],[20,3,21,3],[20,5,21,5],[10,2,11,2],[10,3,11,3],[10,5,11,5],[12,2,13,2],[12,3,13,3],[12,5,13,5],[14,2,15,2],[14,3,15,3],[14,5,15,5],[4,2,5,2],[4,3,5,3],[4,5,5,5],[6,2,7,2],[6,3,7,3],[6,5,7,5],[8,2,9,2],[8,3,9,3],[8,5,9,5]]}
[null,null,null,null,null,null,null,null,null,null,null,"　　"]
[null,null,null,null,null,null,null,null,null,null,null,"　　"]
[null,null,null,null,null,"県",null,null,null,null,null,"　　"]
[null,null,null,"小学4年女子形",null,"沖　縄","県を選択すると県名が黄色になります。"]
[null,null,null,1,{"$f":"IF(E6=\"\",\"\",VLOOKUP(E6,Sheet2!$C$3:$D$645,2,FALSE))","v":"もりた　みさ"},"宮　崎"]
[null,null,null,null,"森田　聖彩",null,null,"2-1"]
[null,null,null,2,{"$f":"IF(E8=\"\",\"\",VLOOKUP(E8,Sheet2!$C$3:$D$645,2,FALSE))","v":"きたの　りか"},"福　岡"]
[null,null,null,null,"北野　莉椛",null,"1-1"]
[null,null,null,3,{"$f":"IF(E10=\"\",\"\",VLOOKUP(E10,Sheet2!$C$3:$D$645,2,FALSE))","v":"いわなが　ひまり"},"長　崎",null,null,"3-1"]
[null,null,null,null,"岩永　陽茉里"]
[null,null,null,4,{"$f":"IF(E12=\"\",\"\",VLOOKUP(E12,Sheet2!$C$3:$D$645,2,FALSE))","v":"あだち　さくら"},"大　分"]
[null,null,null,null,"安達　さくら",null,null,"2-2"]
[null,null,null,5,{"$f":"IF(E14=\"\",\"\",VLOOKUP(E14,Sheet2!$C$3:$D$645,2,FALSE))","v":"さかもと　さな"},"佐　賀",null,null,null,"4-1"]
[null,null,null,null,"坂元　咲奈"]
[null,null,null,6,{"$f":"IF(E16=\"\",\"\",VLOOKUP(E16,Sheet2!$C$3:$D$645,2,FALSE))","v":"かわの　りこ"},"宮　崎"]
[null,null,null,null,"川野　莉瑚",null,null,"2-3"]
[null,null,null,7,{"$f":"IF(E18=\"\",\"\",VLOOKUP(E18,Sheet2!$C$3:$D$645,2,FALSE))","v":"もりた　めいさ"},"鹿児島"]
[null,null,null,null,"盛田　明咲",null,null,null,"3-2"]
[null,null,null,8,{"$f":"IF(E20=\"\",\"\",VLOOKUP(E20,Sheet2!$C$3:$D$645,2,FALSE))","v":"うえち　ゆこ"},"沖　縄"]
[null,null,null,null,"上地　結心",null,null,"2-4"]
[null,null,null,9,{"$f":"IF(E22=\"\",\"\",VLOOKUP(E22,Sheet2!$C$3:$D$645,2,FALSE))","v":"たけぐち　まかな"},"熊　本",null,null,null,null,"5-1"]
[null,null,null,null,"竹口真叶"]
[null,null,null,10,{"$f":"IF(E24=\"\",\"\",VLOOKUP(E24,Sheet2!$C$3:$D$645,2,FALSE))","v":"ずけやま　ちず"},"沖　縄"]
[null,null,null,null,"瑞慶山　千寿",null,null,"2-5"]
[null,null,null,11,{"$f":"IF(E26=\"\",\"\",VLOOKUP(E26,Sheet2!$C$3:$D$645,2,FALSE))","v":"ととりべ　ゆか"},"宮　崎"]
[null,null,null,null,"鳥取部有加",null,null,null,"3-3"]
[null,null,null,12,{"$f":"IF(E28=\"\",\"\",VLOOKUP(E28,Sheet2!$C$3:$D$645,2,FALSE))","v":"あなみ　ゆい"},"熊　本"]
[null,null,null,null,"穴見　優衣",null,null,"2-6"]
[null,null,null,13,{"$f":"IF(E30=\"\",\"\",VLOOKUP(E30,Sheet2!$C$3:$D$645,2,FALSE))","v":"くの　ゆづき"},"佐　賀"]
[null,null,null,null,"久野　結月",null,null,null,null,"4-2"]
[null,null,null,14,{"$f":"IF(E32=\"\",\"\",VLOOKUP(E32,Sheet2!$C$3:$D$645,2,FALSE))","v":"おち　まあや"},"福　岡"]
[null,null,null,null,"越智　真愛",null,null,"2-7"]
[null,null,null,15,{"$f":"IF(E34=\"\",\"\",VLOOKUP(E34,Sheet2!$C$3:$D$645,2,FALSE))","v":"あべ　りんこ"},"鹿児島"]
[null,null,null,null,"阿部　倫子",null,null,null,"3-4"]
[null,null,null,16,{"$f":"IF(E36=\"\",\"\",VLOOKUP(E36,Sheet2!$C$3:$D$645,2,FALSE))","v":"つなさき　まお"},"長　崎"]
[null,null,null,null,"綱崎　眞",null,null,"2-8"]
[null,null,null,17,{"$f":"IF(E38=\"\",\"\",VLOOKUP(E38,Sheet2!$C$3:$D$645,2,FALSE))","v":"はしもと　さわ"},"大　分"]
[null,null,null,null,"橋本　咲和",null,null,null,null,null,null,"6-1"]
[null,null,null,18,{"$f":"IF(E40=\"\",\"\",VLOOKUP(E40,Sheet2!$C$3:$D$645,2,FALSE))","v":"ごとう　まほ"},"佐　賀"]
[null,null,null,null,"後藤　真歩",null,null,"2-9"]
[null,null,null,19,{"$f":"IF(E42=\"\",\"\",VLOOKUP(E42,Sheet2!$C$3:$D$645,2,FALSE))","v":"やまさき　りんか"},"大　分"]
[null,null,null,null,"山崎　凛夏",null,null,null,"3-5"]
[null,null,null,20,{"$f":"IF(E44=\"\",\"\",VLOOKUP(E44,Sheet2!$C$3:$D$645,2,FALSE))","v":"ふくだ　ゆいか"},"熊　本"]
[null,null,null,null,"福田　唯加",null,null,"2-10"]
[null,null,null,21,{"$f":"IF(E46=\"\",\"\",VLOOKUP(E46,Sheet2!$C$3:$D$645,2,FALSE))","v":"つきなり　ゆいか"},"福　岡"]
[null,null,null,null,"月成　唯華",null,null,null,null,"4-3"]
[null,null,null,22,{"$f":"IF(E48=\"\",\"\",VLOOKUP(E48,Sheet2!$C$3:$D$645,2,FALSE))","v":"さわつばし　りえ"},"鹿児島"]
[null,null,null,null,"沢津橋　里衣",null,null,"2-11"]
[null,null,null,23,{"$f":"IF(E50=\"\",\"\",VLOOKUP(E50,Sheet2!$C$3:$D$645,2,FALSE))","v":"やまもと　ひな"},"宮　崎"]
[null,null,null,null,"山本　雛",null,null,null,"3-6"]
[null,null,null,24,{"$f":"IF(E52=\"\",\"\",VLOOKUP(E52,Sheet2!$C$3:$D$645,2,FALSE))","v":"うえはら　さら"},"沖　縄"]
[null,null,null,null,"上原　彩煌",null,null,"2-12"]
[null,null,null,25,{"$f":"IF(E54=\"\",\"\",VLOOKUP(E54,Sheet2!$C$3:$D$645,2,FALSE))","v":"おのうえ　かのん"},"長　崎"]
[null,null,null,null,"尾上　華乃音"]
[null,null,null,26,{"$f":"IF(E56=\"\",\"\",VLOOKUP(E56,Sheet2!$C$3:$D$645,2,FALSE))","v":"ふくしま　ひめか"},"鹿児島",null,null,null,null,"5-2"]
[null,null,null,null,"福島　媛香",null,null,"2-13"]
[null,null,null,27,{"$f":"IF(E58=\"\",\"\",VLOOKUP(E58,Sheet2!$C$3:$D$645,2,FALSE))","v":"ほんだ　まゆり"},"宮　崎"]
[null,null,null,null,"本田　真友俐",null,null,null,"3-7"]
[null,null,null,28,{"$f":"IF(E60=\"\",\"\",VLOOKUP(E60,Sheet2!$C$3:$D$645,2,FALSE))","v":"いのまた　りこ"},"大　分"]
[null,null,null,null,"猪俣　莉子",null,null,"2-14"]
[null,null,null,29,{"$f":"IF(E62=\"\",\"\",VLOOKUP(E62,Sheet2!$C$3:$D$645,2,FALSE))","v":"つじ　みそら"},"長　崎"]
[null,null,null,null,"辻　美空"]
[null,null,null,30,{"$f":"IF(E64=\"\",\"\",VLOOKUP(E64,Sheet2!$C$3:$D$645,2,FALSE))","v":"ゆざわ　みほの"},"熊　本",null,null,null,"4-4"]
[null,null,null,null,"湯澤　実穂乃",null,null,"2-15"]
[null,null,null,31,{"$f":"IF(E66=\"\",\"\",VLOOKUP(E66,Sheet2!$C$3:$D$645,2,FALSE))","v":"あらき　るあ"},"宮　崎"]
[null,null,null,null,"荒木　琉愛"]
[null,null,null,32,{"$f":"IF(E68=\"\",\"\",VLOOKUP(E68,Sheet2!$C$3:$D$645,2,FALSE))","v":"がねこ　ほのか"},"沖　縄",null,null,"3-8"]
[null,null,null,null,"我如古　穂花",null,"1-2"]
[null,null,null,33,{"$f":"IF(E70=\"\",\"\",VLOOKUP(E70,Sheet2!$C$3:$D$645,2,FALSE))","v":"しろみず　わみ"},"佐　賀"]
[null,null,null,null,"白水　和心",null,null,"2-16"]
[null,null,null,34,{"$f":"IF(E72=\"\",\"\",VLOOKUP(E72,Sheet2!$C$3:$D$645,2,FALSE))","v":"ちきた　さや"},"福　岡"]
[null,null,null,null,"千北　紗矢"]
[null,null,null,null,{"$f":"IF(E74=\"\",\"\",VLOOKUP(E74,Sheet2!$C$3:$D$645,2,FALSE))","v":""}]

{"sheet":"小５女子形","index":10,"n_rows":73,"n_cols":12,"rows_kept":73,"cut":false,"hidden":false,"merged":[[4,2,5,2],[4,3,5,3],[4,5,5,5],[6,2,7,2],[6,3,7,3],[6,5,7,5],[3,6,3,11],[12,2,13,2],[12,3,13,3],[12,5,13,5],[14,2,15,2],[14,3,15,3],[14,5,15,5],[8,2,9,2],[8,3,9,3],[8,5,9,5],[10,2,11,2],[10,3,11,3],[10,5,11,5],[20,2,21,2],[20,3,21,3],[20,5,21,5],[22,2,23,2],[22,3,23,3],[22,5,23,5],[16,2,17,2],[16,3,17,3],[16,5,17,5],[18,2,19,2],[18,3,19,3],[18,5,19,5],[28,2,29,2],[28,3,29,3],[28,5,29,5],[30,2,31,2],[30,3,31,3],[30,5,31,5],[24,2,25,2],[24,3,25,3],[24,5,25,5],[26,2,27,2],[26,3,27,3],[26,5,27,5],[36,2,37,2],[36,3,37,3],[36,5,37,5],[38,2,39,2],[38,3,39,3],[38,5,39,5],[32,2,33,2],[32,3,33,3],[32,5,33,5],[34,2,35,2],[34,3,35,3],[34,5,35,5],[44,2,45,2],[44,3,45,3],[44,5,45,5],[46,2,47,2],[46,3,47,3],[46,5,47,5],[40,2,41,2],[40,3,41,3],[40,5,41,5],[42,2,43,2],[42,3,43,3],[42,5,43,5],[52,2,53,2],[52,3,53,3],[52,5,53,5],[54,2,55,2],[54,3,55,3],[54,5,55,5],[48,2,49,2],[48,3,49,3],[48,5,49,5],[50,2,51,2],[50,3,51,3],[50,5,51,5],[60,2,61,2],[60,3,61,3],[60,5,61,5],[62,2,63,2],[62,3,63,3],[62,5,63,5],[56,2,57,2],[56,3,57,3],[56,5,57,5],[58,2,59,2],[58,3,59,3],[58,5,59,5],[68,2,69,2],[68,3,69,3],[68,5,69,5],[70,2,71,2],[70,3,71,3],[70,5,71,5],[64,2,65,2],[64,3,65,3],[64,5,65,5],[66,2,67,2],[66,3,67,3],[66,5,67,5]]}
[null,null,null,null,null,null,null,null,null,null,null,"　　"]
[null,null,null,null,null,null,null,null,null,null,null,"　　"]
[null,null,null,null,null,"県",null,null,null,null,null,"　　"]
[null,null,null,"小学5年女子形",null,"沖　縄","県を選択すると県名が黄色になります。"]
[null,null,null,1,{"$f":"IF(E6=\"\",\"\",VLOOKUP(E6,Sheet2!$C$3:$D$645,2,FALSE))","v":"さとう　りこ"},"大　分"]
[null,null,null,null,"佐藤　凛子",null,null,"2-1"]
[null,null,null,2,{"$f":"IF(E8=\"\",\"\",VLOOKUP(E8,Sheet2!$C$3:$D$645,2,FALSE))","v":"いわさき　りつ"},"熊　本"]
[null,null,null,null,"岩﨑　律",null,"1-1"]
[null,null,null,3,{"$f":"IF(E10=\"\",\"\",VLOOKUP(E10,Sheet2!$C$3:$D$645,2,FALSE))","v":"すずき　みなこ"},"宮　崎",null,null,"3-1"]
[null,null,null,null,"鈴木　日奈子"]
[null,null,null,4,{"$f":"IF(E12=\"\",\"\",VLOOKUP(E12,Sheet2!$C$3:$D$645,2,FALSE))","v":"はらぐち　ゆい"},"長　崎"]
[null,null,null,null,"原口　結衣",null,null,"2-2"]
[null,null,null,5,{"$f":"IF(E14=\"\",\"\",VLOOKUP(E14,Sheet2!$C$3:$D$645,2,FALSE))","v":"かわだ　くくる"},"沖　縄",null,null,null,"4-1"]
[null,null,null,null,"川田　くくる"]
[null,null,null,6,{"$f":"IF(E16=\"\",\"\",VLOOKUP(E16,Sheet2!$C$3:$D$645,2,FALSE))","v":"まえやま　せいら"},"鹿児島"]
[null,null,null,null,"前山　聖空",null,null,"2-3"]
[null,null,null,7,{"$f":"IF(E18=\"\",\"\",VLOOKUP(E18,Sheet2!$C$3:$D$645,2,FALSE))","v":"おくむら　まお"},"佐　賀"]
[null,null,null,null,"奥村　真央",null,null,null,"3-2"]
[null,null,null,8,{"$f":"IF(E20=\"\",\"\",VLOOKUP(E20,Sheet2!$C$3:$D$645,2,FALSE))","v":"かじはら　しずく"},"宮　崎"]
[null,null,null,null,"梶原　しずく",null,null,"2-4"]
[null,null,null,9,{"$f":"IF(E22=\"\",\"\",VLOOKUP(E22,Sheet2!$C$3:$D$645,2,FALSE))","v":"ながお　ゆず"},"福　岡",null,null,null,null,"5-1"]
[null,null,null,null,"長尾　柚"]
[null,null,null,10,{"$f":"IF(E24=\"\",\"\",VLOOKUP(E24,Sheet2!$C$3:$D$645,2,FALSE))","v":"ふくだ　わこ"},"鹿児島"]
[null,null,null,null,"福田　和心",null,null,"2-5"]
[null,null,null,11,{"$f":"IF(E26=\"\",\"\",VLOOKUP(E26,Sheet2!$C$3:$D$645,2,FALSE))","v":"ゆみさし　みこ"},"福　岡"]
[null,null,null,null,"弓指　弥子",null,null,null,"3-3"]
[null,null,null,12,{"$f":"IF(E28=\"\",\"\",VLOOKUP(E28,Sheet2!$C$3:$D$645,2,FALSE))","v":"まつだ　ひより"},"沖　縄"]
[null,null,null,null,"松田　ひより",null,null,"2-6"]
[null,null,null,13,{"$f":"IF(E30=\"\",\"\",VLOOKUP(E30,Sheet2!$C$3:$D$645,2,FALSE))","v":"わだ　せな"},"宮　崎"]
[null,null,null,null,"和田　星愛",null,null,null,null,"4-2"]
[null,null,null,14,{"$f":"IF(E32=\"\",\"\",VLOOKUP(E32,Sheet2!$C$3:$D$645,2,FALSE))","v":"あべ　りんか"},"佐　賀"]
[null,null,null,null,"阿部　綸花",null,null,"2-7"]
[null,null,null,15,{"$f":"IF(E34=\"\",\"\",VLOOKUP(E34,Sheet2!$C$3:$D$645,2,FALSE))","v":"かなと　くれあ"},"大　分"]
[null,null,null,null,"金戸　紅空",null,null,null,"3-4"]
[null,null,null,16,{"$f":"IF(E36=\"\",\"\",VLOOKUP(E36,Sheet2!$C$3:$D$645,2,FALSE))","v":"うえだ　りおな"},"熊　本"]
[null,null,null,null,"上田莉央奈",null,null,"2-8"]
[null,null,null,17,{"$f":"IF(E38=\"\",\"\",VLOOKUP(E38,Sheet2!$C$3:$D$645,2,FALSE))","v":"さきはら　なつき"},"長　崎"]
[null,null,null,null,"崎原　なつき",null,null,null,null,null,null,"6-1"]
[null,null,null,18,{"$f":"IF(E40=\"\",\"\",VLOOKUP(E40,Sheet2!$C$3:$D$645,2,FALSE))","v":"うえだ　かの"},"沖　縄"]
[null,null,null,null,"上田　楓乃",null,null,"2-9"]
[null,null,null,19,{"$f":"IF(E42=\"\",\"\",VLOOKUP(E42,Sheet2!$C$3:$D$645,2,FALSE))","v":"みやはら　なな"},"佐　賀"]
[null,null,null,null,"宮原　那奈",null,null,null,"3-5"]
[null,null,null,20,{"$f":"IF(E44=\"\",\"\",VLOOKUP(E44,Sheet2!$C$3:$D$645,2,FALSE))","v":"たなか　りんか"},"大　分"]
[null,null,null,null,"田中　凜佳",null,null,"2-10"]
[null,null,null,21,{"$f":"IF(E46=\"\",\"\",VLOOKUP(E46,Sheet2!$C$3:$D$645,2,FALSE))","v":"まつお　あゆな"},"長　崎"]
[null,null,null,null,"松尾　歩奈",null,null,null,null,"4-3"]
[null,null,null,22,{"$f":"IF(E48=\"\",\"\",VLOOKUP(E48,Sheet2!$C$3:$D$645,2,FALSE))","v":"ありよし　みおと"},"福　岡"]
[null,null,null,null,"有吉　珠音",null,null,"2-11"]
[null,null,null,23,{"$f":"IF(E50=\"\",\"\",VLOOKUP(E50,Sheet2!$C$3:$D$645,2,FALSE))","v":"かばやま　みつき"},"鹿児島"]
[null,null,null,null,"椛山　美月",null,null,null,"3-6"]
[null,null,null,24,{"$f":"IF(E52=\"\",\"\",VLOOKUP(E52,Sheet2!$C$3:$D$645,2,FALSE))","v":"せとぐち　まや"},"宮　崎"]
[null,null,null,null,"瀬戸口　眞綾",null,null,"2-12"]
[null,null,null,25,{"$f":"IF(E54=\"\",\"\",VLOOKUP(E54,Sheet2!$C$3:$D$645,2,FALSE))","v":"えじま あやの"},"熊　本"]
[null,null,null,null,"江嶋 彩乃"]
[null,null,null,26,{"$f":"IF(E56=\"\",\"\",VLOOKUP(E56,Sheet2!$C$3:$D$645,2,FALSE))","v":"まつだ　りんか"},"宮　崎",null,null,null,null,"5-2"]
[null,null,null,null,"松田　梨花",null,null,"2-13"]
[null,null,null,27,{"$f":"IF(E58=\"\",\"\",VLOOKUP(E58,Sheet2!$C$3:$D$645,2,FALSE))","v":"さとう　みなみ"},"熊　本"]
[null,null,null,null,"佐藤　未菜美",null,null,null,"3-7"]
[null,null,null,28,{"$f":"IF(E60=\"\",\"\",VLOOKUP(E60,Sheet2!$C$3:$D$645,2,FALSE))","v":"たけのうえ　ここあ"},"鹿児島"]
[null,null,null,null,"竹ノ上　心優",null,null,"2-14"]
[null,null,null,29,{"$f":"IF(E62=\"\",\"\",VLOOKUP(E62,Sheet2!$C$3:$D$645,2,FALSE))","v":"さかい　あいか"},"大　分"]
[null,null,null,null,"酒井　愛華"]
[null,null,null,30,{"$f":"IF(E64=\"\",\"\",VLOOKUP(E64,Sheet2!$C$3:$D$645,2,FALSE))","v":"たぐち　ひな"},"福　岡",null,null,null,"4-4"]
[null,null,null,null,"田口　陽菜",null,null,"2-15"]
[null,null,null,31,{"$f":"IF(E66=\"\",\"\",VLOOKUP(E66,Sheet2!$C$3:$D$645,2,FALSE))","v":"しまぶくろ　みおん"},"沖　縄"]
[null,null,null,null,"島袋　美音"]
[null,null,null,32,{"$f":"IF(E68=\"\",\"\",VLOOKUP(E68,Sheet2!$C$3:$D$645,2,FALSE))","v":"とみしげ　みお"},"大　分",null,null,"3-8"]
[null,null,null,null,"冨重　みお",null,"1-2"]
[null,null,null,33,{"$f":"IF(E70=\"\",\"\",VLOOKUP(E70,Sheet2!$C$3:$D$645,2,FALSE))","v":"ほんだ　あかり"},"宮　崎"]
[null,null,null,null,"本田　明日俐",null,null,"2-16"]
[null,null,null,34,{"$f":"IF(E72=\"\",\"\",VLOOKUP(E72,Sheet2!$C$3:$D$645,2,FALSE))","v":"なんり　みやび"},"佐　賀"]
[null,null,null,null,"南里　雅"]
[null,null,null,null,{"$f":"IF(E74=\"\",\"\",VLOOKUP(E74,Sheet2!$C$3:$D$645,2,FALSE))","v":""}]

{"sheet":"小６女子形","index":11,"n_rows":73,"n_cols":12,"rows_kept":73,"cut":false,"hidden":false,"merged":[[3,6,3,11],[4,2,5,2],[4,3,5,3],[4,5,5,5],[6,2,7,2],[6,3,7,3],[6,5,7,5],[8,2,9,2],[8,3,9,3],[8,5,9,5],[10,2,11,2],[10,3,11,3],[10,5,11,5],[12,2,13,2],[12,3,13,3],[12,5,13,5],[14,2,15,2],[14,3,15,3],[14,5,15,5],[16,2,17,2],[16,3,17,3],[16,5,17,5],[18,2,19,2],[18,3,19,3],[18,5,19,5],[20,2,21,2],[20,3,21,3],[20,5,21,5],[22,2,23,2],[22,3,23,3],[22,5,23,5],[24,2,25,2],[24,3,25,3],[24,5,25,5],[26,2,27,2],[26,3,27,3],[26,5,27,5],[28,2,29,2],[28,3,29,3],[28,5,29,5],[30,2,31,2],[30,3,31,3],[30,5,31,5],[32,2,33,2],[32,3,33,3],[32,5,33,5],[34,2,35,2],[34,3,35,3],[34,5,35,5],[36,2,37,2],[36,3,37,3],[36,5,37,5],[38,2,39,2],[38,3,39,3],[38,5,39,5],[40,2,41,2],[40,3,41,3],[40,5,41,5],[42,2,43,2],[42,3,43,3],[42,5,43,5],[44,2,45,2],[44,3,45,3],[44,5,45,5],[46,2,47,2],[46,3,47,3],[46,5,47,5],[48,2,49,2],[48,3,49,3],[48,5,49,5],[50,2,51,2],[50,3,51,3],[50,5,51,5],[52,2,53,2],[52,3,53,3],[52,5,53,5],[54,2,55,2],[54,3,55,3],[54,5,55,5],[56,2,57,2],[56,3,57,3],[56,5,57,5],[58,2,59,2],[58,3,59,3],[58,5,59,5],[60,2,61,2],[60,3,61,3],[60,5,61,5],[62,2,63,2],[62,3,63,3],[62,5,63,5],[68,2,69,2],[68,3,69,3],[68,5,69,5],[64,2,65,2],[64,3,65,3],[64,5,65,5],[66,2,67,2],[66,3,67,3],[66,5,67,5]]}
[null,null,null,null,null,null,null,null,null,null,null,"　　"]
[null,null,null,null,null,null,null,null,null,null,null,"　　"]
[null,null,null,null,null,"県",null,null,null,null,null,"　　"]
[null,null,null,"小学6年女子形",null,"沖　縄","県を選択すると県名が黄色になります。"]
[null,null,null,1,{"$f":"IF(E6=\"\",\"\",VLOOKUP(E6,Sheet2!$C$3:$D$645,2,FALSE))","v":"なかもと　あかり"},"沖　縄"]
[null,null,null,null,"仲本　明香里",null,null,"2-1"]
[null,null,null,2,{"$f":"IF(E8=\"\",\"\",VLOOKUP(E8,Sheet2!$C$3:$D$645,2,FALSE))","v":"みなみざわ　のあ"},"宮　崎"]
[null,null,null,null,"南沢　乃愛",null,"1-1"]
[null,null,null,3,{"$f":"IF(E10=\"\",\"\",VLOOKUP(E10,Sheet2!$C$3:$D$645,2,FALSE))","v":"ささき　ななみ"},"福　岡",null,null,"3-1"]
[null,null,null,null,"佐々木　七海"]
[null,null,null,4,{"$f":"IF(E12=\"\",\"\",VLOOKUP(E12,Sheet2!$C$3:$D$645,2,FALSE))","v":"もり　まなみ"},"大　分"]
[null,null,null,null,"森　愛海",null,null,"2-2"]
[null,null,null,5,{"$f":"IF(E14=\"\",\"\",VLOOKUP(E14,Sheet2!$C$3:$D$645,2,FALSE))","v":"あらき　りおな"},"熊　本",null,null,null,"4-1"]
[null,null,null,null,"荒木　里央奈"]
[null,null,null,6,{"$f":"IF(E16=\"\",\"\",VLOOKUP(E16,Sheet2!$C$3:$D$645,2,FALSE))","v":"なかむら　さいら"},"長　崎"]
[null,null,null,null,"中村　彩蘭",null,null,"2-3"]
[null,null,null,7,{"$f":"IF(E18=\"\",\"\",VLOOKUP(E18,Sheet2!$C$3:$D$645,2,FALSE))","v":"ひさの　りん"},"佐　賀"]
[null,null,null,null,"久野　凛",null,null,null,"3-2"]
[null,null,null,8,{"$f":"IF(E20=\"\",\"\",VLOOKUP(E20,Sheet2!$C$3:$D$645,2,FALSE))","v":"ありさこ　はな"},"鹿児島"]
[null,null,null,null,"有迫　花菜",null,null,"2-4"]
[null,null,null,9,{"$f":"IF(E22=\"\",\"\",VLOOKUP(E22,Sheet2!$C$3:$D$645,2,FALSE))","v":"かわの　あいこ"},"宮　崎",null,null,null,null,"5-1"]
[null,null,null,null,"河野　愛子"]
[null,null,null,10,{"$f":"IF(E24=\"\",\"\",VLOOKUP(E24,Sheet2!$C$3:$D$645,2,FALSE))","v":"もうり　みこ"},"福　岡"]
[null,null,null,null,"毛利　美胡",null,null,"2-5"]
[null,null,null,11,{"$f":"IF(E26=\"\",\"\",VLOOKUP(E26,Sheet2!$C$3:$D$645,2,FALSE))","v":"やまなか　さや"},"熊　本"]
[null,null,null,null,"山中　紗夜",null,null,null,"3-3"]
[null,null,null,12,{"$f":"IF(E28=\"\",\"\",VLOOKUP(E28,Sheet2!$C$3:$D$645,2,FALSE))","v":"いとす　みゆ"},"沖　縄"]
[null,null,null,null,"糸洲　心結",null,null,"2-6"]
[null,null,null,13,{"$f":"IF(E30=\"\",\"\",VLOOKUP(E30,Sheet2!$C$3:$D$645,2,FALSE))","v":"みぞた　ゆうの"},"長　崎"]
[null,null,null,null,"溝田　悠乃",null,null,null,null,"4-2"]
[null,null,null,14,{"$f":"IF(E32=\"\",\"\",VLOOKUP(E32,Sheet2!$C$3:$D$645,2,FALSE))","v":"はしもと　かこ"},"大　分"]
[null,null,null,null,"橋本　佳来",null,null,"2-7"]
[null,null,null,15,{"$f":"IF(E34=\"\",\"\",VLOOKUP(E34,Sheet2!$C$3:$D$645,2,FALSE))","v":"たなか　くう"},"鹿児島"]
[null,null,null,null,"田中　空",null,null,null,"3-4"]
[null,null,null,16,{"$f":"IF(E36=\"\",\"\",VLOOKUP(E36,Sheet2!$C$3:$D$645,2,FALSE))","v":"おがた　あいみ"},"佐　賀"]
[null,null,null,null,"小形　愛実",null,null,"2-8"]
[null,null,null,17,{"$f":"IF(E38=\"\",\"\",VLOOKUP(E38,Sheet2!$C$3:$D$645,2,FALSE))","v":"いわきり　くれない"},"宮　崎",null,null,null,null,null,"6-1"]
[null,null,null,null,"岩切　紅"]
[null,null,null,18,{"$f":"IF(E40=\"\",\"\",VLOOKUP(E40,Sheet2!$C$3:$D$645,2,FALSE))","v":"なかむら　もみじ"},"熊　本"]
[null,null,null,null,"中村　紅葉",null,null,"2-9"]
[null,null,null,19,{"$f":"IF(E42=\"\",\"\",VLOOKUP(E42,Sheet2!$C$3:$D$645,2,FALSE))","v":"かなと　あいり"},"大　分"]
[null,null,null,null,"金戸　藍璃",null,null,null,"3-5"]
[null,null,null,20,{"$f":"IF(E44=\"\",\"\",VLOOKUP(E44,Sheet2!$C$3:$D$645,2,FALSE))","v":"ふじわら　やよい"},"宮　崎"]
[null,null,null,null,"藤原　弥生",null,null,"2-10"]
[null,null,null,21,{"$f":"IF(E46=\"\",\"\",VLOOKUP(E46,Sheet2!$C$3:$D$645,2,FALSE))","v":"ひがしなかがわ　りさ"},"鹿児島"]
[null,null,null,null,"東中川　莉彩",null,null,null,null,"4-3"]
[null,null,null,22,{"$f":"IF(E48=\"\",\"\",VLOOKUP(E48,Sheet2!$C$3:$D$645,2,FALSE))","v":"まつおか　ちひろ"},"宮　崎"]
[null,null,null,null,"松岡　知優",null,null,"2-11"]
[null,null,null,23,{"$f":"IF(E50=\"\",\"\",VLOOKUP(E50,Sheet2!$C$3:$D$645,2,FALSE))","v":"みやぎ　しいな"},"沖　縄"]
[null,null,null,null,"宮城　志菜",null,null,null,"3-6"]
[null,null,null,24,{"$f":"IF(E52=\"\",\"\",VLOOKUP(E52,Sheet2!$C$3:$D$645,2,FALSE))","v":"ありよし　ひなの"},"福　岡"]
[null,null,null,null,"有吉　陽音",null,null,"2-12"]
[null,null,null,25,{"$f":"IF(E54=\"\",\"\",VLOOKUP(E54,Sheet2!$C$3:$D$645,2,FALSE))","v":"こじま　さえ"},"佐　賀"]
[null,null,null,null,"小島　彩瑛",null,null,null,null,null,"5-2"]
[null,null,null,26,{"$f":"IF(E56=\"\",\"\",VLOOKUP(E56,Sheet2!$C$3:$D$645,2,FALSE))","v":"さとう　ひゆ"},"大　分"]
[null,null,null,null,"佐藤　姫優",null,null,"2-13"]
[null,null,null,27,{"$f":"IF(E58=\"\",\"\",VLOOKUP(E58,Sheet2!$C$3:$D$645,2,FALSE))","v":"きんじょう　ともか"},"沖　縄"]
[null,null,null,null,"金城　朋花",null,null,null,"3-7"]
[null,null,null,28,{"$f":"IF(E60=\"\",\"\",VLOOKUP(E60,Sheet2!$C$3:$D$645,2,FALSE))","v":"かわじ　にこ"},"宮　崎"]
[null,null,null,null,"川路　仁幸",null,null,"2-14"]
[null,null,null,29,{"$f":"IF(E62=\"\",\"\",VLOOKUP(E62,Sheet2!$C$3:$D$645,2,FALSE))","v":"よしむら　ここな"},"長　崎"]
[null,null,null,null,"吉村　心愛",null,null,null,null,"4-4"]
[null,null,null,30,{"$f":"IF(E64=\"\",\"\",VLOOKUP(E64,Sheet2!$C$3:$D$645,2,FALSE))","v":"しばた　りな"},"熊　本"]
[null,null,null,null,"柴田　莉奈",null,null,"2-15"]
[null,null,null,31,{"$f":"IF(E66=\"\",\"\",VLOOKUP(E66,Sheet2!$C$3:$D$645,2,FALSE))","v":"もりさき　はるな"},"佐　賀"]
[null,null,null,null,"森﨑　陽菜",null,null,null,"3-8"]
[null,null,null,32,{"$f":"IF(E68=\"\",\"\",VLOOKUP(E68,Sheet2!$C$3:$D$645,2,FALSE))","v":"かい　みづき"},"福　岡"]
[null,null,null,null,"甲斐　美月",null,null,"2-16"]
[null,null,null,33,{"$f":"IF(E70=\"\",\"\",VLOOKUP(E70,Sheet2!$C$3:$D$645,2,FALSE))","v":"ひご　ことね"},"鹿児島"]
[null,null,null,null,"肥後　ことね"]
[null,null,null,null,{"$f":"IF(E72=\"\",\"\",VLOOKUP(E72,Sheet2!$C$3:$D$645,2,FALSE))","v":""}]
[]
[null,null,null,null,{"$f":"IF(E74=\"\",\"\",VLOOKUP(E74,Sheet2!$C$3:$D$645,2,FALSE))","v":""}]

{"sheet":"小１男子組手","index":12,"n_rows":73,"n_cols":12,"rows_kept":73,"cut":false,"hidden":false,"merged":[[3,6,3,11],[4,2,5,2],[4,3,5,3],[4,5,5,5],[6,2,7,2],[6,3,7,3],[6,5,7,5],[8,2,9,2],[8,3,9,3],[8,5,9,5],[10,2,11,2],[10,3,11,3],[10,5,11,5],[12,2,13,2],[12,3,13,3],[12,5,13,5],[14,2,15,2],[14,3,15,3],[14,5,15,5],[16,2,17,2],[16,3,17,3],[16,5,17,5],[18,2,19,2],[18,3,19,3],[18,5,19,5],[20,2,21,2],[20,3,21,3],[20,5,21,5],[22,2,23,2],[22,3,23,3],[22,5,23,5],[24,2,25,2],[24,3,25,3],[24,5,25,5],[26,2,27,2],[26,3,27,3],[26,5,27,5],[28,2,29,2],[28,3,29,3],[28,5,29,5],[30,2,31,2],[30,3,31,3],[30,5,31,5],[32,2,33,2],[32,3,33,3],[32,5,33,5],[34,2,35,2],[34,3,35,3],[34,5,35,5],[36,2,37,2],[36,3,37,3],[36,5,37,5],[38,2,39,2],[38,3,39,3],[38,5,39,5],[40,2,41,2],[40,3,41,3],[40,5,41,5],[42,2,43,2],[42,3,43,3],[42,5,43,5],[44,2,45,2],[44,3,45,3],[44,5,45,5],[46,2,47,2],[46,3,47,3],[46,5,47,5],[48,2,49,2],[48,3,49,3],[48,5,49,5],[50,2,51,2],[50,3,51,3],[50,5,51,5],[52,2,53,2],[52,3,53,3],[52,5,53,5],[54,2,55,2],[54,3,55,3],[54,5,55,5],[56,2,57,2],[56,3,57,3],[56,5,57,5],[58,2,59,2],[58,3,59,3],[58,5,59,5]]}
[null,null,null,null,null,null,null,null,null,null,null,"　　"]
[null,null,null,null,null,null,null,null,null,null,null,"　　"]
[null,null,null,null,null,"県",null,null,null,null,null,"　　"]
[null,null,null,"小学１年男子組手",null,"沖　縄","県を選択すると県名が黄色になります。"]
[null,null,null,1,{"$f":"IF(E6=\"\",\"\",VLOOKUP(E6,Sheet2!$C$3:$D$645,2,FALSE))","v":"かきもと　えいじ"},"鹿児島"]
[null,null,null,null,"柿元　瑛次",null,null,"2-1"]
[null,null,null,2,{"$f":"IF(E8=\"\",\"\",VLOOKUP(E8,Sheet2!$C$3:$D$645,2,FALSE))","v":"なりあい　みなと"},"宮　崎"]
[null,null,null,null,"成合　優斗",null,"1-1"]
[null,null,null,3,{"$f":"IF(E10=\"\",\"\",VLOOKUP(E10,Sheet2!$C$3:$D$645,2,FALSE))","v":"かしわら　せいま"},"福　岡"]
[null,null,null,null,"柏原  誠摩",null,null,null,"3-1"]
[null,null,null,4,{"$f":"IF(E12=\"\",\"\",VLOOKUP(E12,Sheet2!$C$3:$D$645,2,FALSE))","v":"いけだ　ゆうり"},"宮　崎"]
[null,null,null,null,"池田　結琉",null,"1-2"]
[null,null,null,5,{"$f":"IF(E14=\"\",\"\",VLOOKUP(E14,Sheet2!$C$3:$D$645,2,FALSE))","v":"まつお　いおり"},"大　分"]
[null,null,null,null,"松尾　伊織",null,null,"2-2"]
[null,null,null,6,{"$f":"IF(E16=\"\",\"\",VLOOKUP(E16,Sheet2!$C$3:$D$645,2,FALSE))","v":"さくま　りゅう"},"沖　縄"]
[null,null,null,null,"佐久眞　琉",null,"1-3"]
[null,null,null,7,{"$f":"IF(E18=\"\",\"\",VLOOKUP(E18,Sheet2!$C$3:$D$645,2,FALSE))","v":"くまべ　けい"},"熊　本"]
[null,null,null,null,"隈部　慶",null,null,null,null,"4-1"]
[null,null,null,8,{"$f":"IF(E20=\"\",\"\",VLOOKUP(E20,Sheet2!$C$3:$D$645,2,FALSE))","v":"こやなぎ　こうせい"},"佐　賀"]
[null,null,null,null,"小栁　光生",null,"1-4"]
[null,null,null,9,{"$f":"IF(E22=\"\",\"\",VLOOKUP(E22,Sheet2!$C$3:$D$645,2,FALSE))","v":"みなみ　かい"},"宮　崎"]
[null,null,null,null,"南　快",null,null,"2-3"]
[null,null,null,10,{"$f":"IF(E24=\"\",\"\",VLOOKUP(E24,Sheet2!$C$3:$D$645,2,FALSE))","v":"まつした こうき"},"熊　本"]
[null,null,null,null,"松下 倖喜",null,"1-5"]
[null,null,null,11,{"$f":"IF(E26=\"\",\"\",VLOOKUP(E26,Sheet2!$C$3:$D$645,2,FALSE))","v":"きんじょう　ゆめと"},"沖　縄"]
[null,null,null,null,"金城　夢翔",null,null,null,"3-2"]
[null,null,null,12,{"$f":"IF(E28=\"\",\"\",VLOOKUP(E28,Sheet2!$C$3:$D$645,2,FALSE))","v":"おおた　ゆうせい"},"大　分"]
[null,null,null,null,"大田　侑生",null,"1-6"]
[null,null,null,13,{"$f":"IF(E30=\"\",\"\",VLOOKUP(E30,Sheet2!$C$3:$D$645,2,FALSE))","v":"つるみず　かんた"},"鹿児島"]
[null,null,null,null,"鶴水　寛大",null,null,"2-4"]
[null,null,null,14,{"$f":"IF(E32=\"\",\"\",VLOOKUP(E32,Sheet2!$C$3:$D$645,2,FALSE))","v":"もり　れんし"},"福　岡"]
[null,null,null,null,"森　蓮志",null,null,null,null,null,"5-1"]
[null,null,null,15,{"$f":"IF(E34=\"\",\"\",VLOOKUP(E34,Sheet2!$C$3:$D$645,2,FALSE))","v":"かわばた　はるき"},"宮　崎"]
[null,null,null,null,"川畑　天輝",null,null,"2-5"]
[null,null,null,16,{"$f":"IF(E36=\"\",\"\",VLOOKUP(E36,Sheet2!$C$3:$D$645,2,FALSE))","v":"うちかわ　りゅうき"},"佐　賀"]
[null,null,null,null,"内川　琉暉",null,"1-7"]
[null,null,null,17,{"$f":"IF(E38=\"\",\"\",VLOOKUP(E38,Sheet2!$C$3:$D$645,2,FALSE))","v":"えとう　しおん"},"熊　本"]
[null,null,null,null,"江藤　獅恩",null,null,null,"3-3"]
[null,null,null,18,{"$f":"IF(E40=\"\",\"\",VLOOKUP(E40,Sheet2!$C$3:$D$645,2,FALSE))","v":"さかた　こうよう"},"福　岡"]
[null,null,null,null,"坂田　光遥",null,"1-8"]
[null,null,null,19,{"$f":"IF(E42=\"\",\"\",VLOOKUP(E42,Sheet2!$C$3:$D$645,2,FALSE))","v":"つかさ　しんぎ"},"鹿児島"]
[null,null,null,null,"政　真義",null,null,"2-6"]
[null,null,null,20,{"$f":"IF(E44=\"\",\"\",VLOOKUP(E44,Sheet2!$C$3:$D$645,2,FALSE))","v":"うえはら　じょう"},"沖　縄"]
[null,null,null,null,"上原　丞生",null,"1-9"]
[null,null,null,21,{"$f":"IF(E46=\"\",\"\",VLOOKUP(E46,Sheet2!$C$3:$D$645,2,FALSE))","v":"あない　こうし"},"大　分"]
[null,null,null,null,"穴井　煌士",null,null,null,null,"4-2"]
[null,null,null,22,{"$f":"IF(E48=\"\",\"\",VLOOKUP(E48,Sheet2!$C$3:$D$645,2,FALSE))","v":"うえだ　ゆうしろう"},"沖　縄"]
[null,null,null,null,"上田　悠士郎",null,"1-10"]
[null,null,null,23,{"$f":"IF(E50=\"\",\"\",VLOOKUP(E50,Sheet2!$C$3:$D$645,2,FALSE))","v":"しろやま　けんしん"},"宮　崎"]
[null,null,null,null,"白山　剣紳",null,null,"2-7"]
[null,null,null,24,{"$f":"IF(E52=\"\",\"\",VLOOKUP(E52,Sheet2!$C$3:$D$645,2,FALSE))","v":"おの　そうじろう"},"大　分"]
[null,null,null,null,"小野　蒼二朗",null,"1-11"]
[null,null,null,25,{"$f":"IF(E54=\"\",\"\",VLOOKUP(E54,Sheet2!$C$3:$D$645,2,FALSE))","v":"あべ　りょうた"},"鹿児島"]
[null,null,null,null,"阿部　亮汰",null,null,null,"3-4"]
[null,null,null,26,{"$f":"IF(E56=\"\",\"\",VLOOKUP(E56,Sheet2!$C$3:$D$645,2,FALSE))","v":"わかまつ　こうき"},"福　岡"]
[null,null,null,null,"若松  宏紀",null,"1-12"]
[null,null,null,27,{"$f":"IF(E58=\"\",\"\",VLOOKUP(E58,Sheet2!$C$3:$D$645,2,FALSE))","v":"こんどう　おうり"},"宮　崎"]
[null,null,null,null,"近藤　凰琳",null,null,"2-8"]
[null,null,null,28,{"$f":"IF(E60=\"\",\"\",VLOOKUP(E60,Sheet2!$C$3:$D$645,2,FALSE))","v":"とみおか　るいと"},"熊　本"]
[null,null,null,null,"富岡　光翔"]
[null,null,null,null,{"$f":"IF(E62=\"\",\"\",VLOOKUP(E62,Sheet2!$C$3:$D$645,2,FALSE))","v":""}]
[]
[null,null,null,null,{"$f":"IF(E64=\"\",\"\",VLOOKUP(E64,Sheet2!$C$3:$D$645,2,FALSE))","v":""}]
[]
[null,null,null,null,{"$f":"IF(E66=\"\",\"\",VLOOKUP(E66,Sheet2!$C$3:$D$645,2,FALSE))","v":""}]
[]
[null,null,null,null,{"$f":"IF(E68=\"\",\"\",VLOOKUP(E68,Sheet2!$C$3:$D$645,2,FALSE))","v":""}]
[]
[null,null,null,null,{"$f":"IF(E70=\"\",\"\",VLOOKUP(E70,Sheet2!$C$3:$D$645,2,FALSE))","v":""}]
[]
[null,null,null,null,{"$f":"IF(E72=\"\",\"\",VLOOKUP(E72,Sheet2!$C$3:$D$645,2,FALSE))","v":""}]
[]
[null,null,null,null,{"$f":"IF(E74=\"\",\"\",VLOOKUP(E74,Sheet2!$C$3:$D$645,2,FALSE))","v":""}]

{"sheet":"小２男子組手","index":13,"n_rows":73,"n_cols":12,"rows_kept":73,"cut":false,"hidden":false,"merged":[[3,6,3,11],[4,2,5,2],[4,3,5,3],[4,5,5,5],[6,2,7,2],[6,3,7,3],[6,5,7,5],[8,2,9,2],[8,3,9,3],[8,5,9,5],[10,2,11,2],[10,3,11,3],[10,5,11,5],[12,2,13,2],[12,3,13,3],[12,5,13,5],[14,2,15,2],[14,3,15,3],[14,5,15,5],[16,2,17,2],[16,3,17,3],[16,5,17,5],[18,2,19,2],[18,3,19,3],[18,5,19,5],[20,2,21,2],[20,3,21,3],[20,5,21,5],[22,2,23,2],[22,3,23,3],[22,5,23,5],[24,2,25,2],[24,3,25,3],[24,5,25,5],[26,2,27,2],[26,3,27,3],[26,5,27,5],[28,2,29,2],[28,3,29,3],[28,5,29,5],[30,2,31,2],[30,3,31,3],[30,5,31,5],[32,2,33,2],[32,3,33,3],[32,5,33,5],[34,2,35,2],[34,3,35,3],[34,5,35,5],[36,2,37,2],[36,3,37,3],[36,5,37,5],[38,2,39,2],[38,3,39,3],[38,5,39,5],[40,2,41,2],[40,3,41,3],[40,5,41,5],[42,2,43,2],[42,3,43,3],[42,5,43,5],[44,2,45,2],[44,3,45,3],[44,5,45,5],[46,2,47,2],[46,3,47,3],[46,5,47,5],[48,2,49,2],[48,3,49,3],[48,5,49,5],[50,2,51,2],[50,3,51,3],[50,5,51,5],[52,2,53,2],[52,3,53,3],[52,5,53,5],[54,2,55,2],[54,3,55,3],[54,5,55,5],[60,2,61,2],[60,3,61,3],[60,5,61,5],[56,2,57,2],[56,3,57,3],[56,5,57,5],[58,2,59,2],[58,3,59,3],[58,5,59,5]]}
[null,null,null,null,null,null,null,null,null,null,null,"　　"]
[null,null,null,null,null,null,null,null,null,null,null,"　　"]
[null,null,null,null,null,"県",null,null,null,null,null,"　　"]
[null,null,null,"小学２年男子組手",null,"沖　縄","県を選択すると県名が黄色になります。"]
[null,null,null,1,{"$f":"IF(E6=\"\",\"\",VLOOKUP(E6,Sheet2!$C$3:$D$645,2,FALSE))","v":"みき　れいしん"},"熊　本"]
[null,null,null,null,"神酒　怜心",null,null,"2-1"]
[null,null,null,2,{"$f":"IF(E8=\"\",\"\",VLOOKUP(E8,Sheet2!$C$3:$D$645,2,FALSE))","v":"さとう　こうた"},"大　分"]
[null,null,null,null,"佐藤　洸太",null,"1-1"]
[null,null,null,3,{"$f":"IF(E10=\"\",\"\",VLOOKUP(E10,Sheet2!$C$3:$D$645,2,FALSE))","v":"やの　ことら"},"鹿児島"]
[null,null,null,null,"矢野　琥斗良",null,null,null,"3-1"]
[null,null,null,4,{"$f":"IF(E12=\"\",\"\",VLOOKUP(E12,Sheet2!$C$3:$D$645,2,FALSE))","v":"ひろせ　やまと"},"福　岡"]
[null,null,null,null,"廣瀬　倭",null,"1-2"]
[null,null,null,5,{"$f":"IF(E14=\"\",\"\",VLOOKUP(E14,Sheet2!$C$3:$D$645,2,FALSE))","v":"はたの　かずし"},"沖　縄"]
[null,null,null,null,"波多野　和司",null,null,"2-2"]
[null,null,null,6,{"$f":"IF(E16=\"\",\"\",VLOOKUP(E16,Sheet2!$C$3:$D$645,2,FALSE))","v":"かわはら　そうま"},"佐　賀"]
[null,null,null,null,"川原　颯馬",null,"1-3"]
[null,null,null,7,{"$f":"IF(E18=\"\",\"\",VLOOKUP(E18,Sheet2!$C$3:$D$645,2,FALSE))","v":"かわじ　こうわ"},"宮　崎"]
[null,null,null,null,"川路　幸和",null,null,null,null,"4-1"]
[null,null,null,8,{"$f":"IF(E20=\"\",\"\",VLOOKUP(E20,Sheet2!$C$3:$D$645,2,FALSE))","v":"あかみね　けんしん"},"沖　縄"]
[null,null,null,null,"赤嶺　憲芯",null,"1-4"]
[null,null,null,9,{"$f":"IF(E22=\"\",\"\",VLOOKUP(E22,Sheet2!$C$3:$D$645,2,FALSE))","v":"しまだ　かいと"},"熊　本"]
[null,null,null,null,"嶋田　海斗",null,null,"2-3"]
[null,null,null,10,{"$f":"IF(E24=\"\",\"\",VLOOKUP(E24,Sheet2!$C$3:$D$645,2,FALSE))","v":"あべ　こうすけ"},"鹿児島"]
[null,null,null,null,"阿部　孝祐",null,"1-5"]
[null,null,null,11,{"$f":"IF(E26=\"\",\"\",VLOOKUP(E26,Sheet2!$C$3:$D$645,2,FALSE))","v":"ほりぐち　はるま"},"宮　崎"]
[null,null,null,null,"堀口　暖馬",null,null,null,"3-2"]
[null,null,null,12,{"$f":"IF(E28=\"\",\"\",VLOOKUP(E28,Sheet2!$C$3:$D$645,2,FALSE))","v":"なかの　ほたか"},"佐　賀"]
[null,null,null,null,"中野　帆尊",null,"1-6"]
[null,null,null,13,{"$f":"IF(E30=\"\",\"\",VLOOKUP(E30,Sheet2!$C$3:$D$645,2,FALSE))","v":"のぐち　らいと"},"宮　崎"]
[null,null,null,null,"野口　來翔",null,null,"2-4"]
[null,null,null,14,{"$f":"IF(E32=\"\",\"\",VLOOKUP(E32,Sheet2!$C$3:$D$645,2,FALSE))","v":"いわの　らいぞう"},"福　岡"]
[null,null,null,null,"岩野　雷三",null,"1-7"]
[null,null,null,15,{"$f":"IF(E34=\"\",\"\",VLOOKUP(E34,Sheet2!$C$3:$D$645,2,FALSE))","v":"みねふじ　はる"},"大　分",null,null,null,null,"5-1"]
[null,null,null,null,"峰藤　遥"]
[null,null,null,16,{"$f":"IF(E36=\"\",\"\",VLOOKUP(E36,Sheet2!$C$3:$D$645,2,FALSE))","v":"とうぼう　あらた"},"福　岡"]
[null,null,null,null,"東房　新",null,null,"2-5"]
[null,null,null,17,{"$f":"IF(E38=\"\",\"\",VLOOKUP(E38,Sheet2!$C$3:$D$645,2,FALSE))","v":"せらだ　ゆうすけ"},"宮　崎"]
[null,null,null,null,"世良田　悠介",null,"1-8"]
[null,null,null,18,{"$f":"IF(E40=\"\",\"\",VLOOKUP(E40,Sheet2!$C$3:$D$645,2,FALSE))","v":"しんじょう　とらじろう"},"沖　縄"]
[null,null,null,null,"新城　虎治郎",null,null,null,"3-3"]
[null,null,null,19,{"$f":"IF(E42=\"\",\"\",VLOOKUP(E42,Sheet2!$C$3:$D$645,2,FALSE))","v":"こかじ　けいた"},"大　分"]
[null,null,null,null,"古梶　景大",null,"1-9"]
[null,null,null,20,{"$f":"IF(E44=\"\",\"\",VLOOKUP(E44,Sheet2!$C$3:$D$645,2,FALSE))","v":"はやし　まひろ"},"熊　本"]
[null,null,null,null,"林　眞大",null,null,"2-6"]
[null,null,null,21,{"$f":"IF(E46=\"\",\"\",VLOOKUP(E46,Sheet2!$C$3:$D$645,2,FALSE))","v":"なかはら　ゆうせい"},"宮　崎"]
[null,null,null,null,"中原　優晴",null,"1-10"]
[null,null,null,22,{"$f":"IF(E48=\"\",\"\",VLOOKUP(E48,Sheet2!$C$3:$D$645,2,FALSE))","v":"ほうやま　るいと"},"鹿児島"]
[null,null,null,null,"寶山　琉斗",null,null,null,null,"4-2"]
[null,null,null,23,{"$f":"IF(E50=\"\",\"\",VLOOKUP(E50,Sheet2!$C$3:$D$645,2,FALSE))","v":"たずのき　まさひろ"},"佐　賀"]
[null,null,null,null,"尋木　雅弘",null,"1-11"]
[null,null,null,24,{"$f":"IF(E52=\"\",\"\",VLOOKUP(E52,Sheet2!$C$3:$D$645,2,FALSE))","v":"さとう　りゅうき"},"大　分"]
[null,null,null,null,"佐藤　龍希",null,null,"2-7"]
[null,null,null,25,{"$f":"IF(E54=\"\",\"\",VLOOKUP(E54,Sheet2!$C$3:$D$645,2,FALSE))","v":"こが　あおば"},"福　岡"]
[null,null,null,null,"古賀　碧波",null,"1-12"]
[null,null,null,26,{"$f":"IF(E56=\"\",\"\",VLOOKUP(E56,Sheet2!$C$3:$D$645,2,FALSE))","v":"おおしろ　きよりき"},"沖　縄"]
[null,null,null,null,"大城　清力",null,null,null,"3-4"]
[null,null,null,27,{"$f":"IF(E58=\"\",\"\",VLOOKUP(E58,Sheet2!$C$3:$D$645,2,FALSE))","v":"うえのはら　ももすけ"},"鹿児島"]
[null,null,null,null,"上之原　百助",null,"1-13"]
[null,null,null,28,{"$f":"IF(E60=\"\",\"\",VLOOKUP(E60,Sheet2!$C$3:$D$645,2,FALSE))","v":"しらさき　こうた"},"熊　本"]
[null,null,null,null,"白﨑　倖太",null,null,"2-8"]
[null,null,null,29,{"$f":"IF(E62=\"\",\"\",VLOOKUP(E62,Sheet2!$C$3:$D$645,2,FALSE))","v":"たかまつ　える"},"宮　崎"]
[null,null,null,null,"高松　英留"]
[null,null,null,null,{"$f":"IF(E64=\"\",\"\",VLOOKUP(E64,Sheet2!$C$3:$D$645,2,FALSE))","v":""}]
[]
[null,null,null,null,{"$f":"IF(E66=\"\",\"\",VLOOKUP(E66,Sheet2!$C$3:$D$645,2,FALSE))","v":""}]
[]
[null,null,null,null,{"$f":"IF(E68=\"\",\"\",VLOOKUP(E68,Sheet2!$C$3:$D$645,2,FALSE))","v":""}]
[]
[null,null,null,null,{"$f":"IF(E70=\"\",\"\",VLOOKUP(E70,Sheet2!$C$3:$D$645,2,FALSE))","v":""}]
[]
[null,null,null,null,{"$f":"IF(E72=\"\",\"\",VLOOKUP(E72,Sheet2!$C$3:$D$645,2,FALSE))","v":""}]
[]
[null,null,null,null,{"$f":"IF(E74=\"\",\"\",VLOOKUP(E74,Sheet2!$C$3:$D$645,2,FALSE))","v":""}]

{"sheet":"小３男子組手","index":14,"n_rows":73,"n_cols":12,"rows_kept":73,"cut":false,"hidden":false,"merged":[[3,6,3,11],[4,2,5,2],[4,3,5,3],[4,5,5,5],[6,2,7,2],[6,3,7,3],[6,5,7,5],[8,2,9,2],[8,3,9,3],[8,5,9,5],[10,2,11,2],[10,3,11,3],[10,5,11,5],[12,2,13,2],[12,3,13,3],[12,5,13,5],[14,2,15,2],[14,3,15,3],[14,5,15,5],[16,2,17,2],[16,3,17,3],[16,5,17,5],[18,2,19,2],[18,3,19,3],[18,5,19,5],[20,2,21,2],[20,3,21,3],[20,5,21,5],[22,2,23,2],[22,3,23,3],[22,5,23,5],[24,2,25,2],[24,3,25,3],[24,5,25,5],[26,2,27,2],[26,3,27,3],[26,5,27,5],[28,2,29,2],[28,3,29,3],[28,5,29,5],[30,2,31,2],[30,3,31,3],[30,5,31,5],[32,2,33,2],[32,3,33,3],[32,5,33,5],[34,2,35,2],[34,3,35,3],[34,5,35,5],[36,2,37,2],[36,3,37,3],[36,5,37,5],[38,2,39,2],[38,3,39,3],[38,5,39,5],[40,2,41,2],[40,3,41,3],[40,5,41,5],[42,2,43,2],[42,3,43,3],[42,5,43,5],[44,2,45,2],[44,3,45,3],[44,5,45,5],[46,2,47,2],[46,3,47,3],[46,5,47,5],[48,2,49,2],[48,3,49,3],[48,5,49,5],[50,2,51,2],[50,3,51,3],[50,5,51,5],[52,2,53,2],[52,3,53,3],[52,5,53,5],[54,2,55,2],[54,3,55,3],[54,5,55,5],[56,2,57,2],[56,3,57,3],[56,5,57,5],[58,2,59,2],[58,3,59,3],[58,5,59,5],[64,2,65,2],[64,3,65,3],[64,5,65,5],[60,2,61,2],[60,3,61,3],[60,5,61,5],[62,2,63,2],[62,3,63,3],[62,5,63,5]]}
[null,null,null,null,null,null,null,null,null,null,null,"　　"]
[null,null,null,null,null,null,null,null,null,null,null,"　　"]
[null,null,null,null,null,"県",null,null,null,null,null,"　　"]
[null,null,null,"小学男子組手",null,"沖　縄","県を選択すると県名が黄色になります。"]
[null,null,null,1,{"$f":"IF(E6=\"\",\"\",VLOOKUP(E6,Sheet2!$C$3:$D$645,2,FALSE))","v":"わだ　はると"},"宮　崎"]
[null,null,null,null,"和田　春人",null,null,"2-1"]
[null,null,null,2,{"$f":"IF(E8=\"\",\"\",VLOOKUP(E8,Sheet2!$C$3:$D$645,2,FALSE))","v":"ひが　さくたろう"},"沖　縄"]
[null,null,null,null,"比嘉　朔太郎",null,"1-1"]
[null,null,null,3,{"$f":"IF(E10=\"\",\"\",VLOOKUP(E10,Sheet2!$C$3:$D$645,2,FALSE))","v":"こうろき　えん"},"熊　本"]
[null,null,null,null,"興梠　縁",null,null,null,"3-1"]
[null,null,null,4,{"$f":"IF(E12=\"\",\"\",VLOOKUP(E12,Sheet2!$C$3:$D$645,2,FALSE))","v":"やまさき　りおん"},"福　岡"]
[null,null,null,null,"山崎　琉恩",null,"1-2"]
[null,null,null,5,{"$f":"IF(E14=\"\",\"\",VLOOKUP(E14,Sheet2!$C$3:$D$645,2,FALSE))","v":"おおたか　けいと"},"鹿児島"]
[null,null,null,null,"大高　圭登",null,null,"2-2"]
[null,null,null,6,{"$f":"IF(E16=\"\",\"\",VLOOKUP(E16,Sheet2!$C$3:$D$645,2,FALSE))","v":"いとう　しゅんたろう"},"大　分"]
[null,null,null,null,"伊東　舜太朗",null,"1-3"]
[null,null,null,7,{"$f":"IF(E18=\"\",\"\",VLOOKUP(E18,Sheet2!$C$3:$D$645,2,FALSE))","v":"しまもと　りゅうあ"},"佐　賀"]
[null,null,null,null,"嶋本　琉歩",null,null,null,null,"4-1"]
[null,null,null,8,{"$f":"IF(E20=\"\",\"\",VLOOKUP(E20,Sheet2!$C$3:$D$645,2,FALSE))","v":"てらだ　ゆうと"},"大　分"]
[null,null,null,null,"寺田　結登",null,"1-4"]
[null,null,null,9,{"$f":"IF(E22=\"\",\"\",VLOOKUP(E22,Sheet2!$C$3:$D$645,2,FALSE))","v":"くさはら　かける"},"鹿児島"]
[null,null,null,null,"草原　駆",null,null,"2-3"]
[null,null,null,10,{"$f":"IF(E24=\"\",\"\",VLOOKUP(E24,Sheet2!$C$3:$D$645,2,FALSE))","v":"つるた　しゅう"},"宮　崎"]
[null,null,null,null,"鶴田　柊",null,"1-5"]
[null,null,null,11,{"$f":"IF(E26=\"\",\"\",VLOOKUP(E26,Sheet2!$C$3:$D$645,2,FALSE))","v":"あしはら　はるま"},"熊　本"]
[null,null,null,null,"芦原　陽真",null,null,null,"3-2"]
[null,null,null,12,{"$f":"IF(E28=\"\",\"\",VLOOKUP(E28,Sheet2!$C$3:$D$645,2,FALSE))","v":"さかもと　れおま"},"福　岡"]
[null,null,null,null,"坂本　令旺真",null,"1-6"]
[null,null,null,13,{"$f":"IF(E30=\"\",\"\",VLOOKUP(E30,Sheet2!$C$3:$D$645,2,FALSE))","v":"たなか　わひろ"},"佐　賀"]
[null,null,null,null,"田中　和寛",null,null,"2-4"]
[null,null,null,14,{"$f":"IF(E32=\"\",\"\",VLOOKUP(E32,Sheet2!$C$3:$D$645,2,FALSE))","v":"やまもと　そうしん"},"宮　崎"]
[null,null,null,null,"山本　想真",null,"1-7"]
[null,null,null,15,{"$f":"IF(E34=\"\",\"\",VLOOKUP(E34,Sheet2!$C$3:$D$645,2,FALSE))","v":"ひらた　ゆうすけ"},"沖　縄"]
[null,null,null,null,"平田　裕典",null,null,null,null,null,"5-1"]
[null,null,null,16,{"$f":"IF(E36=\"\",\"\",VLOOKUP(E36,Sheet2!$C$3:$D$645,2,FALSE))","v":"おおぐし　かいむさふぃり"},"鹿児島"]
[null,null,null,null,"大串　海ムサフィリ",null,"1-8"]
[null,null,null,17,{"$f":"IF(E38=\"\",\"\",VLOOKUP(E38,Sheet2!$C$3:$D$645,2,FALSE))","v":"きんじょう　はやて"},"沖　縄"]
[null,null,null,null,"金城　颯",null,null,"2-5"]
[null,null,null,18,{"$f":"IF(E40=\"\",\"\",VLOOKUP(E40,Sheet2!$C$3:$D$645,2,FALSE))","v":"すえふじ　ひなた"},"熊　本"]
[null,null,null,null,"末藤　陽",null,"1-9"]
[null,null,null,19,{"$f":"IF(E42=\"\",\"\",VLOOKUP(E42,Sheet2!$C$3:$D$645,2,FALSE))","v":"つちや　きらと"},"宮　崎"]
[null,null,null,null,"土屋　輝人",null,null,null,"3-3"]
[null,null,null,20,{"$f":"IF(E44=\"\",\"\",VLOOKUP(E44,Sheet2!$C$3:$D$645,2,FALSE))","v":"なかしま　おおし"},"福　岡"]
[null,null,null,null,"中島　王志",null,"1-10"]
[null,null,null,21,{"$f":"IF(E46=\"\",\"\",VLOOKUP(E46,Sheet2!$C$3:$D$645,2,FALSE))","v":"かわばた　しょうや"},"宮　崎"]
[null,null,null,null,"川畑　翔也",null,null,"2-6"]
[null,null,null,22,{"$f":"IF(E48=\"\",\"\",VLOOKUP(E48,Sheet2!$C$3:$D$645,2,FALSE))","v":"つざき　せいな"},"大　分"]
[null,null,null,null,"津崎　星七",null,"1-11"]
[null,null,null,23,{"$f":"IF(E50=\"\",\"\",VLOOKUP(E50,Sheet2!$C$3:$D$645,2,FALSE))","v":"おの　たくと"},"佐　賀"]
[null,null,null,null,"小野　巧人",null,null,null,null,"4-2"]
[null,null,null,24,{"$f":"IF(E52=\"\",\"\",VLOOKUP(E52,Sheet2!$C$3:$D$645,2,FALSE))","v":"よしだ　るい"},"福　岡"]
[null,null,null,null,"吉田  琉唯",null,"1-12"]
[null,null,null,25,{"$f":"IF(E54=\"\",\"\",VLOOKUP(E54,Sheet2!$C$3:$D$645,2,FALSE))","v":"ありま　れんせい"},"宮　崎"]
[null,null,null,null,"有馬　蓮惺",null,null,"2-7"]
[null,null,null,26,{"$f":"IF(E56=\"\",\"\",VLOOKUP(E56,Sheet2!$C$3:$D$645,2,FALSE))","v":"なかはた　ともき"},"大　分"]
[null,null,null,null,"中畑 　友樹",null,"1-13"]
[null,null,null,27,{"$f":"IF(E58=\"\",\"\",VLOOKUP(E58,Sheet2!$C$3:$D$645,2,FALSE))","v":"ゆうもと　けんしん"},"鹿児島"]
[null,null,null,null,"勇元　謙信",null,null,null,"3-4"]
[null,null,null,28,{"$f":"IF(E60=\"\",\"\",VLOOKUP(E60,Sheet2!$C$3:$D$645,2,FALSE))","v":"うおみ　たつき"},"長　崎"]
[null,null,null,null,"魚見　龍稀",null,"1-14"]
[null,null,null,29,{"$f":"IF(E62=\"\",\"\",VLOOKUP(E62,Sheet2!$C$3:$D$645,2,FALSE))","v":"さかぐち　しゅんた"},"佐　賀"]
[null,null,null,null,"坂口　駿太",null,null,"2-8"]
[null,null,null,30,{"$f":"IF(E64=\"\",\"\",VLOOKUP(E64,Sheet2!$C$3:$D$645,2,FALSE))","v":"てるや　たいき"},"沖　縄"]
[null,null,null,null,"照屋　泰樹",null,"1-15"]
[null,null,null,31,{"$f":"IF(E66=\"\",\"\",VLOOKUP(E66,Sheet2!$C$3:$D$645,2,FALSE))","v":"たなか　りゅうせい"},"熊　本"]
[null,null,null,null,"田中　琉晴"]
[null,null,null,null,{"$f":"IF(E68=\"\",\"\",VLOOKUP(E68,Sheet2!$C$3:$D$645,2,FALSE))","v":""}]
[]
[null,null,null,null,{"$f":"IF(E70=\"\",\"\",VLOOKUP(E70,Sheet2!$C$3:$D$645,2,FALSE))","v":""}]
[]
[null,null,null,null,{"$f":"IF(E72=\"\",\"\",VLOOKUP(E72,Sheet2!$C$3:$D$645,2,FALSE))","v":""}]
[]
[null,null,null,null,{"$f":"IF(E74=\"\",\"\",VLOOKUP(E74,Sheet2!$C$3:$D$645,2,FALSE))","v":""}]

{"sheet":"小４男子組手","index":15,"n_rows":74,"n_cols":12,"rows_kept":74,"cut":false,"hidden":false,"merged":[[3,6,3,11],[8,2,9,2],[8,3,9,3],[8,5,9,5],[10,2,11,2],[10,3,11,3],[10,5,11,5],[4,2,5,2],[4,3,5,3],[4,5,5,5],[6,2,7,2],[6,3,7,3],[6,5,7,5],[16,2,17,2],[16,3,17,3],[16,5,17,5],[18,2,19,2],[18,3,19,3],[18,5,19,5],[12,2,13,2],[12,3,13,3],[12,5,13,5],[14,2,15,2],[14,3,15,3],[14,5,15,5],[24,2,25,2],[24,3,25,3],[24,5,25,5],[26,2,27,2],[26,3,27,3],[26,5,27,5],[20,2,21,2],[20,3,21,3],[20,5,21,5],[22,2,23,2],[22,3,23,3],[22,5,23,5],[32,2,33,2],[32,3,33,3],[32,5,33,5],[34,2,35,2],[34,3,35,3],[34,5,35,5],[28,2,29,2],[28,3,29,3],[28,5,29,5],[30,2,31,2],[30,3,31,3],[30,5,31,5],[40,2,41,2],[40,3,41,3],[40,5,41,5],[42,2,43,2],[42,3,43,3],[42,5,43,5],[36,2,37,2],[36,3,37,3],[36,5,37,5],[38,2,39,2],[38,3,39,3],[38,5,39,5],[48,2,49,2],[48,3,49,3],[48,5,49,5],[50,2,51,2],[50,3,51,3],[50,5,51,5],[44,2,45,2],[44,3,45,3],[44,5,45,5],[46,2,47,2],[46,3,47,3],[46,5,47,5],[56,5,57,5],[58,2,59,2],[58,3,59,3],[58,5,59,5],[52,2,53,2],[52,3,53,3],[52,5,53,5],[54,2,55,2],[54,3,55,3],[54,5,55,5],[56,2,57,2],[56,3,57,3],[72,2,73,2],[72,3,73,3],[72,5,73,5],[68,2,69,2],[68,3,69,3],[68,5,69,5],[70,2,71,2],[70,3,71,3],[70,5,71,5],[64,2,65,2],[64,3,65,3],[64,5,65,5],[66,2,67,2],[66,3,67,3],[66,5,67,5],[60,2,61,2],[60,3,61,3],[60,5,61,5],[62,2,63,2],[62,3,63,3],[62,5,63,5]]}
[null,null,null,null,null,null,null,null,null,null,null,"　　"]
[null,null,null,null,null,null,null,null,null,null,null,"　　"]
[null,null,null,null,null,"県",null,null,null,null,null,"　　"]
[null,null,null,"小学４年男子組手",null,"沖　縄","県を選択すると県名が黄色になります。"]
[null,null,null,1,{"$f":"IF(E6=\"\",\"\",VLOOKUP(E6,Sheet2!$C$3:$D$645,2,FALSE))","v":"まつむら　こうりゅう"},"福　岡"]
[null,null,null,null,"松村　幸龍",null,null,"2-1"]
[null,null,null,2,{"$f":"IF(E8=\"\",\"\",VLOOKUP(E8,Sheet2!$C$3:$D$645,2,FALSE))","v":"ふくだ　こうだい"},"熊　本"]
[null,null,null,null,"福田航大",null,"1-1"]
[null,null,null,3,{"$f":"IF(E10=\"\",\"\",VLOOKUP(E10,Sheet2!$C$3:$D$645,2,FALSE))","v":"ふくどめ　はやて"},"鹿児島",null,null,"3-1"]
[null,null,null,null,"福留　隼"]
[null,null,null,4,{"$f":"IF(E12=\"\",\"\",VLOOKUP(E12,Sheet2!$C$3:$D$645,2,FALSE))","v":"むらた　えいた"},"宮　崎"]
[null,null,null,null,"村田　英太",null,null,"2-2"]
[null,null,null,5,{"$f":"IF(E14=\"\",\"\",VLOOKUP(E14,Sheet2!$C$3:$D$645,2,FALSE))","v":"きんじょう　せいた"},"沖　縄",null,null,null,"4-1"]
[null,null,null,null,"金城　清太"]
[null,null,null,6,{"$f":"IF(E16=\"\",\"\",VLOOKUP(E16,Sheet2!$C$3:$D$645,2,FALSE))","v":"はまの　せな"},"長　崎"]
[null,null,null,null,"濱野　聖那",null,null,"2-3"]
[null,null,null,7,{"$f":"IF(E18=\"\",\"\",VLOOKUP(E18,Sheet2!$C$3:$D$645,2,FALSE))","v":"ひらの　きょうしろう"},"大　分"]
[null,null,null,null,"平野　亨士郎",null,null,null,"3-2"]
[null,null,null,8,{"$f":"IF(E20=\"\",\"\",VLOOKUP(E20,Sheet2!$C$3:$D$645,2,FALSE))","v":"つざわ　しょうや"},"宮　崎"]
[null,null,null,null,"津澤　玲桜",null,null,"2-4"]
[null,null,null,9,{"$f":"IF(E22=\"\",\"\",VLOOKUP(E22,Sheet2!$C$3:$D$645,2,FALSE))","v":"てらしま　きよまさ"},"佐　賀",null,null,null,null,"5-1"]
[null,null,null,null,"寺島　聖真"]
[null,null,null,10,{"$f":"IF(E24=\"\",\"\",VLOOKUP(E24,Sheet2!$C$3:$D$645,2,FALSE))","v":"いまおか　りゅうき"},"鹿児島"]
[null,null,null,null,"今岡　竜希",null,null,"2-5"]
[null,null,null,11,{"$f":"IF(E26=\"\",\"\",VLOOKUP(E26,Sheet2!$C$3:$D$645,2,FALSE))","v":"とみなが　たいせい"},"宮　崎"]
[null,null,null,null,"富永　泰生",null,null,null,"3-3"]
[null,null,null,12,{"$f":"IF(E28=\"\",\"\",VLOOKUP(E28,Sheet2!$C$3:$D$645,2,FALSE))","v":"いまいずみ　ともひと"},"佐　賀"]
[null,null,null,null,"今泉　知仁",null,null,"2-6"]
[null,null,null,13,{"$f":"IF(E30=\"\",\"\",VLOOKUP(E30,Sheet2!$C$3:$D$645,2,FALSE))","v":"こかじ　かいせい"},"大　分"]
[null,null,null,null,"古梶　快晟",null,null,null,null,"4-2"]
[null,null,null,14,{"$f":"IF(E32=\"\",\"\",VLOOKUP(E32,Sheet2!$C$3:$D$645,2,FALSE))","v":"かわぐち　いお"},"福　岡"]
[null,null,null,null,"川口　倭央",null,null,"2-7"]
[null,null,null,15,{"$f":"IF(E34=\"\",\"\",VLOOKUP(E34,Sheet2!$C$3:$D$645,2,FALSE))","v":"くだか　こうすけ"},"沖　縄"]
[null,null,null,null,"久高　晃輔",null,null,null,"3-4"]
[null,null,null,16,{"$f":"IF(E36=\"\",\"\",VLOOKUP(E36,Sheet2!$C$3:$D$645,2,FALSE))","v":"う　たかよし"},"長　崎"]
[null,null,null,null,"于　卓平",null,null,"2-8"]
[null,null,null,17,{"$f":"IF(E38=\"\",\"\",VLOOKUP(E38,Sheet2!$C$3:$D$645,2,FALSE))","v":"みすみ　きょうたろう"},"熊　本"]
[null,null,null,null,"三角　俠太郎",null,null,null,null,null,null,"6-1"]
[null,null,null,18,{"$f":"IF(E40=\"\",\"\",VLOOKUP(E40,Sheet2!$C$3:$D$645,2,FALSE))","v":"さかもと　はるま"},"福　岡"]
[null,null,null,null,"坂本　暖真",null,null,"2-9"]
[null,null,null,19,{"$f":"IF(E42=\"\",\"\",VLOOKUP(E42,Sheet2!$C$3:$D$645,2,FALSE))","v":"むた　あつき"},"佐　賀"]
[null,null,null,null,"牟田　充希",null,"1-2"]
[null,null,null,20,{"$f":"IF(E44=\"\",\"\",VLOOKUP(E44,Sheet2!$C$3:$D$645,2,FALSE))","v":"おがわ　りゅうき"},"宮　崎",null,null,"3-5"]
[null,null,null,null,"小川　竜暉"]
[null,null,null,21,{"$f":"IF(E46=\"\",\"\",VLOOKUP(E46,Sheet2!$C$3:$D$645,2,FALSE))","v":"せとぐち　ぎんじ"},"鹿児島"]
[null,null,null,null,"瀬戸口　銀志",null,null,"2-10"]
[null,null,null,22,{"$f":"IF(E48=\"\",\"\",VLOOKUP(E48,Sheet2!$C$3:$D$645,2,FALSE))","v":"すえよし　るか"},"大　分",null,null,null,"4-3"]
[null,null,null,null,"末吉　流華"]
[null,null,null,23,{"$f":"IF(E50=\"\",\"\",VLOOKUP(E50,Sheet2!$C$3:$D$645,2,FALSE))","v":"みかわ　りゅう"},"宮　崎"]
[null,null,null,null,"見川　龍",null,null,"2-11"]
[null,null,null,24,{"$f":"IF(E52=\"\",\"\",VLOOKUP(E52,Sheet2!$C$3:$D$645,2,FALSE))","v":"ほしこ　ちひろ"},"熊　本"]
[null,null,null,null,"星子　知潤",null,null,null,"3-6"]
[null,null,null,25,{"$f":"IF(E54=\"\",\"\",VLOOKUP(E54,Sheet2!$C$3:$D$645,2,FALSE))","v":"しろたに　れい"},"長　崎"]
[null,null,null,null,"城谷　連唯",null,null,"2-12"]
[null,null,null,26,{"$f":"IF(E56=\"\",\"\",VLOOKUP(E56,Sheet2!$C$3:$D$645,2,FALSE))","v":"すながわ　えいと"},"沖　縄"]
[null,null,null,null,"砂川　瑛音",null,null,null,null,null,"5-2"]
[null,null,null,27,{"$f":"IF(E58=\"\",\"\",VLOOKUP(E58,Sheet2!$C$3:$D$645,2,FALSE))","v":"つるた　すい"},"宮　崎"]
[null,null,null,null,"鶴田　粋",null,null,"2-13"]
[null,null,null,28,{"$f":"IF(E60=\"\",\"\",VLOOKUP(E60,Sheet2!$C$3:$D$645,2,FALSE))","v":"えのもと　あつと"},"福　岡"]
[null,null,null,null,"榎本　篤人",null,null,null,"3-7"]
[null,null,null,29,{"$f":"IF(E62=\"\",\"\",VLOOKUP(E62,Sheet2!$C$3:$D$645,2,FALSE))","v":"たちき　けいご"},"長　崎"]
[null,null,null,null,"立木　奎伍",null,null,"2-14"]
[null,null,null,30,{"$f":"IF(E64=\"\",\"\",VLOOKUP(E64,Sheet2!$C$3:$D$645,2,FALSE))","v":"きたべっぷ　わかな"},"鹿児島"]
[null,null,null,null,"北別府　和奏"]
[null,null,null,31,{"$f":"IF(E66=\"\",\"\",VLOOKUP(E66,Sheet2!$C$3:$D$645,2,FALSE))","v":"きんじょう　なるみ"},"沖　縄",null,null,null,"4-4"]
[null,null,null,null,"金城　匠海",null,null,"2-15"]
[null,null,null,32,{"$f":"IF(E68=\"\",\"\",VLOOKUP(E68,Sheet2!$C$3:$D$645,2,FALSE))","v":"やまもと　みなと"},"熊　本"]
[null,null,null,null,"山本　湊士"]
[null,null,null,33,{"$f":"IF(E70=\"\",\"\",VLOOKUP(E70,Sheet2!$C$3:$D$645,2,FALSE))","v":"ほてはま　りいち"},"福　岡",null,null,"3-8"]
[null,null,null,null,"保手濱　梨一",null,"1-3"]
[null,null,null,34,{"$f":"IF(E72=\"\",\"\",VLOOKUP(E72,Sheet2!$C$3:$D$645,2,FALSE))","v":"やまぐち　よしひろ"},"佐　賀"]
[null,null,null,null,"山口　善大",null,null,"2-16"]
[null,null,null,35,{"$f":"IF(E74=\"\",\"\",VLOOKUP(E74,Sheet2!$C$3:$D$645,2,FALSE))","v":"すぎやま　りつき"},"大　分"]
[null,null,null,null,"杉山　流月"]

{"sheet":"小５男子組手","index":16,"n_rows":73,"n_cols":12,"rows_kept":73,"cut":false,"hidden":false,"merged":[[3,6,3,11],[4,2,5,2],[4,3,5,3],[4,5,5,5],[6,2,7,2],[6,3,7,3],[6,5,7,5],[8,2,9,2],[8,3,9,3],[8,5,9,5],[10,2,11,2],[10,3,11,3],[10,5,11,5],[12,2,13,2],[12,3,13,3],[12,5,13,5],[14,2,15,2],[14,3,15,3],[14,5,15,5],[16,2,17,2],[16,3,17,3],[16,5,17,5],[18,2,19,2],[18,3,19,3],[18,5,19,5],[20,2,21,2],[20,3,21,3],[20,5,21,5],[22,2,23,2],[22,3,23,3],[22,5,23,5],[24,2,25,2],[24,3,25,3],[24,5,25,5],[26,2,27,2],[26,3,27,3],[26,5,27,5],[28,2,29,2],[28,3,29,3],[28,5,29,5],[30,2,31,2],[30,3,31,3],[30,5,31,5],[32,2,33,2],[32,3,33,3],[32,5,33,5],[34,2,35,2],[34,3,35,3],[34,5,35,5],[36,2,37,2],[36,3,37,3],[36,5,37,5],[38,2,39,2],[38,3,39,3],[38,5,39,5],[40,2,41,2],[40,3,41,3],[40,5,41,5],[42,2,43,2],[42,3,43,3],[42,5,43,5],[44,2,45,2],[44,3,45,3],[44,5,45,5],[46,2,47,2],[46,3,47,3],[46,5,47,5],[48,2,49,2],[48,3,49,3],[48,5,49,5],[50,2,51,2],[50,3,51,3],[50,5,51,5],[52,2,53,2],[52,3,53,3],[52,5,53,5],[54,2,55,2],[54,3,55,3],[54,5,55,5],[56,2,57,2],[56,3,57,3],[56,5,57,5],[58,2,59,2],[58,3,59,3],[58,5,59,5],[60,2,61,2],[60,3,61,3],[60,5,61,5],[62,2,63,2],[62,3,63,3],[62,5,63,5],[68,2,69,2],[68,3,69,3],[68,5,69,5],[64,2,65,2],[64,3,65,3],[64,5,65,5],[66,2,67,2],[66,3,67,3],[66,5,67,5]]}
[null,null,null,null,null,null,null,null,null,null,null,"　　"]
[null,null,null,null,null,null,null,null,null,null,null,"　　"]
[null,null,null,null,null,"県",null,null,null,null,null,"　　"]
[null,null,null,"小学５年男子組手",null,"沖　縄","県を選択すると県名が黄色になります。"]
[null,null,null,1,{"$f":"IF(E6=\"\",\"\",VLOOKUP(E6,Sheet2!$C$3:$D$645,2,FALSE))","v":"おおくぼ　れのん"},"長　崎"]
[null,null,null,null,"大久保　玲音",null,null,"2-1"]
[null,null,null,2,{"$f":"IF(E8=\"\",\"\",VLOOKUP(E8,Sheet2!$C$3:$D$645,2,FALSE))","v":"なかそね　ゆうひ"},"沖　縄"]
[null,null,null,null,"仲宗根　雄飛",null,"1-1"]
[null,null,null,3,{"$f":"IF(E10=\"\",\"\",VLOOKUP(E10,Sheet2!$C$3:$D$645,2,FALSE))","v":"しらさか　りゅうのすけ"},"福　岡",null,null,"3-1"]
[null,null,null,null,"白坂　隆之介"]
[null,null,null,4,{"$f":"IF(E12=\"\",\"\",VLOOKUP(E12,Sheet2!$C$3:$D$645,2,FALSE))","v":"まさおか　こうが"},"宮　崎"]
[null,null,null,null,"政岡　凰雅",null,null,"2-2"]
[null,null,null,5,{"$f":"IF(E14=\"\",\"\",VLOOKUP(E14,Sheet2!$C$3:$D$645,2,FALSE))","v":"うちだ　はるき"},"佐　賀",null,null,null,"4-1"]
[null,null,null,null,"内田　晴貴"]
[null,null,null,6,{"$f":"IF(E16=\"\",\"\",VLOOKUP(E16,Sheet2!$C$3:$D$645,2,FALSE))","v":"なかむら　はると"},"宮　崎"]
[null,null,null,null,"中村　陽斗",null,null,"2-3"]
[null,null,null,7,{"$f":"IF(E18=\"\",\"\",VLOOKUP(E18,Sheet2!$C$3:$D$645,2,FALSE))","v":"はじ　しょうま"},"大　分"]
[null,null,null,null,"土師　彰真",null,null,null,"3-2"]
[null,null,null,8,{"$f":"IF(E20=\"\",\"\",VLOOKUP(E20,Sheet2!$C$3:$D$645,2,FALSE))","v":"むらかみ　たくま"},"熊　本"]
[null,null,null,null,"村上　拓真",null,null,"2-4"]
[null,null,null,9,{"$f":"IF(E22=\"\",\"\",VLOOKUP(E22,Sheet2!$C$3:$D$645,2,FALSE))","v":"かきもと　ゆうだい"},"鹿児島",null,null,null,null,"5-1"]
[null,null,null,null,"柿元　侑大"]
[null,null,null,10,{"$f":"IF(E24=\"\",\"\",VLOOKUP(E24,Sheet2!$C$3:$D$645,2,FALSE))","v":"さとう　いち"},"福　岡"]
[null,null,null,null,"佐藤　壱",null,null,"2-5"]
[null,null,null,11,{"$f":"IF(E26=\"\",\"\",VLOOKUP(E26,Sheet2!$C$3:$D$645,2,FALSE))","v":"ふさと　かずや"},"沖　縄"]
[null,null,null,null,"冨里　和哉",null,null,null,"3-3"]
[null,null,null,12,{"$f":"IF(E28=\"\",\"\",VLOOKUP(E28,Sheet2!$C$3:$D$645,2,FALSE))","v":"ふじもと　かずほ"},"宮　崎"]
[null,null,null,null,"藤元　寿帆",null,null,"2-6"]
[null,null,null,13,{"$f":"IF(E30=\"\",\"\",VLOOKUP(E30,Sheet2!$C$3:$D$645,2,FALSE))","v":"ほかだ　しょうたろう"},"熊　本"]
[null,null,null,null,"外田　昇太郎",null,null,null,null,"4-2"]
[null,null,null,14,{"$f":"IF(E32=\"\",\"\",VLOOKUP(E32,Sheet2!$C$3:$D$645,2,FALSE))","v":"はやし　ゆうが"},"長　崎"]
[null,null,null,null,"林　優雅",null,null,"2-7"]
[null,null,null,15,{"$f":"IF(E34=\"\",\"\",VLOOKUP(E34,Sheet2!$C$3:$D$645,2,FALSE))","v":"たけだ　はじめ"},"鹿児島"]
[null,null,null,null,"武田　創",null,null,null,"3-4"]
[null,null,null,16,{"$f":"IF(E36=\"\",\"\",VLOOKUP(E36,Sheet2!$C$3:$D$645,2,FALSE))","v":"ごとう　りくと"},"大　分"]
[null,null,null,null,"後藤　陸斗",null,null,"2-8"]
[null,null,null,17,{"$f":"IF(E38=\"\",\"\",VLOOKUP(E38,Sheet2!$C$3:$D$645,2,FALSE))","v":"おの　そうた"},"佐　賀",null,null,null,null,null,"6-1"]
[null,null,null,null,"小野　蒼太"]
[null,null,null,18,{"$f":"IF(E40=\"\",\"\",VLOOKUP(E40,Sheet2!$C$3:$D$645,2,FALSE))","v":"はらと　けいすけ"},"大　分"]
[null,null,null,null,"原戸　奎輔",null,null,"2-9"]
[null,null,null,19,{"$f":"IF(E42=\"\",\"\",VLOOKUP(E42,Sheet2!$C$3:$D$645,2,FALSE))","v":"かい　りょうすけ"},"宮　崎"]
[null,null,null,null,"甲斐　亮甫",null,null,null,"3-5"]
[null,null,null,20,{"$f":"IF(E44=\"\",\"\",VLOOKUP(E44,Sheet2!$C$3:$D$645,2,FALSE))","v":"おおつぼ　あおい"},"佐　賀"]
[null,null,null,null,"大坪　蒼生",null,null,"2-10"]
[null,null,null,21,{"$f":"IF(E46=\"\",\"\",VLOOKUP(E46,Sheet2!$C$3:$D$645,2,FALSE))","v":"いがらし　よしさぶろう"},"沖　縄"]
[null,null,null,null,"五十嵐　義三郎",null,null,null,null,"4-3"]
[null,null,null,22,{"$f":"IF(E48=\"\",\"\",VLOOKUP(E48,Sheet2!$C$3:$D$645,2,FALSE))","v":"そのだ　せいき"},"鹿児島"]
[null,null,null,null,"園田　晟稀",null,null,"2-11"]
[null,null,null,23,{"$f":"IF(E50=\"\",\"\",VLOOKUP(E50,Sheet2!$C$3:$D$645,2,FALSE))","v":"なかむら　こうき"},"福　岡"]
[null,null,null,null,"中村　昊喜",null,null,null,"3-6"]
[null,null,null,24,{"$f":"IF(E52=\"\",\"\",VLOOKUP(E52,Sheet2!$C$3:$D$645,2,FALSE))","v":"ふくだ　れんと"},"長　崎"]
[null,null,null,null,"福田　蓮翔",null,null,"2-12"]
[null,null,null,25,{"$f":"IF(E54=\"\",\"\",VLOOKUP(E54,Sheet2!$C$3:$D$645,2,FALSE))","v":"みなみ　じん"},"宮　崎"]
[null,null,null,null,"南　仁",null,null,null,null,null,"5-2"]
[null,null,null,26,{"$f":"IF(E56=\"\",\"\",VLOOKUP(E56,Sheet2!$C$3:$D$645,2,FALSE))","v":"たかみや　そういちろう"},"熊　本"]
[null,null,null,null,"髙宮　奏一郎",null,null,"2-13"]
[null,null,null,27,{"$f":"IF(E58=\"\",\"\",VLOOKUP(E58,Sheet2!$C$3:$D$645,2,FALSE))","v":"ささき　りく"},"宮　崎"]
[null,null,null,null,"佐々木　凛來",null,null,null,"3-7"]
[null,null,null,28,{"$f":"IF(E60=\"\",\"\",VLOOKUP(E60,Sheet2!$C$3:$D$645,2,FALSE))","v":"おき　とうま"},"福　岡"]
[null,null,null,null,"沖 斗佑守",null,null,"2-14"]
[null,null,null,29,{"$f":"IF(E62=\"\",\"\",VLOOKUP(E62,Sheet2!$C$3:$D$645,2,FALSE))","v":"うちだ　そうすけ"},"鹿児島"]
[null,null,null,null,"内田　想亮",null,null,null,null,"4-4"]
[null,null,null,30,{"$f":"IF(E64=\"\",\"\",VLOOKUP(E64,Sheet2!$C$3:$D$645,2,FALSE))","v":"しもむら　ふうま"},"長　崎"]
[null,null,null,null,"下村　楓馬",null,null,"2-15"]
[null,null,null,31,{"$f":"IF(E66=\"\",\"\",VLOOKUP(E66,Sheet2!$C$3:$D$645,2,FALSE))","v":"すえつぐ　たいち"},"佐　賀"]
[null,null,null,null,"末次　汰地",null,null,null,"3-8"]
[null,null,null,32,{"$f":"IF(E68=\"\",\"\",VLOOKUP(E68,Sheet2!$C$3:$D$645,2,FALSE))","v":"えとう　ゆうせい"},"大　分"]
[null,null,null,null,"衛藤　悠聖",null,null,"2-16"]
[null,null,null,33,{"$f":"IF(E70=\"\",\"\",VLOOKUP(E70,Sheet2!$C$3:$D$645,2,FALSE))","v":"まほえ　るい"},"沖　縄"]
[null,null,null,null,"真保栄　琉偉"]
[null,null,null,null,{"$f":"IF(E72=\"\",\"\",VLOOKUP(E72,Sheet2!$C$3:$D$645,2,FALSE))","v":""}]
[]
[null,null,null,null,{"$f":"IF(E74=\"\",\"\",VLOOKUP(E74,Sheet2!$C$3:$D$645,2,FALSE))","v":""}]

{"sheet":"小６男子組手","index":17,"n_rows":73,"n_cols":12,"rows_kept":73,"cut":false,"hidden":false,"merged":[[4,2,5,2],[4,3,5,3],[4,5,5,5],[6,2,7,2],[6,3,7,3],[6,5,7,5],[3,6,3,11],[12,2,13,2],[12,3,13,3],[12,5,13,5],[14,2,15,2],[14,3,15,3],[14,5,15,5],[8,2,9,2],[8,3,9,3],[8,5,9,5],[10,2,11,2],[10,3,11,3],[10,5,11,5],[20,2,21,2],[20,3,21,3],[20,5,21,5],[22,2,23,2],[22,3,23,3],[22,5,23,5],[16,2,17,2],[16,3,17,3],[16,5,17,5],[18,2,19,2],[18,3,19,3],[18,5,19,5],[28,2,29,2],[28,3,29,3],[28,5,29,5],[30,2,31,2],[30,3,31,3],[30,5,31,5],[24,2,25,2],[24,3,25,3],[24,5,25,5],[26,2,27,2],[26,3,27,3],[26,5,27,5],[36,2,37,2],[36,3,37,3],[36,5,37,5],[38,2,39,2],[38,3,39,3],[38,5,39,5],[32,2,33,2],[32,3,33,3],[32,5,33,5],[34,2,35,2],[34,3,35,3],[34,5,35,5],[44,2,45,2],[44,3,45,3],[44,5,45,5],[46,2,47,2],[46,3,47,3],[46,5,47,5],[40,2,41,2],[40,3,41,3],[40,5,41,5],[42,2,43,2],[42,3,43,3],[42,5,43,5],[52,2,53,2],[52,3,53,3],[52,5,53,5],[54,2,55,2],[54,3,55,3],[54,5,55,5],[48,2,49,2],[48,3,49,3],[48,5,49,5],[50,2,51,2],[50,3,51,3],[50,5,51,5],[60,2,61,2],[60,3,61,3],[60,5,61,5],[62,2,63,2],[62,3,63,3],[62,5,63,5],[56,2,57,2],[56,3,57,3],[56,5,57,5],[58,2,59,2],[58,3,59,3],[58,5,59,5],[68,2,69,2],[68,3,69,3],[68,5,69,5],[70,2,71,2],[70,3,71,3],[70,5,71,5],[64,2,65,2],[64,3,65,3],[64,5,65,5],[66,2,67,2],[66,3,67,3],[66,5,67,5]]}
[null,null,null,null,null,null,null,null,null,null,null,"　　"]
[null,null,null,null,null,null,null,null,null,null,null,"　　"]
[null,null,null,null,null,"県",null,null,null,null,null,"　　"]
[null,null,null,"小学６年男子組手",null,"沖　縄","県を選択すると県名が黄色になります。"]
[null,null,null,1,{"$f":"IF(E6=\"\",\"\",VLOOKUP(E6,Sheet2!$C$3:$D$645,2,FALSE))","v":"つるた　きずな"},"宮　崎"]
[null,null,null,null,"鶴田　絆",null,null,"2-1"]
[null,null,null,2,{"$f":"IF(E8=\"\",\"\",VLOOKUP(E8,Sheet2!$C$3:$D$645,2,FALSE))","v":"なりまさ　りゅうせい"},"鹿児島"]
[null,null,null,null,"成政　琉星",null,"1-1"]
[null,null,null,3,{"$f":"IF(E10=\"\",\"\",VLOOKUP(E10,Sheet2!$C$3:$D$645,2,FALSE))","v":"きったか　ゆうや"},"長　崎",null,null,"3-1"]
[null,null,null,null,"橘高　佑弥"]
[null,null,null,4,{"$f":"IF(E12=\"\",\"\",VLOOKUP(E12,Sheet2!$C$3:$D$645,2,FALSE))","v":"つじ　りょうた"},"佐　賀"]
[null,null,null,null,"辻　亮太",null,null,"2-2"]
[null,null,null,5,{"$f":"IF(E14=\"\",\"\",VLOOKUP(E14,Sheet2!$C$3:$D$645,2,FALSE))","v":"たけばやしゆりと"},"熊　本",null,null,null,"4-1"]
[null,null,null,null,"竹林　佑彪"]
[null,null,null,6,{"$f":"IF(E16=\"\",\"\",VLOOKUP(E16,Sheet2!$C$3:$D$645,2,FALSE))","v":"まきの　はるき"},"宮　崎"]
[null,null,null,null,"牧野　遼稀",null,null,"2-3"]
[null,null,null,7,{"$f":"IF(E18=\"\",\"\",VLOOKUP(E18,Sheet2!$C$3:$D$645,2,FALSE))","v":"きんじょう　れん"},"沖　縄"]
[null,null,null,null,"金城　蓮",null,null,null,"3-2"]
[null,null,null,8,{"$f":"IF(E20=\"\",\"\",VLOOKUP(E20,Sheet2!$C$3:$D$645,2,FALSE))","v":"えがみ　まんさく"},"大　分"]
[null,null,null,null,"恵上　漫作",null,null,"2-4"]
[null,null,null,9,{"$f":"IF(E22=\"\",\"\",VLOOKUP(E22,Sheet2!$C$3:$D$645,2,FALSE))","v":"まつなが　なるき"},"福　岡",null,null,null,null,"5-1"]
[null,null,null,null,"松永　燕祁"]
[null,null,null,10,{"$f":"IF(E24=\"\",\"\",VLOOKUP(E24,Sheet2!$C$3:$D$645,2,FALSE))","v":"なるみ　ゆうま"},"沖　縄"]
[null,null,null,null,"成海　悠真",null,null,"2-5"]
[null,null,null,11,{"$f":"IF(E26=\"\",\"\",VLOOKUP(E26,Sheet2!$C$3:$D$645,2,FALSE))","v":"むらやま　たくと"},"熊　本"]
[null,null,null,null,"村山　匠人",null,null,null,"3-3"]
[null,null,null,12,{"$f":"IF(E28=\"\",\"\",VLOOKUP(E28,Sheet2!$C$3:$D$645,2,FALSE))","v":"いまおか　いぶき"},"鹿児島"]
[null,null,null,null,"今岡　唯深絆",null,null,"2-6"]
[null,null,null,13,{"$f":"IF(E30=\"\",\"\",VLOOKUP(E30,Sheet2!$C$3:$D$645,2,FALSE))","v":"なかの　いおう"},"佐　賀"]
[null,null,null,null,"中野　偉央",null,null,null,null,"4-2"]
[null,null,null,14,{"$f":"IF(E32=\"\",\"\",VLOOKUP(E32,Sheet2!$C$3:$D$645,2,FALSE))","v":"くわむら　さとし"},"福　岡"]
[null,null,null,null,"桑村　颯寿",null,null,"2-7"]
[null,null,null,15,{"$f":"IF(E34=\"\",\"\",VLOOKUP(E34,Sheet2!$C$3:$D$645,2,FALSE))","v":"ただ　ひろと"},"宮　崎"]
[null,null,null,null,"多田　大翔",null,null,null,"3-4"]
[null,null,null,16,{"$f":"IF(E36=\"\",\"\",VLOOKUP(E36,Sheet2!$C$3:$D$645,2,FALSE))","v":"まきの　れんた"},"大　分"]
[null,null,null,null,"牧野　廉大",null,null,"2-8"]
[null,null,null,17,{"$f":"IF(E38=\"\",\"\",VLOOKUP(E38,Sheet2!$C$3:$D$645,2,FALSE))","v":"たなか　がくと"},"長　崎"]
[null,null,null,null,"田中　俄人",null,null,null,null,null,null,"6-1"]
[null,null,null,18,{"$f":"IF(E40=\"\",\"\",VLOOKUP(E40,Sheet2!$C$3:$D$645,2,FALSE))","v":"うえのはら　いちひと"},"鹿児島"]
[null,null,null,null,"上之原　壱仁",null,null,"2-9"]
[null,null,null,19,{"$f":"IF(E42=\"\",\"\",VLOOKUP(E42,Sheet2!$C$3:$D$645,2,FALSE))","v":"はしぐち　らいじ"},"宮　崎"]
[null,null,null,null,"橋口　礼侍",null,null,null,"3-5"]
[null,null,null,20,{"$f":"IF(E44=\"\",\"\",VLOOKUP(E44,Sheet2!$C$3:$D$645,2,FALSE))","v":"うえはら　みち"},"沖　縄"]
[null,null,null,null,"上原　道",null,null,"2-10"]
[null,null,null,21,{"$f":"IF(E46=\"\",\"\",VLOOKUP(E46,Sheet2!$C$3:$D$645,2,FALSE))","v":"よねむら　ゆうし"},"熊　本"]
[null,null,null,null,"米村　優志",null,null,null,null,"4-3"]
[null,null,null,22,{"$f":"IF(E48=\"\",\"\",VLOOKUP(E48,Sheet2!$C$3:$D$645,2,FALSE))","v":"あらまき　はるま"},"佐　賀"]
[null,null,null,null,"荒巻　悠真",null,null,"2-11"]
[null,null,null,23,{"$f":"IF(E50=\"\",\"\",VLOOKUP(E50,Sheet2!$C$3:$D$645,2,FALSE))","v":"まつもと　あゆむ"},"長　崎"]
[null,null,null,null,"松本　歩睦",null,null,null,"3-6"]
[null,null,null,24,{"$f":"IF(E52=\"\",\"\",VLOOKUP(E52,Sheet2!$C$3:$D$645,2,FALSE))","v":"ふたつぎ　ひかる"},"福　岡"]
[null,null,null,null,"二木　輝",null,null,"2-12"]
[null,null,null,25,{"$f":"IF(E54=\"\",\"\",VLOOKUP(E54,Sheet2!$C$3:$D$645,2,FALSE))","v":"はしもと　そうし"},"大　分"]
[null,null,null,null,"橋本　壮志"]
[null,null,null,26,{"$f":"IF(E56=\"\",\"\",VLOOKUP(E56,Sheet2!$C$3:$D$645,2,FALSE))","v":"よしだ　りゅうたろう"},"佐　賀",null,null,null,null,"5-2"]
[null,null,null,null,"吉田　隆太朗",null,null,"2-13"]
[null,null,null,27,{"$f":"IF(E58=\"\",\"\",VLOOKUP(E58,Sheet2!$C$3:$D$645,2,FALSE))","v":"ひさじま　りゅうが"},"福　岡"]
[null,null,null,null,"久島　隆雅",null,null,null,"3-7"]
[null,null,null,28,{"$f":"IF(E60=\"\",\"\",VLOOKUP(E60,Sheet2!$C$3:$D$645,2,FALSE))","v":"みやのはら　みと"},"宮　崎"]
[null,null,null,null,"宮野原　海人",null,null,"2-14"]
[null,null,null,29,{"$f":"IF(E62=\"\",\"\",VLOOKUP(E62,Sheet2!$C$3:$D$645,2,FALSE))","v":"やましな　りく"},"長　崎"]
[null,null,null,null,"山科　陸駆"]
[null,null,null,30,{"$f":"IF(E64=\"\",\"\",VLOOKUP(E64,Sheet2!$C$3:$D$645,2,FALSE))","v":"かわの　かんた"},"大　分",null,null,null,"4-4"]
[null,null,null,null,"川野　幹太",null,null,"2-15"]
[null,null,null,31,{"$f":"IF(E66=\"\",\"\",VLOOKUP(E66,Sheet2!$C$3:$D$645,2,FALSE))","v":"きんじょう　りおん"},"沖　縄"]
[null,null,null,null,"金城　吏恩"]
[null,null,null,32,{"$f":"IF(E68=\"\",\"\",VLOOKUP(E68,Sheet2!$C$3:$D$645,2,FALSE))","v":"たかまつ　るい"},"宮　崎",null,null,"3-8"]
[null,null,null,null,"高松　留偉",null,"1-2"]
[null,null,null,33,{"$f":"IF(E70=\"\",\"\",VLOOKUP(E70,Sheet2!$C$3:$D$645,2,FALSE))","v":"さかわき　たける"},"鹿児島"]
[null,null,null,null,"坂脇　丈路",null,null,"2-16"]
[null,null,null,34,{"$f":"IF(E72=\"\",\"\",VLOOKUP(E72,Sheet2!$C$3:$D$645,2,FALSE))","v":"やまもと　ひょうま"},"熊　本"]
[null,null,null,null,"山本　彪真"]
[null,null,null,null,{"$f":"IF(E74=\"\",\"\",VLOOKUP(E74,Sheet2!$C$3:$D$645,2,FALSE))","v":""}]

{"sheet":"小１女子組手","index":18,"n_rows":73,"n_cols":12,"rows_kept":73,"cut":false,"hidden":false,"merged":[[3,6,3,11],[4,2,5,2],[4,3,5,3],[4,5,5,5],[6,2,7,2],[6,3,7,3],[6,5,7,5],[8,2,9,2],[8,3,9,3],[8,5,9,5],[10,2,11,2],[10,3,11,3],[10,5,11,5],[12,2,13,2],[12,3,13,3],[12,5,13,5],[14,2,15,2],[14,3,15,3],[14,5,15,5],[16,2,17,2],[16,3,17,3],[16,5,17,5],[18,2,19,2],[18,3,19,3],[18,5,19,5],[20,2,21,2],[20,3,21,3],[20,5,21,5],[22,2,23,2],[22,3,23,3],[22,5,23,5],[24,2,25,2],[24,3,25,3],[24,5,25,5],[26,2,27,2],[26,3,27,3],[26,5,27,5],[28,2,29,2],[28,3,29,3],[28,5,29,5],[30,2,31,2],[30,3,31,3],[30,5,31,5],[32,2,33,2],[32,3,33,3],[32,5,33,5],[34,2,35,2],[34,3,35,3],[34,5,35,5],[36,2,37,2],[36,3,37,3],[36,5,37,5],[38,2,39,2],[38,3,39,3],[38,5,39,5],[40,2,41,2],[40,3,41,3],[40,5,41,5],[42,2,43,2],[42,3,43,3],[42,5,43,5],[44,2,45,2],[44,3,45,3],[44,5,45,5],[46,2,47,2],[46,3,47,3],[46,5,47,5],[48,2,49,2],[48,3,49,3],[48,5,49,5],[50,2,51,2],[50,3,51,3],[50,5,51,5]]}
[null,null,null,null,null,null,null,null,null,null,null,"　　"]
[null,null,null,null,null,null,null,null,null,null,null,"　　"]
[null,null,null,null,null,"県",null,null,null,null,null,"　　"]
[null,null,null,"小学1年女子組手",null,"沖　縄","県を選択すると県名が黄色になります。"]
[null,null,null,1,{"$f":"IF(E6=\"\",\"\",VLOOKUP(E6,Sheet2!$C$3:$D$645,2,FALSE))","v":"さかい　ななせ"},"佐　賀"]
[null,null,null,null,"坂井　七彩",null,null,"2-1"]
[null,null,null,2,{"$f":"IF(E8=\"\",\"\",VLOOKUP(E8,Sheet2!$C$3:$D$645,2,FALSE))","v":"ふるの　あいか"},"大　分"]
[null,null,null,null,"古野　愛佳",null,"1-1"]
[null,null,null,3,{"$f":"IF(E10=\"\",\"\",VLOOKUP(E10,Sheet2!$C$3:$D$645,2,FALSE))","v":"よしだ　ゆな"},"福　岡"]
[null,null,null,null,"吉田　結奈",null,null,null,"3-1"]
[null,null,null,4,{"$f":"IF(E12=\"\",\"\",VLOOKUP(E12,Sheet2!$C$3:$D$645,2,FALSE))","v":"いいむら　りこあ"},"熊　本"]
[null,null,null,null,"飯村　吏琥愛",null,"1-2"]
[null,null,null,5,{"$f":"IF(E14=\"\",\"\",VLOOKUP(E14,Sheet2!$C$3:$D$645,2,FALSE))","v":"うえはら　あん"},"沖　縄"]
[null,null,null,null,"上原　杏",null,null,"2-2"]
[null,null,null,6,{"$f":"IF(E16=\"\",\"\",VLOOKUP(E16,Sheet2!$C$3:$D$645,2,FALSE))","v":"まつがの　こう"},"宮　崎"]
[null,null,null,null,"松ケ野　幸",null,null,null,null,"4-1"]
[null,null,null,7,{"$f":"IF(E18=\"\",\"\",VLOOKUP(E18,Sheet2!$C$3:$D$645,2,FALSE))","v":"あべ　ゆうな"},"鹿児島"]
[null,null,null,null,"阿部　祐奈",null,null,"2-3"]
[null,null,null,8,{"$f":"IF(E20=\"\",\"\",VLOOKUP(E20,Sheet2!$C$3:$D$645,2,FALSE))","v":"たなか　つむぎ"},"福　岡"]
[null,null,null,null,"田中　紬稀",null,"1-3"]
[null,null,null,9,{"$f":"IF(E22=\"\",\"\",VLOOKUP(E22,Sheet2!$C$3:$D$645,2,FALSE))","v":"はやの　れんか"},"大　分"]
[null,null,null,null,"早野　蓮花",null,null,null,"3-2"]
[null,null,null,10,{"$f":"IF(E24=\"\",\"\",VLOOKUP(E24,Sheet2!$C$3:$D$645,2,FALSE))","v":"やまだ　ゆあ"},"佐　賀"]
[null,null,null,null,"山田　結彩",null,"1-4"]
[null,null,null,11,{"$f":"IF(E26=\"\",\"\",VLOOKUP(E26,Sheet2!$C$3:$D$645,2,FALSE))","v":"なかむら　はな"},"沖　縄"]
[null,null,null,null,"中村　華",null,null,"2-4"]
[null,null,null,12,{"$f":"IF(E28=\"\",\"\",VLOOKUP(E28,Sheet2!$C$3:$D$645,2,FALSE))","v":"よしざか　るい"},"熊　本"]
[null,null,null,null,"吉坂　瑠結",null,null,null,null,null,"5-1"]
[null,null,null,13,{"$f":"IF(E30=\"\",\"\",VLOOKUP(E30,Sheet2!$C$3:$D$645,2,FALSE))","v":"いちき　ゆうら"},"宮　崎"]
[null,null,null,null,"市來　優楽",null,null,"2-5"]
[null,null,null,14,{"$f":"IF(E32=\"\",\"\",VLOOKUP(E32,Sheet2!$C$3:$D$645,2,FALSE))","v":"まもと　ひなた"},"熊　本"]
[null,null,null,null,"馬本　陽向",null,"1-5"]
[null,null,null,15,{"$f":"IF(E34=\"\",\"\",VLOOKUP(E34,Sheet2!$C$3:$D$645,2,FALSE))","v":"はまさき　あんな"},"佐　賀"]
[null,null,null,null,"濵﨑　安那",null,null,null,"3-3"]
[null,null,null,16,{"$f":"IF(E36=\"\",\"\",VLOOKUP(E36,Sheet2!$C$3:$D$645,2,FALSE))","v":"おおしま　いちか"},"大　分"]
[null,null,null,null,"大島　苺華",null,"1-6"]
[null,null,null,17,{"$f":"IF(E38=\"\",\"\",VLOOKUP(E38,Sheet2!$C$3:$D$645,2,FALSE))","v":"しばた　いつき"},"福　岡"]
[null,null,null,null,"柴田　樹",null,null,"2-6"]
[null,null,null,18,{"$f":"IF(E40=\"\",\"\",VLOOKUP(E40,Sheet2!$C$3:$D$645,2,FALSE))","v":"ひらた　りんか"},"沖　縄"]
[null,null,null,null,"平田　凜果",null,null,null,null,"4-2"]
[null,null,null,19,{"$f":"IF(E42=\"\",\"\",VLOOKUP(E42,Sheet2!$C$3:$D$645,2,FALSE))","v":"はしもと　あやか"},"大　分"]
[null,null,null,null,"橋本　彩加",null,null,"2-7"]
[null,null,null,20,{"$f":"IF(E44=\"\",\"\",VLOOKUP(E44,Sheet2!$C$3:$D$645,2,FALSE))","v":"まさおか　りお"},"宮　崎"]
[null,null,null,null,"政岡　李旺",null,"1-7"]
[null,null,null,21,{"$f":"IF(E46=\"\",\"\",VLOOKUP(E46,Sheet2!$C$3:$D$645,2,FALSE))","v":"よしだ　いちか"},"沖　縄"]
[null,null,null,null,"吉田　維花",null,null,null,"3-4"]
[null,null,null,22,{"$f":"IF(E48=\"\",\"\",VLOOKUP(E48,Sheet2!$C$3:$D$645,2,FALSE))","v":"こじま　ちか"},"佐　賀"]
[null,null,null,null,"小島　千佳",null,"1-8"]
[null,null,null,23,{"$f":"IF(E50=\"\",\"\",VLOOKUP(E50,Sheet2!$C$3:$D$645,2,FALSE))","v":"きたざと　るの"},"熊　本"]
[null,null,null,null,"北里　瑠希",null,null,"2-8"]
[null,null,null,24,{"$f":"IF(E52=\"\",\"\",VLOOKUP(E52,Sheet2!$C$3:$D$645,2,FALSE))","v":"なかぞの　ゆいね"},"福　岡"]
[null,null,null,null,"中園　紬寧"]
[null,null,null,null,{"$f":"IF(E54=\"\",\"\",VLOOKUP(E54,Sheet2!$C$3:$D$645,2,FALSE))","v":""}]
[]
[null,null,null,null,{"$f":"IF(E56=\"\",\"\",VLOOKUP(E56,Sheet2!$C$3:$D$645,2,FALSE))","v":""}]
[]
[null,null,null,null,{"$f":"IF(E58=\"\",\"\",VLOOKUP(E58,Sheet2!$C$3:$D$645,2,FALSE))","v":""}]
[]
[null,null,null,null,{"$f":"IF(E60=\"\",\"\",VLOOKUP(E60,Sheet2!$C$3:$D$645,2,FALSE))","v":""}]
[]
[null,null,null,null,{"$f":"IF(E62=\"\",\"\",VLOOKUP(E62,Sheet2!$C$3:$D$645,2,FALSE))","v":""}]
[]
[null,null,null,null,{"$f":"IF(E64=\"\",\"\",VLOOKUP(E64,Sheet2!$C$3:$D$645,2,FALSE))","v":""}]
[]
[null,null,null,null,{"$f":"IF(E66=\"\",\"\",VLOOKUP(E66,Sheet2!$C$3:$D$645,2,FALSE))","v":""}]
[]
[null,null,null,null,{"$f":"IF(E68=\"\",\"\",VLOOKUP(E68,Sheet2!$C$3:$D$645,2,FALSE))","v":""}]
[]
[null,null,null,null,{"$f":"IF(E70=\"\",\"\",VLOOKUP(E70,Sheet2!$C$3:$D$645,2,FALSE))","v":""}]
[]
[null,null,null,null,{"$f":"IF(E72=\"\",\"\",VLOOKUP(E72,Sheet2!$C$3:$D$645,2,FALSE))","v":""}]
[]
[null,null,null,null,{"$f":"IF(E74=\"\",\"\",VLOOKUP(E74,Sheet2!$C$3:$D$645,2,FALSE))","v":""}]

{"sheet":"小２女子組手","index":19,"n_rows":73,"n_cols":12,"rows_kept":73,"cut":false,"hidden":false,"merged":[[3,6,3,11],[4,2,5,2],[4,3,5,3],[4,5,5,5],[6,2,7,2],[6,3,7,3],[6,5,7,5],[8,2,9,2],[8,3,9,3],[8,5,9,5],[10,2,11,2],[10,3,11,3],[10,5,11,5],[12,2,13,2],[12,3,13,3],[12,5,13,5],[14,2,15,2],[14,3,15,3],[14,5,15,5],[16,2,17,2],[16,3,17,3],[16,5,17,5],[18,2,19,2],[18,3,19,3],[18,5,19,5],[20,2,21,2],[20,3,21,3],[20,5,21,5],[22,2,23,2],[22,3,23,3],[22,5,23,5],[24,2,25,2],[24,3,25,3],[24,5,25,5],[26,2,27,2],[26,3,27,3],[26,5,27,5],[28,2,29,2],[28,3,29,3],[28,5,29,5],[30,2,31,2],[30,3,31,3],[30,5,31,5],[32,2,33,2],[32,3,33,3],[32,5,33,5],[34,2,35,2],[34,3,35,3],[34,5,35,5],[36,2,37,2],[36,3,37,3],[36,5,37,5],[38,2,39,2],[38,3,39,3],[38,5,39,5],[40,2,41,2],[40,3,41,3],[40,5,41,5],[42,2,43,2],[42,3,43,3],[42,5,43,5],[44,2,45,2],[44,3,45,3],[44,5,45,5],[46,2,47,2],[46,3,47,3],[46,5,47,5],[48,2,49,2],[48,3,49,3],[48,5,49,5],[50,2,51,2],[50,3,51,3],[50,5,51,5],[52,2,53,2],[52,3,53,3],[52,5,53,5],[54,2,55,2],[54,3,55,3],[54,5,55,5],[56,2,57,2],[56,3,57,3],[56,5,57,5],[58,2,59,2],[58,3,59,3],[58,5,59,5]]}
[null,null,null,null,null,null,null,null,null,null,null,"　　"]
[null,null,null,null,null,null,null,null,null,null,null,"　　"]
[null,null,null,null,null,"県",null,null,null,null,null,"　　"]
[null,null,null,"小学2年女子組手",null,"沖　縄","県を選択すると県名が黄色になります。"]
[null,null,null,1,{"$f":"IF(E6=\"\",\"\",VLOOKUP(E6,Sheet2!$C$3:$D$645,2,FALSE))","v":"あらき　りあ"},"宮　崎"]
[null,null,null,null,"荒木　理愛",null,null,"2-1"]
[null,null,null,2,{"$f":"IF(E8=\"\",\"\",VLOOKUP(E8,Sheet2!$C$3:$D$645,2,FALSE))","v":"よしだ　ゆづき"},"佐　賀"]
[null,null,null,null,"吉田　優月",null,"1-1"]
[null,null,null,3,{"$f":"IF(E10=\"\",\"\",VLOOKUP(E10,Sheet2!$C$3:$D$645,2,FALSE))","v":"こじま　しおり"},"福　岡"]
[null,null,null,null,"兒嶋　栞里",null,null,null,"3-1"]
[null,null,null,4,{"$f":"IF(E12=\"\",\"\",VLOOKUP(E12,Sheet2!$C$3:$D$645,2,FALSE))","v":"かい　みこと"},"大　分"]
[null,null,null,null,"甲斐　心琴",null,"1-2"]
[null,null,null,5,{"$f":"IF(E14=\"\",\"\",VLOOKUP(E14,Sheet2!$C$3:$D$645,2,FALSE))","v":"きんじょう　はすみ"},"沖　縄"]
[null,null,null,null,"金城　羽紀",null,null,"2-2"]
[null,null,null,6,{"$f":"IF(E16=\"\",\"\",VLOOKUP(E16,Sheet2!$C$3:$D$645,2,FALSE))","v":"つるた　さや"},"熊　本"]
[null,null,null,null,"鶴田　さや",null,"1-3"]
[null,null,null,7,{"$f":"IF(E18=\"\",\"\",VLOOKUP(E18,Sheet2!$C$3:$D$645,2,FALSE))","v":"おくうら　ひな"},"宮　崎"]
[null,null,null,null,"奥浦　妃南",null,null,null,null,"4-1"]
[null,null,null,8,{"$f":"IF(E20=\"\",\"\",VLOOKUP(E20,Sheet2!$C$3:$D$645,2,FALSE))","v":"かなと　ゆうあ"},"大　分"]
[null,null,null,null,"金戸　結愛",null,"1-4"]
[null,null,null,9,{"$f":"IF(E22=\"\",\"\",VLOOKUP(E22,Sheet2!$C$3:$D$645,2,FALSE))","v":"みやのはら　さと"},"宮　崎"]
[null,null,null,null,"宮野原　桜人",null,null,"2-3"]
[null,null,null,10,{"$f":"IF(E24=\"\",\"\",VLOOKUP(E24,Sheet2!$C$3:$D$645,2,FALSE))","v":"まさおか　さき"},"福　岡"]
[null,null,null,null,"正岡　沙樹",null,"1-5"]
[null,null,null,11,{"$f":"IF(E26=\"\",\"\",VLOOKUP(E26,Sheet2!$C$3:$D$645,2,FALSE))","v":"たけだ　あまね"},"鹿児島"]
[null,null,null,null,"武田　あまね",null,null,null,"3-2"]
[null,null,null,12,{"$f":"IF(E28=\"\",\"\",VLOOKUP(E28,Sheet2!$C$3:$D$645,2,FALSE))","v":"まつなが　るの"},"佐　賀"]
[null,null,null,null,"松永　瑠乃",null,"1-6"]
[null,null,null,13,{"$f":"IF(E30=\"\",\"\",VLOOKUP(E30,Sheet2!$C$3:$D$645,2,FALSE))","v":"みやもと　さき"},"熊　本"]
[null,null,null,null,"宮本　紗希",null,null,"2-4"]
[null,null,null,14,{"$f":"IF(E32=\"\",\"\",VLOOKUP(E32,Sheet2!$C$3:$D$645,2,FALSE))","v":"おおしろ　かなみ"},"沖　縄"]
[null,null,null,null,"大城　愛珠",null,null,null,null,null,"5-1"]
[null,null,null,15,{"$f":"IF(E34=\"\",\"\",VLOOKUP(E34,Sheet2!$C$3:$D$645,2,FALSE))","v":"やすだ　ももか"},"鹿児島"]
[null,null,null,null,"安田　桃華",null,null,"2-5"]
[null,null,null,16,{"$f":"IF(E36=\"\",\"\",VLOOKUP(E36,Sheet2!$C$3:$D$645,2,FALSE))","v":"たての　てんか"},"福　岡"]
[null,null,null,null,"立野　天花",null,"1-7"]
[null,null,null,17,{"$f":"IF(E38=\"\",\"\",VLOOKUP(E38,Sheet2!$C$3:$D$645,2,FALSE))","v":"しもじ　みはる"},"沖　縄"]
[null,null,null,null,"下地　心陽",null,null,null,"3-3"]
[null,null,null,18,{"$f":"IF(E40=\"\",\"\",VLOOKUP(E40,Sheet2!$C$3:$D$645,2,FALSE))","v":"あおき　めろ"},"大　分"]
[null,null,null,null,"青木　萌蕗",null,"1-8"]
[null,null,null,19,{"$f":"IF(E42=\"\",\"\",VLOOKUP(E42,Sheet2!$C$3:$D$645,2,FALSE))","v":"えびはら　ここな"},"宮　崎"]
[null,null,null,null,"海老原　心々菜",null,null,"2-6"]
[null,null,null,20,{"$f":"IF(E44=\"\",\"\",VLOOKUP(E44,Sheet2!$C$3:$D$645,2,FALSE))","v":"ほんだ　みやび"},"熊　本"]
[null,null,null,null,"本田　雅",null,"1-9"]
[null,null,null,21,{"$f":"IF(E46=\"\",\"\",VLOOKUP(E46,Sheet2!$C$3:$D$645,2,FALSE))","v":"やまぐち　ゆめ"},"佐　賀"]
[null,null,null,null,"山口　結愛",null,null,null,null,"4-2"]
[null,null,null,22,{"$f":"IF(E48=\"\",\"\",VLOOKUP(E48,Sheet2!$C$3:$D$645,2,FALSE))","v":"きのした　すず"},"福　岡"]
[null,null,null,null,"木下　鈴",null,"1-10"]
[null,null,null,23,{"$f":"IF(E50=\"\",\"\",VLOOKUP(E50,Sheet2!$C$3:$D$645,2,FALSE))","v":"やまおか　にこる"},"宮　崎"]
[null,null,null,null,"山岡　笑琉",null,null,"2-7"]
[null,null,null,24,{"$f":"IF(E52=\"\",\"\",VLOOKUP(E52,Sheet2!$C$3:$D$645,2,FALSE))","v":"おおつか　いのり"},"大　分"]
[null,null,null,null,"大塚　生啓",null,"1-11"]
[null,null,null,25,{"$f":"IF(E54=\"\",\"\",VLOOKUP(E54,Sheet2!$C$3:$D$645,2,FALSE))","v":"かきもと　かのん"},"鹿児島"]
[null,null,null,null,"柿元　花音",null,null,null,"3-4"]
[null,null,null,26,{"$f":"IF(E56=\"\",\"\",VLOOKUP(E56,Sheet2!$C$3:$D$645,2,FALSE))","v":"うらべ　つばき"},"佐　賀"]
[null,null,null,null,"浦部　椿",null,"1-12"]
[null,null,null,27,{"$f":"IF(E58=\"\",\"\",VLOOKUP(E58,Sheet2!$C$3:$D$645,2,FALSE))","v":"にしたに　かほ"},"宮　崎"]
[null,null,null,null,"西谷　夏歩",null,null,"2-8"]
[null,null,null,28,{"$f":"IF(E60=\"\",\"\",VLOOKUP(E60,Sheet2!$C$3:$D$645,2,FALSE))","v":"はまな　かのん"},"熊　本"]
[null,null,null,null,"濵名　栞希"]
[null,null,null,null,{"$f":"IF(E62=\"\",\"\",VLOOKUP(E62,Sheet2!$C$3:$D$645,2,FALSE))","v":""}]
[]
[null,null,null,null,{"$f":"IF(E64=\"\",\"\",VLOOKUP(E64,Sheet2!$C$3:$D$645,2,FALSE))","v":""}]
[]
[null,null,null,null,{"$f":"IF(E66=\"\",\"\",VLOOKUP(E66,Sheet2!$C$3:$D$645,2,FALSE))","v":""}]
[]
[null,null,null,null,{"$f":"IF(E68=\"\",\"\",VLOOKUP(E68,Sheet2!$C$3:$D$645,2,FALSE))","v":""}]
[]
[null,null,null,null,{"$f":"IF(E70=\"\",\"\",VLOOKUP(E70,Sheet2!$C$3:$D$645,2,FALSE))","v":""}]
[]
[null,null,null,null,{"$f":"IF(E72=\"\",\"\",VLOOKUP(E72,Sheet2!$C$3:$D$645,2,FALSE))","v":""}]
[]
[null,null,null,null,{"$f":"IF(E74=\"\",\"\",VLOOKUP(E74,Sheet2!$C$3:$D$645,2,FALSE))","v":""}]

{"sheet":"小３女子組手","index":20,"n_rows":73,"n_cols":12,"rows_kept":73,"cut":false,"hidden":false,"merged":[[3,6,3,11],[4,2,5,2],[4,3,5,3],[4,5,5,5],[6,2,7,2],[6,3,7,3],[6,5,7,5],[8,2,9,2],[8,3,9,3],[8,5,9,5],[10,2,11,2],[10,3,11,3],[10,5,11,5],[12,2,13,2],[12,3,13,3],[12,5,13,5],[14,2,15,2],[14,3,15,3],[14,5,15,5],[16,2,17,2],[16,3,17,3],[16,5,17,5],[18,2,19,2],[18,3,19,3],[18,5,19,5],[20,2,21,2],[20,3,21,3],[20,5,21,5],[22,2,23,2],[22,3,23,3],[22,5,23,5],[24,2,25,2],[24,3,25,3],[24,5,25,5],[26,2,27,2],[26,3,27,3],[26,5,27,5],[28,2,29,2],[28,3,29,3],[28,5,29,5],[30,2,31,2],[30,3,31,3],[30,5,31,5],[32,2,33,2],[32,3,33,3],[32,5,33,5],[34,2,35,2],[34,3,35,3],[34,5,35,5],[36,2,37,2],[36,3,37,3],[36,5,37,5],[38,2,39,2],[38,3,39,3],[38,5,39,5],[40,2,41,2],[40,3,41,3],[40,5,41,5],[42,2,43,2],[42,3,43,3],[42,5,43,5],[44,2,45,2],[44,3,45,3],[44,5,45,5],[46,2,47,2],[46,3,47,3],[46,5,47,5],[48,2,49,2],[48,3,49,3],[48,5,49,5],[50,2,51,2],[50,3,51,3],[50,5,51,5],[52,2,53,2],[52,3,53,3],[52,5,53,5],[54,2,55,2],[54,3,55,3],[54,5,55,5],[60,2,61,2],[60,3,61,3],[60,5,61,5],[56,2,57,2],[56,3,57,3],[56,5,57,5],[58,2,59,2],[58,3,59,3],[58,5,59,5]]}
[null,null,null,null,null,null,null,null,null,null,null,"　　"]
[null,null,null,null,null,null,null,null,null,null,null,"　　"]
[null,null,null,null,null,"県",null,null,null,null,null,"　　"]
[null,null,null,"小学3年女子組手",null,"沖　縄","県を選択すると県名が黄色になります。"]
[null,null,null,1,{"$f":"IF(E6=\"\",\"\",VLOOKUP(E6,Sheet2!$C$3:$D$645,2,FALSE))","v":"あない　わかな"},"大　分"]
[null,null,null,null,"穴井　羽奏",null,null,"2-1"]
[null,null,null,2,{"$f":"IF(E8=\"\",\"\",VLOOKUP(E8,Sheet2!$C$3:$D$645,2,FALSE))","v":"なかぞの　まりん"},"福　岡"]
[null,null,null,null,"中園　真凜",null,"1-1"]
[null,null,null,3,{"$f":"IF(E10=\"\",\"\",VLOOKUP(E10,Sheet2!$C$3:$D$645,2,FALSE))","v":"さかもと　えな"},"佐　賀"]
[null,null,null,null,"坂元　愛奈",null,null,null,"3-1"]
[null,null,null,4,{"$f":"IF(E12=\"\",\"\",VLOOKUP(E12,Sheet2!$C$3:$D$645,2,FALSE))","v":"かさい　あや"},"長　崎"]
[null,null,null,null,"笠井　あや",null,"1-2"]
[null,null,null,5,{"$f":"IF(E14=\"\",\"\",VLOOKUP(E14,Sheet2!$C$3:$D$645,2,FALSE))","v":"せとぐち　きらら"},"鹿児島"]
[null,null,null,null,"瀬戸口　きらら",null,null,"2-2"]
[null,null,null,6,{"$f":"IF(E16=\"\",\"\",VLOOKUP(E16,Sheet2!$C$3:$D$645,2,FALSE))","v":"いまむら　かりな"},"宮　崎"]
[null,null,null,null,"今村　佳里奈",null,"1-3"]
[null,null,null,7,{"$f":"IF(E18=\"\",\"\",VLOOKUP(E18,Sheet2!$C$3:$D$645,2,FALSE))","v":"ながさき　ねいろ"},"沖　縄"]
[null,null,null,null,"長崎　音色",null,null,null,null,"4-1"]
[null,null,null,8,{"$f":"IF(E20=\"\",\"\",VLOOKUP(E20,Sheet2!$C$3:$D$645,2,FALSE))","v":"なかがわ　みゆ"},"熊　本"]
[null,null,null,null,"中川　心優",null,"1-4"]
[null,null,null,9,{"$f":"IF(E22=\"\",\"\",VLOOKUP(E22,Sheet2!$C$3:$D$645,2,FALSE))","v":"くすはら　のぞみ"},"長　崎"]
[null,null,null,null,"楠原　希望",null,null,"2-3"]
[null,null,null,10,{"$f":"IF(E24=\"\",\"\",VLOOKUP(E24,Sheet2!$C$3:$D$645,2,FALSE))","v":"まつうら　あかり"},"宮　崎"]
[null,null,null,null,"松浦　紅莉",null,"1-5"]
[null,null,null,11,{"$f":"IF(E26=\"\",\"\",VLOOKUP(E26,Sheet2!$C$3:$D$645,2,FALSE))","v":"せとぐち　くらら"},"鹿児島"]
[null,null,null,null,"瀬戸口　くらら",null,null,null,"3-2"]
[null,null,null,12,{"$f":"IF(E28=\"\",\"\",VLOOKUP(E28,Sheet2!$C$3:$D$645,2,FALSE))","v":"たなか　わこ"},"佐　賀"]
[null,null,null,null,"田中　杷子",null,"1-6"]
[null,null,null,13,{"$f":"IF(E30=\"\",\"\",VLOOKUP(E30,Sheet2!$C$3:$D$645,2,FALSE))","v":"いとう　れいか"},"大　分"]
[null,null,null,null,"伊藤　伶香",null,null,"2-4"]
[null,null,null,14,{"$f":"IF(E32=\"\",\"\",VLOOKUP(E32,Sheet2!$C$3:$D$645,2,FALSE))","v":"いで　つぼみ"},"福　岡"]
[null,null,null,null,"井手　蕾",null,"1-7"]
[null,null,null,15,{"$f":"IF(E34=\"\",\"\",VLOOKUP(E34,Sheet2!$C$3:$D$645,2,FALSE))","v":"ふじもと　あいみ"},"宮　崎",null,null,null,null,"5-1"]
[null,null,null,null,"藤元　あいみ"]
[null,null,null,16,{"$f":"IF(E36=\"\",\"\",VLOOKUP(E36,Sheet2!$C$3:$D$645,2,FALSE))","v":"ふたつぎ　さくら"},"福　岡"]
[null,null,null,null,"二木　さくら",null,null,"2-5"]
[null,null,null,17,{"$f":"IF(E38=\"\",\"\",VLOOKUP(E38,Sheet2!$C$3:$D$645,2,FALSE))","v":"やなり　みく"},"大　分"]
[null,null,null,null,"屋成　美空",null,"1-8"]
[null,null,null,18,{"$f":"IF(E40=\"\",\"\",VLOOKUP(E40,Sheet2!$C$3:$D$645,2,FALSE))","v":"しもだ　いお"},"佐　賀"]
[null,null,null,null,"下田　結想",null,null,null,"3-3"]
[null,null,null,19,{"$f":"IF(E42=\"\",\"\",VLOOKUP(E42,Sheet2!$C$3:$D$645,2,FALSE))","v":"さとう　ひなみ"},"熊　本"]
[null,null,null,null,"佐藤　陽菜美",null,"1-9"]
[null,null,null,20,{"$f":"IF(E44=\"\",\"\",VLOOKUP(E44,Sheet2!$C$3:$D$645,2,FALSE))","v":"たじま　みゆう"},"長　崎"]
[null,null,null,null,"田嶋　美悠",null,null,"2-6"]
[null,null,null,21,{"$f":"IF(E46=\"\",\"\",VLOOKUP(E46,Sheet2!$C$3:$D$645,2,FALSE))","v":"すぎた　まあや"},"宮　崎"]
[null,null,null,null,"杉田　真彩",null,"1-10"]
[null,null,null,22,{"$f":"IF(E48=\"\",\"\",VLOOKUP(E48,Sheet2!$C$3:$D$645,2,FALSE))","v":"なかえ　みき"},"鹿児島"]
[null,null,null,null,"中江　美姫",null,null,null,null,"4-2"]
[null,null,null,23,{"$f":"IF(E50=\"\",\"\",VLOOKUP(E50,Sheet2!$C$3:$D$645,2,FALSE))","v":"きんじょう　もあ"},"沖　縄"]
[null,null,null,null,"金城　もあ",null,"1-11"]
[null,null,null,24,{"$f":"IF(E52=\"\",\"\",VLOOKUP(E52,Sheet2!$C$3:$D$645,2,FALSE))","v":"やました　ゆいか"},"鹿児島"]
[null,null,null,null,"山下　結楓",null,null,"2-7"]
[null,null,null,25,{"$f":"IF(E54=\"\",\"\",VLOOKUP(E54,Sheet2!$C$3:$D$645,2,FALSE))","v":"いのうえ　まなみ"},"宮　崎"]
[null,null,null,null,"井上　愛望",null,"1-12"]
[null,null,null,26,{"$f":"IF(E56=\"\",\"\",VLOOKUP(E56,Sheet2!$C$3:$D$645,2,FALSE))","v":"たわら　いちる"},"福　岡"]
[null,null,null,null,"俵　一瑠",null,null,null,"3-4"]
[null,null,null,27,{"$f":"IF(E58=\"\",\"\",VLOOKUP(E58,Sheet2!$C$3:$D$645,2,FALSE))","v":"わたなべ　あゆみ"},"宮　崎"]
[null,null,null,null,"渡邊　愛夢実",null,"1-13"]
[null,null,null,28,{"$f":"IF(E60=\"\",\"\",VLOOKUP(E60,Sheet2!$C$3:$D$645,2,FALSE))","v":"なかがわ　さら"},"熊　本"]
[null,null,null,null,"中川　紗良",null,null,"2-8"]
[null,null,null,29,{"$f":"IF(E62=\"\",\"\",VLOOKUP(E62,Sheet2!$C$3:$D$645,2,FALSE))","v":"えじま　さき"},"佐　賀"]
[null,null,null,null,"江島　咲稀"]
[null,null,null,null,{"$f":"IF(E64=\"\",\"\",VLOOKUP(E64,Sheet2!$C$3:$D$645,2,FALSE))","v":""}]
[]
[null,null,null,null,{"$f":"IF(E66=\"\",\"\",VLOOKUP(E66,Sheet2!$C$3:$D$645,2,FALSE))","v":""}]
[]
[null,null,null,null,{"$f":"IF(E68=\"\",\"\",VLOOKUP(E68,Sheet2!$C$3:$D$645,2,FALSE))","v":""}]
[]
[null,null,null,null,{"$f":"IF(E70=\"\",\"\",VLOOKUP(E70,Sheet2!$C$3:$D$645,2,FALSE))","v":""}]
[]
[null,null,null,null,{"$f":"IF(E72=\"\",\"\",VLOOKUP(E72,Sheet2!$C$3:$D$645,2,FALSE))","v":""}]
[]
[null,null,null,null,{"$f":"IF(E74=\"\",\"\",VLOOKUP(E74,Sheet2!$C$3:$D$645,2,FALSE))","v":""}]

{"sheet":"小４女子組手","index":21,"n_rows":73,"n_cols":12,"rows_kept":73,"cut":false,"hidden":false,"merged":[[3,6,3,11],[4,2,5,2],[4,3,5,3],[4,5,5,5],[6,2,7,2],[6,3,7,3],[6,5,7,5],[8,2,9,2],[8,3,9,3],[8,5,9,5],[10,2,11,2],[10,3,11,3],[10,5,11,5],[12,2,13,2],[12,3,13,3],[12,5,13,5],[14,2,15,2],[14,3,15,3],[14,5,15,5],[16,2,17,2],[16,3,17,3],[16,5,17,5],[18,2,19,2],[18,3,19,3],[18,5,19,5],[20,2,21,2],[20,3,21,3],[20,5,21,5],[22,2,23,2],[22,3,23,3],[22,5,23,5],[24,2,25,2],[24,3,25,3],[24,5,25,5],[26,2,27,2],[26,3,27,3],[26,5,27,5],[28,2,29,2],[28,3,29,3],[28,5,29,5],[30,2,31,2],[30,3,31,3],[30,5,31,5],[32,2,33,2],[32,3,33,3],[32,5,33,5],[34,2,35,2],[34,3,35,3],[34,5,35,5],[36,2,37,2],[36,3,37,3],[36,5,37,5],[38,2,39,2],[38,3,39,3],[38,5,39,5],[40,2,41,2],[40,3,41,3],[40,5,41,5],[42,2,43,2],[42,3,43,3],[42,5,43,5],[44,2,45,2],[44,3,45,3],[44,5,45,5],[46,2,47,2],[46,3,47,3],[46,5,47,5],[48,2,49,2],[48,3,49,3],[48,5,49,5],[50,2,51,2],[50,3,51,3],[50,5,51,5],[52,2,53,2],[52,3,53,3],[52,5,53,5],[54,2,55,2],[54,3,55,3],[54,5,55,5],[56,2,57,2],[56,3,57,3],[56,5,57,5],[58,2,59,2],[58,3,59,3],[58,5,59,5],[60,2,61,2],[60,3,61,3],[60,5,61,5],[62,2,63,2],[62,3,63,3],[62,5,63,5],[68,2,69,2],[68,3,69,3],[68,5,69,5],[64,2,65,2],[64,3,65,3],[64,5,65,5],[66,2,67,2],[66,3,67,3],[66,5,67,5]]}
[null,null,null,null,null,null,null,null,null,null,null,"　　"]
[null,null,null,null,null,null,null,null,null,null,null,"　　"]
[null,null,null,null,null,"県",null,null,null,null,null,"　　"]
[null,null,null,"小学4年女子組手",null,"沖　縄","県を選択すると県名が黄色になります。"]
[null,null,null,1,{"$f":"IF(E6=\"\",\"\",VLOOKUP(E6,Sheet2!$C$3:$D$645,2,FALSE))","v":"やぎ　みいに"},"沖　縄"]
[null,null,null,null,"八木　美人",null,null,"2-1"]
[null,null,null,2,{"$f":"IF(E8=\"\",\"\",VLOOKUP(E8,Sheet2!$C$3:$D$645,2,FALSE))","v":"ととりべ　ゆか"},"宮　崎"]
[null,null,null,null,"鳥取部有加",null,"1-1"]
[null,null,null,3,{"$f":"IF(E10=\"\",\"\",VLOOKUP(E10,Sheet2!$C$3:$D$645,2,FALSE))","v":"はしもと　えな"},"熊　本",null,null,"3-1"]
[null,null,null,null,"橋本　恵奈"]
[null,null,null,4,{"$f":"IF(E12=\"\",\"\",VLOOKUP(E12,Sheet2!$C$3:$D$645,2,FALSE))","v":"かどはた　あん"},"福　岡"]
[null,null,null,null,"門畑　杏",null,null,"2-2"]
[null,null,null,5,{"$f":"IF(E14=\"\",\"\",VLOOKUP(E14,Sheet2!$C$3:$D$645,2,FALSE))","v":"いのまた　りこ"},"大　分",null,null,null,"4-1"]
[null,null,null,null,"猪俣　莉子"]
[null,null,null,6,{"$f":"IF(E16=\"\",\"\",VLOOKUP(E16,Sheet2!$C$3:$D$645,2,FALSE))","v":"おおいし　こころ"},"佐　賀"]
[null,null,null,null,"大石　瑚心",null,null,"2-3"]
[null,null,null,7,{"$f":"IF(E18=\"\",\"\",VLOOKUP(E18,Sheet2!$C$3:$D$645,2,FALSE))","v":"あべ　りんこ"},"鹿児島"]
[null,null,null,null,"阿部　倫子",null,null,null,"3-2"]
[null,null,null,8,{"$f":"IF(E20=\"\",\"\",VLOOKUP(E20,Sheet2!$C$3:$D$645,2,FALSE))","v":"よしだ　あい"},"宮　崎"]
[null,null,null,null,"吉田　愛",null,null,"2-4"]
[null,null,null,9,{"$f":"IF(E22=\"\",\"\",VLOOKUP(E22,Sheet2!$C$3:$D$645,2,FALSE))","v":"やました　りりか"},"長　崎",null,null,null,null,"5-1"]
[null,null,null,null,"山下　鈴蘭"]
[null,null,null,10,{"$f":"IF(E24=\"\",\"\",VLOOKUP(E24,Sheet2!$C$3:$D$645,2,FALSE))","v":"くろき　あいな　"},"宮　崎"]
[null,null,null,null,"黒木　亜衣奈",null,null,"2-5"]
[null,null,null,11,{"$f":"IF(E26=\"\",\"\",VLOOKUP(E26,Sheet2!$C$3:$D$645,2,FALSE))","v":"おかどめ　れみ"},"鹿児島"]
[null,null,null,null,"岡留　玲心",null,null,null,"3-3"]
[null,null,null,12,{"$f":"IF(E28=\"\",\"\",VLOOKUP(E28,Sheet2!$C$3:$D$645,2,FALSE))","v":"ふくだ　ゆいか"},"熊　本"]
[null,null,null,null,"福田　唯加",null,null,"2-6"]
[null,null,null,13,{"$f":"IF(E30=\"\",\"\",VLOOKUP(E30,Sheet2!$C$3:$D$645,2,FALSE))","v":"しろみず　わみ"},"佐　賀"]
[null,null,null,null,"白水　和心",null,null,null,null,"4-2"]
[null,null,null,14,{"$f":"IF(E32=\"\",\"\",VLOOKUP(E32,Sheet2!$C$3:$D$645,2,FALSE))","v":"やまね　かこ"},"沖　縄"]
[null,null,null,null,"山根　椛子",null,null,"2-7"]
[null,null,null,15,{"$f":"IF(E34=\"\",\"\",VLOOKUP(E34,Sheet2!$C$3:$D$645,2,FALSE))","v":"あだち　さくら"},"大　分"]
[null,null,null,null,"安達　さくら",null,null,null,"3-4"]
[null,null,null,16,{"$f":"IF(E36=\"\",\"\",VLOOKUP(E36,Sheet2!$C$3:$D$645,2,FALSE))","v":"やまなか　みわ"},"長　崎"]
[null,null,null,null,"山中　美和",null,null,"2-8"]
[null,null,null,17,{"$f":"IF(E38=\"\",\"\",VLOOKUP(E38,Sheet2!$C$3:$D$645,2,FALSE))","v":"おざき　るか"},"福　岡",null,null,null,null,null,"6-1"]
[null,null,null,null,"尾崎　瑠椛"]
[null,null,null,18,{"$f":"IF(E40=\"\",\"\",VLOOKUP(E40,Sheet2!$C$3:$D$645,2,FALSE))","v":"くの　ゆづき"},"佐　賀"]
[null,null,null,null,"久野　結月",null,null,"2-9"]
[null,null,null,19,{"$f":"IF(E42=\"\",\"\",VLOOKUP(E42,Sheet2!$C$3:$D$645,2,FALSE))","v":"みやもと　もあな"},"福　岡"]
[null,null,null,null,"宮本　もあな",null,null,null,"3-5"]
[null,null,null,20,{"$f":"IF(E44=\"\",\"\",VLOOKUP(E44,Sheet2!$C$3:$D$645,2,FALSE))","v":"まつばら　ことは"},"大　分"]
[null,null,null,null,"松尾　琴葉",null,null,"2-10"]
[null,null,null,21,{"$f":"IF(E46=\"\",\"\",VLOOKUP(E46,Sheet2!$C$3:$D$645,2,FALSE))","v":"ますだ　あやな"},"鹿児島"]
[null,null,null,null,"増田　文那",null,null,null,null,"4-3"]
[null,null,null,22,{"$f":"IF(E48=\"\",\"\",VLOOKUP(E48,Sheet2!$C$3:$D$645,2,FALSE))","v":"ほんだ　さな"},"長　崎"]
[null,null,null,null,"本田　紗菜",null,null,"2-11"]
[null,null,null,23,{"$f":"IF(E50=\"\",\"\",VLOOKUP(E50,Sheet2!$C$3:$D$645,2,FALSE))","v":"きんじょう　さあや"},"沖　縄"]
[null,null,null,null,"金城　咲彩",null,null,null,"3-6"]
[null,null,null,24,{"$f":"IF(E52=\"\",\"\",VLOOKUP(E52,Sheet2!$C$3:$D$645,2,FALSE))","v":"ひだか　ともえ"},"宮　崎"]
[null,null,null,null,"日髙　巴",null,null,"2-12"]
[null,null,null,25,{"$f":"IF(E54=\"\",\"\",VLOOKUP(E54,Sheet2!$C$3:$D$645,2,FALSE))","v":"あなみ　ゆい"},"熊　本"]
[null,null,null,null,"穴見　優衣",null,null,null,null,null,"5-2"]
[null,null,null,26,{"$f":"IF(E56=\"\",\"\",VLOOKUP(E56,Sheet2!$C$3:$D$645,2,FALSE))","v":"きんじょう　りん"},"鹿児島"]
[null,null,null,null,"金城　凛",null,null,"2-13"]
[null,null,null,27,{"$f":"IF(E58=\"\",\"\",VLOOKUP(E58,Sheet2!$C$3:$D$645,2,FALSE))","v":"みかわ　つばさ"},"宮　崎"]
[null,null,null,null,"見川　翼",null,null,null,"3-7"]
[null,null,null,28,{"$f":"IF(E60=\"\",\"\",VLOOKUP(E60,Sheet2!$C$3:$D$645,2,FALSE))","v":"みやざと　えりさ"},"沖　縄"]
[null,null,null,null,"宮里　エリサ",null,null,"2-14"]
[null,null,null,29,{"$f":"IF(E62=\"\",\"\",VLOOKUP(E62,Sheet2!$C$3:$D$645,2,FALSE))","v":"つなさき　まお"},"長　崎"]
[null,null,null,null,"綱崎　眞",null,null,null,null,"4-4"]
[null,null,null,30,{"$f":"IF(E64=\"\",\"\",VLOOKUP(E64,Sheet2!$C$3:$D$645,2,FALSE))","v":"みやはら　はな"},"佐　賀"]
[null,null,null,null,"宮原　はな",null,null,"2-15"]
[null,null,null,31,{"$f":"IF(E66=\"\",\"\",VLOOKUP(E66,Sheet2!$C$3:$D$645,2,FALSE))","v":"くろき　ゆら"},"宮　崎"]
[null,null,null,null,"黒木　悠楽",null,null,null,"3-8"]
[null,null,null,32,{"$f":"IF(E68=\"\",\"\",VLOOKUP(E68,Sheet2!$C$3:$D$645,2,FALSE))","v":"おざき　もか"},"福　岡"]
[null,null,null,null,"尾崎　喬椛",null,null,"2-16"]
[null,null,null,33,{"$f":"IF(E70=\"\",\"\",VLOOKUP(E70,Sheet2!$C$3:$D$645,2,FALSE))","v":"とくみつ　はんな"},"大　分"]
[null,null,null,null,"徳光　絆心"]
[null,null,null,null,{"$f":"IF(E72=\"\",\"\",VLOOKUP(E72,Sheet2!$C$3:$D$645,2,FALSE))","v":""}]
[]
[null,null,null,null,{"$f":"IF(E74=\"\",\"\",VLOOKUP(E74,Sheet2!$C$3:$D$645,2,FALSE))","v":""}]

{"sheet":"小５女子組手","index":22,"n_rows":73,"n_cols":12,"rows_kept":73,"cut":false,"hidden":false,"merged":[[3,6,3,11],[4,2,5,2],[4,3,5,3],[4,5,5,5],[6,2,7,2],[6,3,7,3],[6,5,7,5],[8,2,9,2],[8,3,9,3],[8,5,9,5],[10,2,11,2],[10,3,11,3],[10,5,11,5],[12,2,13,2],[12,3,13,3],[12,5,13,5],[14,2,15,2],[14,3,15,3],[14,5,15,5],[16,2,17,2],[16,3,17,3],[16,5,17,5],[18,2,19,2],[18,3,19,3],[18,5,19,5],[20,2,21,2],[20,3,21,3],[20,5,21,5],[22,2,23,2],[22,3,23,3],[22,5,23,5],[24,2,25,2],[24,3,25,3],[24,5,25,5],[26,2,27,2],[26,3,27,3],[26,5,27,5],[28,2,29,2],[28,3,29,3],[28,5,29,5],[30,2,31,2],[30,3,31,3],[30,5,31,5],[32,2,33,2],[32,3,33,3],[32,5,33,5],[34,2,35,2],[34,3,35,3],[34,5,35,5],[36,2,37,2],[36,3,37,3],[36,5,37,5],[38,2,39,2],[38,3,39,3],[38,5,39,5],[40,2,41,2],[40,3,41,3],[40,5,41,5],[42,2,43,2],[42,3,43,3],[42,5,43,5],[44,2,45,2],[44,3,45,3],[44,5,45,5],[46,2,47,2],[46,3,47,3],[46,5,47,5],[48,2,49,2],[48,3,49,3],[48,5,49,5],[50,2,51,2],[50,3,51,3],[50,5,51,5],[52,2,53,2],[52,3,53,3],[52,5,53,5],[54,2,55,2],[54,3,55,3],[54,5,55,5],[56,2,57,2],[56,3,57,3],[56,5,57,5],[58,2,59,2],[58,3,59,3],[58,5,59,5],[60,2,61,2],[60,3,61,3],[60,5,61,5],[62,2,63,2],[62,3,63,3],[62,5,63,5],[68,2,69,2],[68,3,69,3],[68,5,69,5],[64,2,65,2],[64,3,65,3],[64,5,65,5],[66,2,67,2],[66,3,67,3],[66,5,67,5]]}
[null,null,null,null,null,null,null,null,null,null,null,"　　"]
[null,null,null,null,null,null,null,null,null,null,null,"　　"]
[null,null,null,null,null,"県",null,null,null,null,null,"　　"]
[null,null,null,"小学5年女子組手",null,"沖　縄","県を選択すると県名が黄色になります。"]
[null,null,null,1,{"$f":"IF(E6=\"\",\"\",VLOOKUP(E6,Sheet2!$C$3:$D$645,2,FALSE))","v":"うえだ　りおな"},"熊　本"]
[null,null,null,null,"上田莉央奈",null,null,"2-1"]
[null,null,null,2,{"$f":"IF(E8=\"\",\"\",VLOOKUP(E8,Sheet2!$C$3:$D$645,2,FALSE))","v":"わたなべ　いゆ"},"福　岡"]
[null,null,null,null,"渡邉　いゆ",null,"1-1"]
[null,null,null,3,{"$f":"IF(E10=\"\",\"\",VLOOKUP(E10,Sheet2!$C$3:$D$645,2,FALSE))","v":"まつかわ　えりか"},"宮　崎",null,null,"3-1"]
[null,null,null,null,"松川　恵莉華"]
[null,null,null,4,{"$f":"IF(E12=\"\",\"\",VLOOKUP(E12,Sheet2!$C$3:$D$645,2,FALSE))","v":"たけのうえ　ここあ"},"鹿児島"]
[null,null,null,null,"竹ノ上　心優",null,null,"2-2"]
[null,null,null,5,{"$f":"IF(E14=\"\",\"\",VLOOKUP(E14,Sheet2!$C$3:$D$645,2,FALSE))","v":"いでた　あやさ"},"長　崎",null,null,null,"4-1"]
[null,null,null,null,"出田　彩紗"]
[null,null,null,6,{"$f":"IF(E16=\"\",\"\",VLOOKUP(E16,Sheet2!$C$3:$D$645,2,FALSE))","v":"よしいえ　さつき"},"佐　賀"]
[null,null,null,null,"吉家　皐",null,null,"2-3"]
[null,null,null,7,{"$f":"IF(E18=\"\",\"\",VLOOKUP(E18,Sheet2!$C$3:$D$645,2,FALSE))","v":"かなと　くれあ"},"大　分"]
[null,null,null,null,"金戸　紅空",null,null,null,"3-2"]
[null,null,null,8,{"$f":"IF(E20=\"\",\"\",VLOOKUP(E20,Sheet2!$C$3:$D$645,2,FALSE))","v":"よなはら　るい"},"沖　縄"]
[null,null,null,null,"与那原　瑠唯",null,null,"2-4"]
[null,null,null,9,{"$f":"IF(E22=\"\",\"\",VLOOKUP(E22,Sheet2!$C$3:$D$645,2,FALSE))","v":"すずき　みなこ"},"宮　崎",null,null,null,null,"5-1"]
[null,null,null,null,"鈴木　日奈子"]
[null,null,null,10,{"$f":"IF(E24=\"\",\"\",VLOOKUP(E24,Sheet2!$C$3:$D$645,2,FALSE))","v":"まるよし　めい"},"大　分"]
[null,null,null,null,"丸吉　芽生",null,null,"2-5"]
[null,null,null,11,{"$f":"IF(E26=\"\",\"\",VLOOKUP(E26,Sheet2!$C$3:$D$645,2,FALSE))","v":"まつだ　りんか"},"宮　崎"]
[null,null,null,null,"松田　梨花",null,null,null,"3-3"]
[null,null,null,12,{"$f":"IF(E28=\"\",\"\",VLOOKUP(E28,Sheet2!$C$3:$D$645,2,FALSE))","v":"なかむら　うた"},"長　崎"]
[null,null,null,null,"中村　うた",null,null,"2-6"]
[null,null,null,13,{"$f":"IF(E30=\"\",\"\",VLOOKUP(E30,Sheet2!$C$3:$D$645,2,FALSE))","v":"すぎた　えま"},"福　岡"]
[null,null,null,null,"杉田　愛茉",null,null,null,null,"4-2"]
[null,null,null,14,{"$f":"IF(E32=\"\",\"\",VLOOKUP(E32,Sheet2!$C$3:$D$645,2,FALSE))","v":"おかどめ　さら"},"鹿児島"]
[null,null,null,null,"岡留　沙來",null,null,"2-7"]
[null,null,null,15,{"$f":"IF(E34=\"\",\"\",VLOOKUP(E34,Sheet2!$C$3:$D$645,2,FALSE))","v":"のぐち　ゆあ"},"佐　賀"]
[null,null,null,null,"野口　侑愛",null,null,null,"3-4"]
[null,null,null,16,{"$f":"IF(E36=\"\",\"\",VLOOKUP(E36,Sheet2!$C$3:$D$645,2,FALSE))","v":"かさい　くるみ"},"熊　本"]
[null,null,null,null,"笠井　くるみ",null,null,"2-8"]
[null,null,null,17,{"$f":"IF(E38=\"\",\"\",VLOOKUP(E38,Sheet2!$C$3:$D$645,2,FALSE))","v":"さくま　みり"},"沖　縄",null,null,null,null,null,"6-1"]
[null,null,null,null,"佐久間　美里"]
[null,null,null,18,{"$f":"IF(E40=\"\",\"\",VLOOKUP(E40,Sheet2!$C$3:$D$645,2,FALSE))","v":"ふかみ　さき"},"長　崎"]
[null,null,null,null,"深見　紗妃",null,null,"2-9"]
[null,null,null,19,{"$f":"IF(E42=\"\",\"\",VLOOKUP(E42,Sheet2!$C$3:$D$645,2,FALSE))","v":"ながとも　ことみ"},"福　岡"]
[null,null,null,null,"永友　琴美",null,null,null,"3-5"]
[null,null,null,20,{"$f":"IF(E44=\"\",\"\",VLOOKUP(E44,Sheet2!$C$3:$D$645,2,FALSE))","v":"こまつ　かりな"},"宮　崎"]
[null,null,null,null,"小松　香里奈",null,null,"2-10"]
[null,null,null,21,{"$f":"IF(E46=\"\",\"\",VLOOKUP(E46,Sheet2!$C$3:$D$645,2,FALSE))","v":"ふくだ　わこ"},"鹿児島"]
[null,null,null,null,"福田　和心",null,null,null,null,"4-3"]
[null,null,null,22,{"$f":"IF(E48=\"\",\"\",VLOOKUP(E48,Sheet2!$C$3:$D$645,2,FALSE))","v":"さとう　りこ"},"大　分"]
[null,null,null,null,"佐藤　凛子",null,null,"2-11"]
[null,null,null,23,{"$f":"IF(E50=\"\",\"\",VLOOKUP(E50,Sheet2!$C$3:$D$645,2,FALSE))","v":"おくま　ゆずか"},"沖　縄"]
[null,null,null,null,"奥間　柚果",null,null,null,"3-6"]
[null,null,null,24,{"$f":"IF(E52=\"\",\"\",VLOOKUP(E52,Sheet2!$C$3:$D$645,2,FALSE))","v":"めら　なつみ"},"熊　本"]
[null,null,null,null,"米良　夏海",null,null,"2-12"]
[null,null,null,25,{"$f":"IF(E54=\"\",\"\",VLOOKUP(E54,Sheet2!$C$3:$D$645,2,FALSE))","v":"おくむら　まお"},"佐　賀"]
[null,null,null,null,"奥村　真央",null,null,null,null,null,"5-2"]
[null,null,null,26,{"$f":"IF(E56=\"\",\"\",VLOOKUP(E56,Sheet2!$C$3:$D$645,2,FALSE))","v":"こが　かんな"},"福　岡"]
[null,null,null,null,"古賀　莞那",null,null,"2-13"]
[null,null,null,27,{"$f":"IF(E58=\"\",\"\",VLOOKUP(E58,Sheet2!$C$3:$D$645,2,FALSE))","v":"さかい　あいか"},"大　分"]
[null,null,null,null,"酒井　愛華",null,null,null,"3-7"]
[null,null,null,28,{"$f":"IF(E60=\"\",\"\",VLOOKUP(E60,Sheet2!$C$3:$D$645,2,FALSE))","v":"せとぐち　まや"},"宮　崎"]
[null,null,null,null,"瀬戸口　眞綾",null,null,"2-14"]
[null,null,null,29,{"$f":"IF(E62=\"\",\"\",VLOOKUP(E62,Sheet2!$C$3:$D$645,2,FALSE))","v":"みやはら　なな"},"佐　賀"]
[null,null,null,null,"宮原　那奈",null,null,null,null,"4-4"]
[null,null,null,30,{"$f":"IF(E64=\"\",\"\",VLOOKUP(E64,Sheet2!$C$3:$D$645,2,FALSE))","v":"さとう　みなみ"},"熊　本"]
[null,null,null,null,"佐藤　未菜美",null,null,"2-15"]
[null,null,null,31,{"$f":"IF(E66=\"\",\"\",VLOOKUP(E66,Sheet2!$C$3:$D$645,2,FALSE))","v":"まきの　みずき"},"宮　崎"]
[null,null,null,null,"牧野　瑞葵",null,null,null,"3-8"]
[null,null,null,32,{"$f":"IF(E68=\"\",\"\",VLOOKUP(E68,Sheet2!$C$3:$D$645,2,FALSE))","v":"きな　みやび"},"沖　縄"]
[null,null,null,null,"喜納　雅",null,null,"2-16"]
[null,null,null,33,{"$f":"IF(E70=\"\",\"\",VLOOKUP(E70,Sheet2!$C$3:$D$645,2,FALSE))","v":"くさはら　こうめ"},"鹿児島"]
[null,null,null,null,"草原　幸芽"]
[null,null,null,null,{"$f":"IF(E72=\"\",\"\",VLOOKUP(E72,Sheet2!$C$3:$D$645,2,FALSE))","v":""}]
[]
[null,null,null,null,{"$f":"IF(E74=\"\",\"\",VLOOKUP(E74,Sheet2!$C$3:$D$645,2,FALSE))","v":""}]

{"sheet":"小６女子組手","index":23,"n_rows":73,"n_cols":12,"rows_kept":73,"cut":false,"hidden":false,"merged":[[4,2,5,2],[4,3,5,3],[4,5,5,5],[6,2,7,2],[6,3,7,3],[6,5,7,5],[3,6,3,11],[12,2,13,2],[12,3,13,3],[12,5,13,5],[14,2,15,2],[14,3,15,3],[14,5,15,5],[8,2,9,2],[8,3,9,3],[8,5,9,5],[10,2,11,2],[10,3,11,3],[10,5,11,5],[20,2,21,2],[20,3,21,3],[20,5,21,5],[22,2,23,2],[22,3,23,3],[22,5,23,5],[16,2,17,2],[16,3,17,3],[16,5,17,5],[18,2,19,2],[18,3,19,3],[18,5,19,5],[28,2,29,2],[28,3,29,3],[28,5,29,5],[30,2,31,2],[30,3,31,3],[30,5,31,5],[24,2,25,2],[24,3,25,3],[24,5,25,5],[26,2,27,2],[26,3,27,3],[26,5,27,5],[36,2,37,2],[36,3,37,3],[36,5,37,5],[38,2,39,2],[38,3,39,3],[38,5,39,5],[32,2,33,2],[32,3,33,3],[32,5,33,5],[34,2,35,2],[34,3,35,3],[34,5,35,5],[44,2,45,2],[44,3,45,3],[44,5,45,5],[46,2,47,2],[46,3,47,3],[46,5,47,5],[40,2,41,2],[40,3,41,3],[40,5,41,5],[42,2,43,2],[42,3,43,3],[42,5,43,5],[52,2,53,2],[52,3,53,3],[52,5,53,5],[54,2,55,2],[54,3,55,3],[54,5,55,5],[48,2,49,2],[48,3,49,3],[48,5,49,5],[50,2,51,2],[50,3,51,3],[50,5,51,5],[60,2,61,2],[60,3,61,3],[60,5,61,5],[62,2,63,2],[62,3,63,3],[62,5,63,5],[56,2,57,2],[56,3,57,3],[56,5,57,5],[58,2,59,2],[58,3,59,3],[58,5,59,5],[68,2,69,2],[68,3,69,3],[68,5,69,5],[70,2,71,2],[70,3,71,3],[70,5,71,5],[64,2,65,2],[64,3,65,3],[64,5,65,5],[66,2,67,2],[66,3,67,3],[66,5,67,5]]}
[null,null,null,null,null,null,null,null,null,null,null,"　　"]
[null,null,null,null,null,null,null,null,null,null,null,"　　"]
[null,null,null,null,null,"県",null,null,null,null,null,"　　"]
[null,null,null,"小学6年女子組手",null,"沖　縄","県を選択すると県名が黄色になります。"]
[null,null,null,1,{"$f":"IF(E6=\"\",\"\",VLOOKUP(E6,Sheet2!$C$3:$D$645,2,FALSE))","v":"ありさこ　はな"},"鹿児島"]
[null,null,null,null,"有迫　花菜",null,null,"2-1"]
[null,null,null,2,{"$f":"IF(E8=\"\",\"\",VLOOKUP(E8,Sheet2!$C$3:$D$645,2,FALSE))","v":"まつおか　ちひろ"},"宮　崎"]
[null,null,null,null,"松岡　知優",null,"1-1"]
[null,null,null,3,{"$f":"IF(E10=\"\",\"\",VLOOKUP(E10,Sheet2!$C$3:$D$645,2,FALSE))","v":"なかむら　みおり"},"長　崎",null,null,"3-1"]
[null,null,null,null,"中村　美桜"]
[null,null,null,4,{"$f":"IF(E12=\"\",\"\",VLOOKUP(E12,Sheet2!$C$3:$D$645,2,FALSE))","v":"はしもと　かこ"},"大　分"]
[null,null,null,null,"橋本　佳来",null,null,"2-2"]
[null,null,null,5,{"$f":"IF(E14=\"\",\"\",VLOOKUP(E14,Sheet2!$C$3:$D$645,2,FALSE))","v":"おがた　あいみ"},"佐　賀",null,null,null,"4-1"]
[null,null,null,null,"小形　愛実"]
[null,null,null,6,{"$f":"IF(E16=\"\",\"\",VLOOKUP(E16,Sheet2!$C$3:$D$645,2,FALSE))","v":"くりはら　るい"},"福　岡"]
[null,null,null,null,"栗原　琉衣",null,null,"2-3"]
[null,null,null,7,{"$f":"IF(E18=\"\",\"\",VLOOKUP(E18,Sheet2!$C$3:$D$645,2,FALSE))","v":"ふじわら　やよい"},"宮　崎"]
[null,null,null,null,"藤原　弥生",null,null,null,"3-2"]
[null,null,null,8,{"$f":"IF(E20=\"\",\"\",VLOOKUP(E20,Sheet2!$C$3:$D$645,2,FALSE))","v":"たいら　くるみ"},"沖　縄"]
[null,null,null,null,"平良　くるみ",null,null,"2-4"]
[null,null,null,9,{"$f":"IF(E22=\"\",\"\",VLOOKUP(E22,Sheet2!$C$3:$D$645,2,FALSE))","v":"ふじもと　いおり"},"熊　本",null,null,null,null,"5-1"]
[null,null,null,null,"藤本　衣織"]
[null,null,null,10,{"$f":"IF(E24=\"\",\"\",VLOOKUP(E24,Sheet2!$C$3:$D$645,2,FALSE))","v":"さとう　さき"},"佐　賀"]
[null,null,null,null,"佐藤　沙紀",null,null,"2-5"]
[null,null,null,11,{"$f":"IF(E26=\"\",\"\",VLOOKUP(E26,Sheet2!$C$3:$D$645,2,FALSE))","v":"みぞた　ゆうの"},"長　崎"]
[null,null,null,null,"溝田　悠乃",null,null,null,"3-3"]
[null,null,null,12,{"$f":"IF(E28=\"\",\"\",VLOOKUP(E28,Sheet2!$C$3:$D$645,2,FALSE))","v":"やの　ここ"},"熊　本"]
[null,null,null,null,"矢野　心",null,null,"2-6"]
[null,null,null,13,{"$f":"IF(E30=\"\",\"\",VLOOKUP(E30,Sheet2!$C$3:$D$645,2,FALSE))","v":"さきた　けい"},"福　岡"]
[null,null,null,null,"﨑田　慧",null,null,null,null,"4-2"]
[null,null,null,14,{"$f":"IF(E32=\"\",\"\",VLOOKUP(E32,Sheet2!$C$3:$D$645,2,FALSE))","v":"かわじ　にこ"},"宮　崎"]
[null,null,null,null,"川路　仁幸",null,null,"2-7"]
[null,null,null,15,{"$f":"IF(E34=\"\",\"\",VLOOKUP(E34,Sheet2!$C$3:$D$645,2,FALSE))","v":"やましろ　くらら"},"沖　縄"]
[null,null,null,null,"山城　くらら",null,null,null,"3-4"]
[null,null,null,16,{"$f":"IF(E36=\"\",\"\",VLOOKUP(E36,Sheet2!$C$3:$D$645,2,FALSE))","v":"ひがしなかがわ　りさ"},"鹿児島"]
[null,null,null,null,"東中川　莉彩",null,null,"2-8"]
[null,null,null,17,{"$f":"IF(E38=\"\",\"\",VLOOKUP(E38,Sheet2!$C$3:$D$645,2,FALSE))","v":"かなと　あいり"},"大　分"]
[null,null,null,null,"金戸　藍璃",null,null,null,null,null,null,"6-1"]
[null,null,null,18,{"$f":"IF(E40=\"\",\"\",VLOOKUP(E40,Sheet2!$C$3:$D$645,2,FALSE))","v":"みやばやし　にこ"},"沖　縄"]
[null,null,null,null,"宮林　和",null,null,"2-9"]
[null,null,null,19,{"$f":"IF(E42=\"\",\"\",VLOOKUP(E42,Sheet2!$C$3:$D$645,2,FALSE))","v":"わたり　こはる"},"鹿児島"]
[null,null,null,null,"渡　心晴",null,null,null,"3-5"]
[null,null,null,20,{"$f":"IF(E44=\"\",\"\",VLOOKUP(E44,Sheet2!$C$3:$D$645,2,FALSE))","v":"やまもと　せな"},"長　崎"]
[null,null,null,null,"山本　星奈",null,null,"2-10"]
[null,null,null,21,{"$f":"IF(E46=\"\",\"\",VLOOKUP(E46,Sheet2!$C$3:$D$645,2,FALSE))","v":"もりさき　はるな"},"佐　賀"]
[null,null,null,null,"森﨑　陽菜",null,null,null,null,"4-3"]
[null,null,null,22,{"$f":"IF(E48=\"\",\"\",VLOOKUP(E48,Sheet2!$C$3:$D$645,2,FALSE))","v":"かわの　あいこ"},"宮　崎"]
[null,null,null,null,"河野　愛子",null,null,"2-11"]
[null,null,null,23,{"$f":"IF(E50=\"\",\"\",VLOOKUP(E50,Sheet2!$C$3:$D$645,2,FALSE))","v":"ふじさわ　はなお"},"大　分"]
[null,null,null,null,"藤澤　花緒",null,null,null,"3-6"]
[null,null,null,24,{"$f":"IF(E52=\"\",\"\",VLOOKUP(E52,Sheet2!$C$3:$D$645,2,FALSE))","v":"あらき　りおな"},"熊　本"]
[null,null,null,null,"荒木　里央奈",null,null,"2-12"]
[null,null,null,25,{"$f":"IF(E54=\"\",\"\",VLOOKUP(E54,Sheet2!$C$3:$D$645,2,FALSE))","v":"まつもと　ゆめか"},"福　岡"]
[null,null,null,null,"松本　夢果"]
[null,null,null,26,{"$f":"IF(E56=\"\",\"\",VLOOKUP(E56,Sheet2!$C$3:$D$645,2,FALSE))","v":"いわきり　くれない"},"宮　崎",null,null,null,null,"5-2"]
[null,null,null,null,"岩切　紅",null,null,"2-13"]
[null,null,null,27,{"$f":"IF(E58=\"\",\"\",VLOOKUP(E58,Sheet2!$C$3:$D$645,2,FALSE))","v":"もり　まなみ"},"大　分"]
[null,null,null,null,"森　愛海",null,null,null,"3-7"]
[null,null,null,28,{"$f":"IF(E60=\"\",\"\",VLOOKUP(E60,Sheet2!$C$3:$D$645,2,FALSE))","v":"こが　りさ"},"熊　本"]
[null,null,null,null,"古賀　理咲",null,null,"2-14"]
[null,null,null,29,{"$f":"IF(E62=\"\",\"\",VLOOKUP(E62,Sheet2!$C$3:$D$645,2,FALSE))","v":"たなか　くう"},"鹿児島"]
[null,null,null,null,"田中　空"]
[null,null,null,30,{"$f":"IF(E64=\"\",\"\",VLOOKUP(E64,Sheet2!$C$3:$D$645,2,FALSE))","v":"たかた　みく"},"福　岡",null,null,null,"4-4"]
[null,null,null,null,"髙田　未来",null,null,"2-15"]
[null,null,null,31,{"$f":"IF(E66=\"\",\"\",VLOOKUP(E66,Sheet2!$C$3:$D$645,2,FALSE))","v":"かみや　ひめか"},"沖　縄"]
[null,null,null,null,"神谷　姫歌"]
[null,null,null,32,{"$f":"IF(E68=\"\",\"\",VLOOKUP(E68,Sheet2!$C$3:$D$645,2,FALSE))","v":"えした　そら"},"佐　賀",null,null,"3-8"]
[null,null,null,null,"江下　宙来",null,"1-2"]
[null,null,null,33,{"$f":"IF(E70=\"\",\"\",VLOOKUP(E70,Sheet2!$C$3:$D$645,2,FALSE))","v":"やまのくち　まりあ"},"宮　崎"]
[null,null,null,null,"山之口　聖彩",null,null,"2-16"]
[null,null,null,34,{"$f":"IF(E72=\"\",\"\",VLOOKUP(E72,Sheet2!$C$3:$D$645,2,FALSE))","v":"あおさき　きらら"},"長　崎"]
[null,null,null,null,"青﨑　きらら"]
[null,null,null,null,{"$f":"IF(E74=\"\",\"\",VLOOKUP(E74,Sheet2!$C$3:$D$645,2,FALSE))","v":""}]

{"sheet":"Sheet2","index":24,"n_rows":645,"n_cols":4,"rows_kept":645,"cut":false,"hidden":true,"merged":[]}
[]
[null,null,"氏名","ふりがな"]
[null,null,"平井　 敦人","ひらい　あつと"]
[null,null,"松尾　伊織","まつお　いおり"]
[null,null,"佐藤　朔悠","さとう　もとひさ"]
[null,null,"大田　侑生","おおた　ゆうせい"]
[null,null,"穴井　煌士","あない　こうし"]
[null,null,"小野　蒼二朗","おの　そうじろう"]
[null,null,"古梶　景大","こかじ　けいた"]
[null,null,"佐藤　翼","さとう　つばさ"]
[null,null,"末吉　琉恩","すえよし　りおん"]
[null,null,"佐藤　洸太","さとう　こうた"]
[null,null,"峰藤　遥","みねふじ　はる"]
[null,null,"佐藤　龍希","さとう　りゅうき"]
[null,null,"筒井　琥大","つつい　こだい"]
[null,null,"中畑 　友樹","なかはた　ともき"]
[null,null,"木元　聖渚","きもと　せいな"]
[null,null,"津崎　星七","つざき　せいな"]
[null,null,"寺田　結登","てらだ　ゆうと"]
[null,null,"伊東　舜太朗","いとう　しゅんたろう"]
[null,null,"日名子　柊也","ひなご　とうや"]
[null,null,"梅本　晃大","うめもと　こうた"]
[null,null,"土師　龍歩","はじ　りゅうほ"]
[null,null,"酒井　悠真","さかい　ゆうま"]
[null,null,"杉山　流月","すぎやま　りつき"]
[null,null,"古梶　快晟","こかじ　かいせい"]
[null,null,"末吉　流華","すえよし　るか"]
[null,null,"平野　亨士郎","ひらの　きょうしろう"]
[null,null,"後藤　陸斗","ごとう　りくと"]
[null,null,"土師　彰真","はじ　しょうま"]
[null,null,"衛藤　悠聖","えとう　ゆうせい"]
[null,null,"酒井　湊斗","さかい　かなと"]
[null,null,"原戸　奎輔","はらと　けいすけ"]
[null,null,"川野　幹太","かわの　かんた"]
[null,null,"牧野　廉大","まきの　れんた"]
[null,null,"矢野　颯汰","やの　そうた"]
[null,null,"橋本　壮志","はしもと　そうし"]
[null,null,"恵上　漫作","えがみ　まんさく"]
[null,null,"波照間　大晴","はてるま　たいせい"]
[null,null,"平田　和真","ひらた　かずま"]
[null,null,"清　珀翔","せい　はくと"]
[null,null,"今泉　慧","いまいずみ　けい"]
[null,null,"屋比久　和奇","やびく　かずき"]
[null,null,"増田　陸人","ますだ　りくと"]
[null,null,"嘉陽　奏人","かよう　そうじ"]
[null,null,"金城　波汐眞","きんじょう　はゆま"]
[null,null,"新城　佑賢","しんじょう　ゆうけん"]
[null,null,"島袋　歩希","しまぶくろ　あゆき"]
[null,null,"平江　葵","ひらえ　あおい"]
[null,null,"大濵　顕","おおはま　てる"]
[null,null,"比嘉　琉之介","ひが　りゅうのすけ"]
[null,null,"永山　瑛太","ながやま　えいた"]
[null,null,"仲間　結虎","なかま　ゆうと"]
[null,null,"永山　陽向","ながやま　ひなた　"]
[null,null,"前原　広弥","まえはら　こうや"]
[null,null,"吉浜　海晴","よしはま　かいせい"]
[null,null,"島袋　琉心","しまぶくろ　りゅうしん"]
[null,null,"井上　凛太郎","いのうえ　りんたろう"]
[null,null,"神谷　晃汰","かみや　こうた"]
[null,null,"儀保　堅勇","ぎぼ　けんゆう"]
[null,null,"大城　将彰","おおしろ　まき"]
[null,null,"糸数　成琉","いとかず　なる"]
[null,null,"上田　悠士郎","うえだ　ゆうしろう"]
[null,null,"金城　夢翔","きんじょう　ゆめと"]
[null,null,"佐久眞　琉","さくま　りゅう"]
[null,null,"上原　丞生","うえはら　じょう"]
[null,null,"赤嶺　憲芯","あかみね　けんしん"]
[null,null,"大城　清力","おおしろ　きよりき"]
[null,null,"新城　虎治郎","しんじょう　とらじろう"]
[null,null,"波多野　和司","はたの　かずし"]
[null,null,"平田　裕典","ひらた　ゆうすけ"]
[null,null,"比嘉　朔太郎","ひが　さくたろう"]
[null,null,"金城　颯","きんじょう　はやて"]
[null,null,"照屋　泰樹","てるや　たいき"]
[null,null,"砂川　瑛音","すながわ　えいと"]
[null,null,"金城　匠海","きんじょう　なるみ"]
[null,null,"金城　清太","きんじょう　せいた"]
[null,null,"久高　晃輔","くだか　こうすけ"]
[null,null,"真保栄　琉偉","まほえ　るい"]
[null,null,"五十嵐　義三郎","いがらし　よしさぶろう"]
[null,null,"冨里　和哉","ふさと　かずや"]
[null,null,"仲宗根　雄飛","なかそね　ゆうひ"]
[null,null,"成海　悠真","なるみ　ゆうま"]
[null,null,"金城　吏恩","きんじょう　りおん"]
[null,null,"上原　道","うえはら　みち"]
[null,null,"金城　蓮","きんじょう　れん"]
[null,null,"魚見　龍臣","うおみ　たつみ"]
[null,null,"魚見　龍稀","うおみ　たつき"]
[null,null,"阿比留　弦獅","あびる　げんじ"]
[null,null,"杉本　太地","すぎもと　たいち"]
[null,null,"湯浅　琉介","ゆあさ　りゅうすけ"]
[null,null,"小島　凛之介","こじま　りんのすけ"]
[null,null,"森田　佑亮","もりた　ゆうすけ"]
[null,null,"杉本　慶太","すぎもと　けいた"]
[null,null,"柴田　瑛光","しばた　えいこう"]
[null,null,"中里　淳之介","なかざと　じゅんのすけ"]
[null,null,"黑木　俠宝","くろき　きょうほう"]
[null,null,"田中　俄人","たなか　がくと"]
[null,null,"湯浅　恵太","ゆあさ　けいた"]
[null,null,"江口　詠時","えぐち　えいじ"]
[null,null,"織田　優翔","おだ　ゆうと"]
[null,null,"濱野　聖那","はまの　せな"]
[null,null,"立木　奎伍","たちき　けいご"]
[null,null,"城谷　連唯","しろたに　れい"]
[null,null,"于　卓平","う　たかよし"]
[null,null,"大久保　玲音","おおくぼ　れのん"]
[null,null,"林　優雅","はやし　ゆうが"]
[null,null,"下村　楓馬","しもむら　ふうま"]
[null,null,"福田　蓮翔","ふくだ　れんと"]
[null,null,"山科　陸駆","やましな　りく"]
[null,null,"松本　歩睦","まつもと　あゆむ"]
[null,null,"橘高　佑弥","きったか　ゆうや"]
[null,null,"柿元　瑛次","かきもと　えいじ"]
[null,null,"阿部　亮汰","あべ　りょうた"]
[null,null,"鶴水　寛大","つるみず　かんた"]
[null,null,"政　真義","つかさ　しんぎ"]
[null,null,"寶山　琉斗","ほうやま　るいと"]
[null,null,"矢野　琥斗良","やの　ことら"]
[null,null,"上之原　百助","うえのはら　ももすけ"]
[null,null,"阿部　孝祐","あべ　こうすけ"]
[null,null,"大串　海ムサフィリ","おおぐし　かいむさふぃり"]
[null,null,"中　彪雅","なか　ひゅうが"]
[null,null,"米良　龍来","めら　りく"]
[null,null,"大高　圭登","おおたか　けいと"]
[null,null,"勇元　謙信","ゆうもと　けんしん"]
[null,null,"草原　駆","くさはら　かける"]
[null,null,"黒石　瑛汰","くろいし　えいた"]
[null,null,"今岡　竜希","いまおか　りゅうき"]
[null,null,"實　啓豪","さね　けいごう"]
[null,null,"瀬戸口　銀志","せとぐち　ぎんじ"]
[null,null,"北別府　和奏","きたべっぷ　わかな"]
[null,null,"新山　陽斗","しんやま　はると"]
[null,null,"久保　拳","くぼ　けん"]
[null,null,"福留　隼","ふくどめ　はやて"]
[null,null,"岩井田　佑輝","いわいだ　ゆうき"]
[null,null,"柿元　侑大","かきもと　ゆうだい"]
[null,null,"内田　想亮","うちだ　そうすけ"]
[null,null,"園田　晟稀","そのだ　せいき"]
[null,null,"井川　蒼真","いがわ　そうま"]
[null,null,"武田　創","たけだ　はじめ"]
[null,null,"上之原　壱仁","うえのはら　いちひと"]
[null,null,"矢野　琥二郎","やの　こじろう"]
[null,null,"杉山　大芯","すぎやま　たいしん"]
[null,null,"今岡　唯深絆","いまおか　いぶき"]
[null,null,"成政　琉星","なりまさ　りゅうせい"]
[null,null,"福島　理志","ふくしま　みちし"]
[null,null,"米田　浬琥","よねだ　りく"]
[null,null,"坂脇　丈路","さかわき　たける"]
[null,null,"隈部　慶","くまべ　けい"]
[null,null,"橋本 蓮人","はしもと れんと"]
[null,null,"松下 倖喜","まつした こうき"]
[null,null,"福田悠人","ふくだ　ゆうしん"]
[null,null,"富岡　光翔","とみおか　るいと"]
[null,null,"隈部　慶","くまべ　けい"]
[null,null,"江藤　獅恩","えとう　しおん"]
[null,null,"松下 倖喜","まつした こうき"]
[null,null,"白﨑　倖太","しらさき　こうた"]
[null,null,"穴見　優成","あなみ　ゆうせい"]
[null,null,"山頭 倖大","やまがしら こうだい"]
[null,null,"神酒　怜心","みき　れいしん"]
[null,null,"神酒　怜心","みき　れいしん"]
[null,null,"白﨑　倖太","しらさき　こうた"]
[null,null,"林　眞大","はやし　まひろ"]
[null,null,"嶋田　海斗","しまだ　かいと"]
[null,null,"江頭 禾惟","えがしら　かい"]
[null,null,"橋本 喜心","はしもと きしん"]
[null,null,"田中　琉晴","たなか　りゅうせい"]
[null,null,"木下　海里","きのした　かいり"]
[null,null,"田中　琉晴","たなか　りゅうせい"]
[null,null,"芦原　陽真","あしはら　はるま"]
[null,null,"興梠　縁","こうろき　えん"]
[null,null,"末藤　陽","すえふじ　ひなた"]
[null,null,"野添　太陽","のぞえ　たいよう"]
[null,null,"星子　知潤","ほしこ　ちひろ"]
[null,null,"三角　俠太郎","みすみ　きょうたろう"]
[null,null,"福田航大","ふくだ　こうだい"]
[null,null,"三角　俠太郎","みすみ　きょうたろう"]
[null,null,"山本　湊士","やまもと　みなと"]
[null,null,"星子　知潤","ほしこ　ちひろ"]
[null,null,"福田航大","ふくだ　こうだい"]
[null,null,"前坂　航","まえさか　わたる"]
[null,null,"林田　創志","はやしだ　そうし"]
[null,null,"村田　嗣龍","むらた　　しりゅう"]
[null,null,"濱﨑　武","はまさき　たける"]
[null,null,"髙宮　奏一郎","たかみや　そういちろう"]
[null,null,"外田　昇太郎","ほかだ　しょうたろう"]
[null,null,"村上　拓真","むらかみ　たくま"]
[null,null,"宮坂 勇輝","みやさか ゆうき"]
[null,null,"沖田響","おきた　ひびき"]
[null,null,"山本　彪真","やまもと　ひょうま"]
[null,null,"山下　真巨","やました　まお"]
[null,null,"山本　彪真","やまもと　ひょうま"]
[null,null,"米村　優志","よねむら　ゆうし"]
[null,null,"竹林　佑彪","たけばやしゆりと"]
[null,null,"村山　匠人","むらやま　たくと"]
[null,null,"鳥取部　守史","ととりべ　もりふみ"]
[null,null,"奥田　光太郎","おくだ　こうたろう"]
[null,null,"白山　剣紳","しろやま　けんしん"]
[null,null,"池田　結琉","いけだ　ゆうり"]
[null,null,"近藤　凰琳","こんどう　おうり"]
[null,null,"成合　優斗","なりあい　みなと"]
[null,null,"川畑　天輝","かわばた　はるき"]
[null,null,"南　快","みなみ　かい"]
[null,null,"水井　雅人","みずい　まさと"]
[null,null,"川路　幸和","かわじ　こうわ"]
[null,null,"牛嶋　唯人","うしじま　ゆいと"]
[null,null,"高松　英留","たかまつ　える"]
[null,null,"鶴輪　奏人","つるわ　かなと"]
[null,null,"有馬　来生","ありま　らいき"]
[null,null,"堀口　暖馬","ほりぐち　はるま"]
[null,null,"世良田　悠介","せらだ　ゆうすけ"]
[null,null,"野口　來翔","のぐち　らいと"]
[null,null,"中原　優晴","なかはら　ゆうせい"]
[null,null,"和田　春人","わだ　はると"]
[null,null,"近藤　羚凰駕","こんどう　れおが"]
[null,null,"山本　想真","やまもと　そうしん"]
[null,null,"黒木　路五","くろき　るい"]
[null,null,"中園　皇成","なかぞの　こうせい"]
[null,null,"黒木　康生","くろき　こうき"]
[null,null,"土屋　輝人","つちや　きらと"]
[null,null,"鶴田　柊","つるた　しゅう"]
[null,null,"川畑　翔也","かわばた　しょうや"]
[null,null,"有馬　蓮惺","ありま　れんせい"]
[null,null,"戸髙　桜士朗","とだか　おうしろう"]
[null,null,"長野　聖龍","ながの　せいりゅう"]
[null,null,"酒井　舷気","さかい　げんき"]
[null,null,"甲斐　勇希","かい　ゆうき"]
[null,null,"上田　航之介","かんだ　こうのすけ"]
[null,null,"桑山　偉知","くわやま　いち"]
[null,null,"鶴田　粋","つるた　すい"]
[null,null,"見川　龍","みかわ　りゅう"]
[null,null,"村田　英太","むらた　えいた"]
[null,null,"津澤　玲桜","つざわ　しょうや"]
[null,null,"富永　泰生","とみなが　たいせい"]
[null,null,"小川　竜暉","おがわ　りゅうき"]
[null,null,"牛島　凛大郎","うしじま　りんたろう"]
[null,null,"岩田　大空","いわた　たく"]
[null,null,"小牧　奏翔","こまき　かなと"]
[null,null,"寺尾　翼","てらお　つばさ"]
[null,null,"中村　陽斗","なかむら　はると"]
[null,null,"清水　海音","しみず　かいと"]
[null,null,"南　仁","みなみ　じん"]
[null,null,"政岡　凰雅","まさおか　こうが"]
[null,null,"藤元　寿帆","ふじもと　かずほ"]
[null,null,"佐々木　凛來","ささき　りく"]
[null,null,"甲斐　亮甫","かい　りょうすけ"]
[null,null,"宮野原　海人","みやのはら　みと"]
[null,null,"上ノ町　鴻太","かみのその　こうた"]
[null,null,"小屋敷　哩仁","こやしき　りひと"]
[null,null,"林　武聖","はやし　たける"]
[null,null,"丸山　大翔","まるやま　はると"]
[null,null,"山本　誠真","やまもと　せいしん"]
[null,null,"鶴田　絆","つるた　きずな"]
[null,null,"牧野　遼稀","まきの　はるき"]
[null,null,"多田　大翔","ただ　ひろと"]
[null,null,"橋口　礼侍","はしぐち　らいじ"]
[null,null,"高松　留偉","たかまつ　るい"]
[null,null,"東條　泰介","とうじょう　たいすけ"]
[null,null,"八尋　大晴","やひろ　たいせい"]
[null,null,"寒竹　瑛隼","かんたけ　えいと"]
[null,null,"田中　碧","たなか　あおい"]
[null,null,"吉留　幸","よしとめ　さち"]
[null,null,"本田　大智","ほんだ　たいち"]
[null,null,"梅原　悠成","うめはら　ゆうせい"]
[null,null,"小金丸　幸太","こがねまる　こうた"]
[null,null,"山根　王輝","やまね　おうき"]
[null,null,"村上　楓大朗","むらかみ　そうたろう"]
[null,null,"神宮　琥珀","しんぐう　こはく"]
[null,null,"奥平　結太","おくだいら　ゆうた"]
[null,null,"蒲池　翔真","かまち　しょうま"]
[null,null,"宮原　俊丞","みやはら　しゅんすけ"]
[null,null,"江川　聡真","えがわ　そうま"]
[null,null,"坂口　創弥","さかぐち　そうや"]
[null,null,"田口　智喜","たぐち　ともき"]
[null,null,"川原　一真","かわはら　かずま"]
[null,null,"樋口　慎吾","ひぐち　しんご"]
[null,null,"早田　海音","そうだ　かいと"]
[null,null,"富永　悠大","とみなが　ゆうと"]
[null,null,"大塚　史遠","おおつか　しおん"]
[null,null,"新川　翔太","しんかわ　しょうた"]
[null,null,"金子　新","かねこ　しん"]
[null,null,"迎　奏甫","むかえ　そうすけ"]
[null,null,"川原　宗真","かわはら　そうま"]
[null,null,"森　蓮志","もり　れんし"]
[null,null,"坂田　光遥","さかた　こうよう"]
[null,null,"若松  宏紀","わかまつ　こうき"]
[null,null,"柏原  誠摩","かしわら　せいま"]
[null,null,"東房　新","とうぼう　あらた"]
[null,null,"廣瀬　倭","ひろせ　やまと"]
[null,null,"古賀　碧波","こが　あおば"]
[null,null,"岩野　雷三","いわの　らいぞう"]
[null,null,"吉田  琉唯","よしだ　るい"]
[null,null,"山崎　琉恩","やまさき　りおん"]
[null,null,"中島　王志","なかしま　おおし"]
[null,null,"坂本　令旺真","さかもと　れおま"]
[null,null,"松村　幸龍","まつむら　こうりゅう"]
[null,null,"坂本　暖真","さかもと　はるま"]
[null,null,"川口　倭央","かわぐち　いお"]
[null,null,"榎本　篤人","えのもと　あつと"]
[null,null,"保手濱　梨一","ほてはま　りいち"]
[null,null,"佐藤　壱","さとう　いち"]
[null,null,"中村　昊喜","なかむら　こうき"]
[null,null,"沖 斗佑守","おき　とうま"]
[null,null,"白坂　隆之介","しらさか　りゅうのすけ"]
[null,null,"松永　燕祁","まつなが　なるき"]
[null,null,"桑村　颯寿","くわむら　さとし"]
[null,null,"久島　隆雅","ひさじま　りゅうが"]
[null,null,"二木　輝","ふたつぎ　ひかる"]
[null,null,"小栁　光生","こやなぎ　こうせい"]
[null,null,"内川　琉暉","うちかわ　りゅうき"]
[null,null,"尋木　雅弘","たずのき　まさひろ"]
[null,null,"中野　帆尊","なかの　ほたか"]
[null,null,"川原　颯馬","かわはら　そうま"]
[null,null,"小野　秀真","おの　しゅうま"]
[null,null,"下村　錬聖","しもむら　れんせい"]
[null,null,"米村　渉","よねむら　わたる"]
[null,null,"坂口　駿太","さかぐち　しゅんた"]
[null,null,"嶋本　琉歩","しまもと　りゅうあ"]
[null,null,"井上　颯","いのうえ　はやて"]
[null,null,"田中　和寛","たなか　わひろ"]
[null,null,"小野　巧人","おの　たくと"]
[null,null,"寺島　聖真","てらしま　きよまさ"]
[null,null,"今泉　知仁","いまいずみ　ともひと"]
[null,null,"山口　善大","やまぐち　よしひろ"]
[null,null,"牟田　充希","むた　あつき"]
[null,null,"天野　圭翔","あまの　けいしょう"]
[null,null,"田中　道久","たなか　みちひさ"]
[null,null,"馬場　央維","ばば　おうすけ"]
[null,null,"内川　玲輝","うちかわ　れいき"]
[null,null,"内田　晴貴","うちだ　はるき"]
[null,null,"小野　蒼太","おの　そうた"]
[null,null,"末次　汰地","すえつぐ　たいち"]
[null,null,"大坪　蒼生","おおつぼ　あおい"]
[null,null,"吉田　隆太朗","よしだ　りゅうたろう"]
[null,null,"荒巻　悠真","あらまき　はるま"]
[null,null,"中野　偉央","なかの　いおう"]
[null,null,"辻　亮太","つじ　りょうた"]
[null,null,"石田　雅宗","いしだ　まさむね"]
[null,null,"松本　涼太","まつもと　りょうた"]
[null,null,"緒方　健成","おがた　たける"]
[null,null,"堺　奏太","さかい　かなた"]
[null,null,"伊藤　利誠","いとう　としまさ"]
[null,null,"筒井　美光","つつい　みこ"]
[null,null,"田崎　柚莉佳","たさき　ゆりか"]
[null,null,"橋本　彩加","はしもと　あやか"]
[null,null,"大島　苺華","おおしま　いちか"]
[null,null,"早野　蓮花","はやの　れんか"]
[null,null,"古野　愛佳","ふるの　あいか"]
[null,null,"大塚　生啓","おおつか　いのり"]
[null,null,"佐藤　天珂","さとう　てんか"]
[null,null,"角　一花","すみ　いちか"]
[null,null,"金戸　結愛","かなと　ゆうあ"]
[null,null,"甲斐　心琴","かい　みこと"]
[null,null,"青木　萌蕗","あおき　めろ"]
[null,null,"酒井　里衣菜","さかい　りいな"]
[null,null,"梅田　咲優","うめだ　さゆ"]
[null,null,"伊藤　伶香","いとう　れいか"]
[null,null,"穴井　羽奏","あない　わかな"]
[null,null,"屋成　美空","やなり　みく"]
[null,null,"橋本　咲和","はしもと　さわ"]
[null,null,"安達　さくら","あだち　さくら"]
[null,null,"猪俣　莉子","いのまた　りこ"]
[null,null,"山崎　凛夏","やまさき　りんか"]
[null,null,"徳光　絆心","とくみつ　はんな"]
[null,null,"松尾　琴葉","まつばら　ことは"]
[null,null,"佐藤　凛子","さとう　りこ"]
[null,null,"酒井　愛華","さかい　あいか"]
[null,null,"田中　凜佳","たなか　りんか"]
[null,null,"金戸　紅空","かなと　くれあ"]
[null,null,"冨重　みお","とみしげ　みお"]
[null,null,"丸吉　芽生","まるよし　めい"]
[null,null,"佐藤　姫優","さとう　ひゆ"]
[null,null,"橋本　佳来","はしもと　かこ"]
[null,null,"森　愛海","もり　まなみ"]
[null,null,"金戸　藍璃","かなと　あいり"]
[null,null,"藤澤　花緒","ふじさわ　はなお"]
[null,null,"島袋　杏里","しまぶくろ　あんり"]
[null,null,"瑞慶覧　京叶","ずけらん　こと"]
[null,null,"國吉　姫夏","くによし　ひなつ"]
[null,null,"仲座　志音","なかざ　しのん"]
[null,null,"近藤　希ノ和","こんどう　ののな"]
[null,null,"兼島　佳那多","かねしま　かなた"]
[null,null,"照屋　夏美","てるや　なちゅら"]
[null,null,"嶺井　想七","みねい　そな"]
[null,null,"島袋　かなさ","しまぶくろ　かなさ"]
[null,null,"東大島　玲菜","ありおおしま　れいな"]
[null,null,"瑞慶山　千寿","ずけやま　ちず"]
[null,null,"上地　結心","うえち　ゆこ"]
[null,null,"上原　彩煌","うえはら　さら"]
[null,null,"我如古　穂花","がねこ　ほのか"]
[null,null,"上田　楓乃","うえだ　かの"]
[null,null,"川田　くくる","かわだ　くくる"]
[null,null,"島袋　美音","しまぶくろ　みおん"]
[null,null,"松田　ひより","まつだ　ひより"]
[null,null,"仲本　明香里","なかもと　あかり"]
[null,null,"糸洲　心結","いとす　みゆ"]
[null,null,"宮城　志菜","みやぎ　しいな"]
[null,null,"金城　朋花","きんじょう　ともか"]
[null,null,"平田　凜果","ひらた　りんか"]
[null,null,"吉田　維花","よしだ　いちか"]
[null,null,"中村　華","なかむら　はな"]
[null,null,"上原　杏","うえはら　あん"]
[null,null,"大城　愛珠","おおしろ　かなみ"]
[null,null,"下地　心陽","しもじ　みはる"]
[null,null,"金城　羽紀","きんじょう　はすみ"]
[null,null,"金城　もあ","きんじょう　もあ"]
[null,null,"長崎　音色","ながさき　ねいろ"]
[null,null,"八木　美人","やぎ　みいに"]
[null,null,"山根　椛子","やまね　かこ"]
[null,null,"金城　咲彩","きんじょう　さあや"]
[null,null,"宮里　エリサ","みやざと　えりさ"]
[null,null,"佐久間　美里","さくま　みり"]
[null,null,"奥間　柚果","おくま　ゆずか"]
[null,null,"与那原　瑠唯","よなはら　るい"]
[null,null,"喜納　雅","きな　みやび"]
[null,null,"宮林　和","みやばやし　にこ"]
[null,null,"神谷　姫歌","かみや　ひめか"]
[null,null,"山城　くらら","やましろ　くらら"]
[null,null,"平良　くるみ","たいら　くるみ"]
[null,null,"道添　由萌","みちぞえ　ゆめ"]
[null,null,"笠井　あや","かさい　あや"]
[null,null,"田嶋　美悠","たじま　みゆう"]
[null,null,"尾上　華乃音","おのうえ　かのん"]
[null,null,"辻　美空","つじ　みそら"]
[null,null,"綱崎　眞","つなさき　まお"]
[null,null,"岩永　陽茉里","いわなが　ひまり"]
[null,null,"崎原　なつき","さきはら　なつき"]
[null,null,"松尾　歩奈","まつお　あゆな"]
[null,null,"原口　結衣","はらぐち　ゆい"]
[null,null,"中村　彩蘭","なかむら　さいら"]
[null,null,"吉村　心愛","よしむら　ここな"]
[null,null,"溝田　悠乃","みぞた　ゆうの"]
[null,null,"楠原　希望","くすはら　のぞみ"]
[null,null,"山下　鈴蘭","やました　りりか"]
[null,null,"本田　紗菜","ほんだ　さな"]
[null,null,"山中　美和","やまなか　みわ"]
[null,null,"深見　紗妃","ふかみ　さき"]
[null,null,"出田　彩紗","いでた　あやさ"]
[null,null,"中村　うた","なかむら　うた"]
[null,null,"青﨑　きらら","あおさき　きらら"]
[null,null,"山本　星奈","やまもと　せな"]
[null,null,"中村　美桜","なかむら　みおり"]
[null,null,"阿部　祐奈","あべ　ゆうな"]
[null,null,"椎八重　華凛","しいばえ　かりん"]
[null,null,"武田　あまね","たけだ　あまね"]
[null,null,"安田　桃華","やすだ　ももか"]
[null,null,"柿元　花音","かきもと　かのん"]
[null,null,"中江　美姫","なかえ　みき"]
[null,null,"盛田　実夢","もりた　みむ"]
[null,null,"盛　すず","もり　すず"]
[null,null,"瀬戸口　くらら","せとぐち　くらら"]
[null,null,"瀬戸口　きらら","せとぐち　きらら"]
[null,null,"山下　結楓","やました　ゆいか"]
[null,null,"金城　凛","きんじょう　りん"]
[null,null,"福島　媛香","ふくしま　ひめか"]
[null,null,"盛田　明咲","もりた　めいさ"]
[null,null,"岡留　玲心","おかどめ　れみ"]
[null,null,"阿部　倫子","あべ　りんこ"]
[null,null,"沢津橋　里衣","さわつばし　りえ"]
[null,null,"増田　文那","ますだ　あやな"]
[null,null,"草原　幸芽","くさはら　こうめ"]
[null,null,"福田　和心","ふくだ　わこ"]
[null,null,"椛山　美月","かばやま　みつき"]
[null,null,"岡留　沙來","おかどめ　さら"]
[null,null,"竹ノ上　心優","たけのうえ　ここあ"]
[null,null,"前山　聖空","まえやま　せいら"]
[null,null,"有迫　花菜","ありさこ　はな"]
[null,null,"肥後　ことね","ひご　ことね"]
[null,null,"東中川　莉彩","ひがしなかがわ　りさ"]
[null,null,"渡　心晴","わたり　こはる"]
[null,null,"田中　空","たなか　くう"]
[null,null,"浦田　ゆりの","うらた　ゆりの"]
[null,null,"田浦　陽愛","たのうら　ひな"]
[null,null,"後藤　彩巴","ごとう　さわ"]
[null,null,"飯村　吏琥愛","いいむら　りこあ"]
[null,null,"吉坂　瑠結","よしざか　るい"]
[null,null,"飯村　吏琥愛","いいむら　りこあ"]
[null,null,"北里　瑠希","きたざと　るの"]
[null,null,"馬本　陽向","まもと　ひなた"]
[null,null,"坂田　好","さかた　このみ"]
[null,null,"野添　美空","のぞえ　みそら"]
[null,null,"田㞍　結羽","たじり　ゆうわ"]
[null,null,"福田　梨瑚","ふくだ　りこ"]
[null,null,"濵名　栞希","はまな　かのん"]
[null,null,"宮本　紗希","みやもと　さき"]
[null,null,"鶴田　さや","つるた　さや"]
[null,null,"本田　雅","ほんだ　みやび"]
[null,null,"荒川　叶音","あらかわ　かのん"]
[null,null,"隈部　莉彩","くまべ　りさ"]
[null,null,"松村　凜加","まつむら　りんか"]
[null,null,"赤城　玲菜","あかぎ　れな"]
[null,null,"中川　心優","なかがわ　みゆ"]
[null,null,"佐藤　陽菜美","さとう　ひなみ"]
[null,null,"中川　紗良","なかがわ　さら"]
[null,null,"竹口真叶","たけぐち　まかな"]
[null,null,"湯澤　実穂乃","ゆざわ　みほの"]
[null,null,"福田　唯加","ふくだ　ゆいか"]
[null,null,"穴見　優衣","あなみ　ゆい"]
[null,null,"穴見　優衣","あなみ　ゆい"]
[null,null,"福田　唯加","ふくだ　ゆいか"]
[null,null,"橋本　恵奈","はしもと　えな"]
[null,null,"江嶋 彩乃","えじま あやの"]
[null,null,"佐藤　未菜美","さとう　みなみ"]
[null,null,"上田莉央奈","うえだ　りおな"]
[null,null,"岩﨑　律","いわさき　りつ"]
[null,null,"上田莉央奈","うえだ　りおな"]
[null,null,"佐藤　未菜美","さとう　みなみ"]
[null,null,"米良　夏海","めら　なつみ"]
[null,null,"笠井　くるみ","かさい　くるみ"]
[null,null,"中村　紅葉","なかむら　もみじ"]
[null,null,"柴田　莉奈","しばた　りな"]
[null,null,"荒木　里央奈","あらき　りおな"]
[null,null,"山中　紗夜","やまなか　さや"]
[null,null,"藤本　衣織","ふじもと　いおり"]
[null,null,"矢野　心","やの　ここ"]
[null,null,"古賀　理咲","こが　りさ"]
[null,null,"荒木　里央奈","あらき　りおな"]
[null,null,"大杉　環菜","おおすぎ　かんな"]
[null,null,"市來　優楽","いちき　ゆうら"]
[null,null,"松ケ野　幸","まつがの　こう"]
[null,null,"政岡　李旺","まさおか　りお"]
[null,null,"大杉　若菜","おおずき　わかな"]
[null,null,"荒木　理愛","あらき　りあ"]
[null,null,"宮野原　桜人","みやのはら　さと"]
[null,null,"山岡　笑琉","やまおか　にこる"]
[null,null,"吉川　優心","よしおか　ゆうしん"]
[null,null,"海老原　心々菜","えびはら　ここな"]
[null,null,"金丸　稜季","かねまる　いつき"]
[null,null,"奥浦　妃南","おくうら　ひな"]
[null,null,"西谷　夏歩","にしたに　かほ"]
[null,null,"井上　愛望","いのうえ　まなみ"]
[null,null,"杉田　真彩","すぎた　まあや"]
[null,null,"藤元　あいみ","ふじもと　あいみ"]
[null,null,"渡邊　愛夢実","わたなべ　あゆみ"]
[null,null,"中西　杏心","なかにし　あいこ"]
[null,null,"浜田　真名","はまだ　まな"]
[null,null,"松浦　紅莉","まつうら　あかり"]
[null,null,"今村　佳里奈","いまむら　かりな"]
[null,null,"森田　聖彩","もりた　みさ"]
[null,null,"川野　莉瑚","かわの　りこ"]
[null,null,"荒木　琉愛","あらき　るあ"]
[null,null,"山本　雛","やまもと　ひな"]
[null,null,"本田　真友俐","ほんだ　まゆり"]
[null,null,"鳥取部有加","ととりべ　ゆか"]
[null,null,"黒木　亜衣奈","くろき　あいな　"]
[null,null,"黒木　悠楽","くろき　ゆら"]
[null,null,"吉田　愛","よしだ　あい"]
[null,null,"見川　翼","みかわ　つばさ"]
[null,null,"日髙　巴","ひだか　ともえ"]
[null,null,"松田　梨花","まつだ　りんか"]
[null,null,"和田　星愛","わだ　せな"]
[null,null,"梶原　しずく","かじはら　しずく"]
[null,null,"瀬戸口　眞綾","せとぐち　まや"]
[null,null,"鈴木　日奈子","すずき　みなこ"]
[null,null,"本田　明日俐","ほんだ　あかり"]
[null,null,"牧野　瑞葵","まきの　みずき"]
[null,null,"小松　香里奈","こまつ　かりな"]
[null,null,"松川　恵莉華","まつかわ　えりか"]
[null,null,"岩切　紅","いわきり　くれない"]
[null,null,"河野　愛子","かわの　あいこ"]
[null,null,"松岡　知優","まつおか　ちひろ"]
[null,null,"藤原　弥生","ふじわら　やよい"]
[null,null,"川路　仁幸","かわじ　にこ"]
[null,null,"南沢　乃愛","みなみざわ　のあ"]
[null,null,"山之口　聖彩","やまのくち　まりあ"]
[null,null,"亀川　唯華","かめがわ　ゆいか"]
[null,null,"大場　心結","おおば　ここみ"]
[null,null,"小柳　海結","こやなぎ　みゆ"]
[null,null,"藤原　透菜","ふじわら　ゆきな"]
[null,null,"南里　心月","なんり　みづき"]
[null,null,"池田　三咲","いけだ　みさき"]
[null,null,"網田　沙弥伽","あみた　さやか"]
[null,null,"柿森　麗奈","かきもり　れな"]
[null,null,"相原　優夢","あいはら　ゆめ"]
[null,null,"園田　萌華","そのだ　もえか"]
[null,null,"梅崎　栞","うめざき　しおり"]
[null,null,"久保　愛珠","くぼ　あんじゅ"]
[null,null,"千北　紗矢","ちきた　さや"]
[null,null,"越智　真愛","おち　まあや"]
[null,null,"月成　唯華","つきなり　ゆいか"]
[null,null,"北野　莉椛","きたの　りか"]
[null,null,"長尾　柚","ながお　ゆず"]
[null,null,"有吉　珠音","ありよし　みおと"]
[null,null,"田口　陽菜","たぐち　ひな"]
[null,null,"弓指　弥子","ゆみさし　みこ"]
[null,null,"毛利　美胡","もうり　みこ"]
[null,null,"有吉　陽音","ありよし　ひなの"]
[null,null,"甲斐　美月","かい　みづき"]
[null,null,"佐々木　七海","ささき　ななみ"]
[null,null,"中園　紬寧","なかぞの　ゆいね"]
[null,null,"吉田　結奈","よしだ　ゆな"]
[null,null,"田中　紬稀","たなか　つむぎ"]
[null,null,"柴田　樹","しばた　いつき"]
[null,null,"木下　鈴","きのした　すず"]
[null,null,"兒嶋　栞里","こじま　しおり"]
[null,null,"立野　天花","たての　てんか"]
[null,null,"正岡　沙樹","まさおか　さき"]
[null,null,"二木　さくら","ふたつぎ　さくら"]
[null,null,"俵　一瑠","たわら　いちる"]
[null,null,"中園　真凜","なかぞの　まりん"]
[null,null,"井手　蕾","いで　つぼみ"]
[null,null,"尾崎　瑠椛","おざき　るか"]
[null,null,"門畑　杏","かどはた　あん"]
[null,null,"宮本　もあな","みやもと　もあな"]
[null,null,"尾崎　喬椛","おざき　もか"]
[null,null,"古賀　莞那","こが　かんな"]
[null,null,"杉田　愛茉","すぎた　えま"]
[null,null,"永友　琴美","ながとも　ことみ"]
[null,null,"渡邉　いゆ","わたなべ　いゆ"]
[null,null,"松本　夢果","まつもと　ゆめか"]
[null,null,"栗原　琉衣","くりはら　るい"]
[null,null,"﨑田　慧","さきた　けい"]
[null,null,"髙田　未来","たかた　みく"]
[null,null,"坂井　七彩","さかい　ななせ"]
[null,null,"山田　結彩","やまだ　ゆあ"]
[null,null,"濵﨑　安那","はまさき　あんな"]
[null,null,"小島　千佳","こじま　ちか"]
[null,null,"水町　衣真梨","みずまち　いまり"]
[null,null,"山口　結愛","やまぐち　ゆめ"]
[null,null,"石田　詩乃","いしだ　しの"]
[null,null,"浦部　椿","うらべ　つばき"]
[null,null,"松永　瑠乃","まつなが　るの"]
[null,null,"吉田　優月","よしだ　ゆづき"]
[null,null,"江島　咲稀","えじま　さき"]
[null,null,"田中　杷子","たなか　わこ"]
[null,null,"下田　結想","しもだ　いお"]
[null,null,"坂元　愛奈","さかもと　えな"]
[null,null,"後藤　真歩","ごとう　まほ"]
[null,null,"久野　結月","くの　ゆづき"]
[null,null,"坂元　咲奈","さかもと　さな"]
[null,null,"白水　和心","しろみず　わみ"]
[null,null,"大石　瑚心","おおいし　こころ"]
[null,null,"宮原　はな","みやはら　はな"]
[null,null,"奥村　真央","おくむら　まお"]
[null,null,"吉家　皐","よしいえ　さつき"]
[null,null,"宮原　那奈","みやはら　なな"]
[null,null,"野口　侑愛","のぐち　ゆあ"]
[null,null,"南里　雅","なんり　みやび"]
[null,null,"阿部　綸花","あべ　りんか"]
[null,null,"小島　彩瑛","こじま　さえ"]
[null,null,"森﨑　陽菜","もりさき　はるな"]
[null,null,"久野　凛","ひさの　りん"]
[null,null,"小形　愛実","おがた　あいみ"]
[null,null,"佐藤　沙紀","さとう　さき"]
[null,null,"江下　宙来","えした　そら"]